From mboxrd@z Thu Jan 1 00:00:00 1970 Return-Path: Received: from mails.dpdk.org (mails.dpdk.org [217.70.189.124]) by inbox.dpdk.org (Postfix) with ESMTP id 9EBC148B37 for ; Tue, 18 Nov 2025 03:26:57 +0100 (CET) Received: from mails.dpdk.org (localhost [127.0.0.1]) by mails.dpdk.org (Postfix) with ESMTP id 806E04026A; Tue, 18 Nov 2025 03:26:57 +0100 (CET) Received: from mail-yw1-f227.google.com (mail-yw1-f227.google.com [209.85.128.227]) by mails.dpdk.org (Postfix) with ESMTP id C54CB4026A for ; Tue, 18 Nov 2025 03:26:55 +0100 (CET) Received: by mail-yw1-f227.google.com with SMTP id 00721157ae682-787f28f89faso47788757b3.1 for ; Mon, 17 Nov 2025 18:26:55 -0800 (PST) DKIM-Signature: v=1; a=rsa-sha256; c=relaxed/relaxed; d=iol.unh.edu; s=unh-iol; t=1763432815; x=1764037615; darn=dpdk.org; h=cc:to:from:subject:message-id:date:from:to:cc:subject:date :message-id:reply-to; bh=QYxX1VoSVj3Y5ksIGfPUAAIhioIuUgSygi7FHbeZ3vg=; b=Nxq27MQ4kkjNRxN8fJs2E+MvKeyi9Yr/SsU95tZlZ/RrorDcidAgDPngJHSEIv43PG UdQ1MzYVoqCEsuaZNEaBT3wtOQV4j+XZ9hUTDAGYsdMh3SOX4KQwGdSPnos5qT08pIta KmQ/X2g/kGZJoHV8CIpSL4DVaEI3LDiJ3aE/8= X-Google-DKIM-Signature: v=1; a=rsa-sha256; c=relaxed/relaxed; d=1e100.net; s=20230601; t=1763432815; x=1764037615; h=cc:to:from:subject:message-id:date:x-gm-gg:x-gm-message-state:from :to:cc:subject:date:message-id:reply-to; bh=QYxX1VoSVj3Y5ksIGfPUAAIhioIuUgSygi7FHbeZ3vg=; b=tukf487bXFbWjKzM/IovZG74dGP/UKR9HMyhpew5cF/aS9zyLmr8VXTAFTbXEjacys sBBjgc80+/Oigp9COI8vpNwnvwdd1MSFt2YU2lIJx90Cqk/iD89v3Z/LynO5FSlg6AcT RN3BrEOqkr56da0uI5fjf37830CrTAjfdHfFQTKajHVO+P4Ut9G1EX8Rf9yI/Ilrtbi7 NwH/LQzqbswbFOZ1FeV0yI1AB5CHyuyT3uR5Y3zRDCVENsZj/oTDxqQx58DLG5iAmqgs zDFQDyIfa4ajwWL7ZZI2mMxXyGA/7d4+w3x8O/myb47PcYal8euysRWglnUKDi9zGaLS xqhQ== X-Gm-Message-State: AOJu0Yzlmtyse0fRsY8ZR7SBiZ/O9wqUkHqVu9HklEnc3BBSYvDyKHXA Qu3Pd5tcNcXiMgOR7ru+TOIDh8VivCXW01zeYeec5R+wMGO/XMdk7eAK7qm7+nEme3cBbaFZFaD j+hbd9nNsfxGohlfX5gl0onnSk+VD5FIw5BUonJB7QCFYfjv1UVOg2vdg0qWa X-Gm-Gg: ASbGncssrIXsDCbjgnA/rEwHw4lihXJz2FwyP3Y/t0ZO8VJuyM3ou3UhACMFNbdscoZ XQkixqdnhpHG3RUWIOL2ErMtLrRQJzU1JwNP6VjX5W+FVyKZdr9NpKgFjSBElwLsVmr+wB2ITfY g985iGV97bVsEPbaXvxB+E5PSLtvN15MFgWU6z4IWQ7pWzZBAbrBa04yd63qVrL6wkziQC2nmmV QPf7L6Knk9K8W3CWk8GGFs52I3pUxIaZI9EeFRJi9zH59SMrvieGlTz9YDwvOhU8MVAu3J7NSi3 FXVYeSVNPMc6DeeOTyCR4Wuth4GkziC/DSOIdapBszpAGU4OE01Mzf2N6422+5upLJkoII5+yiI MTVoaXZ9q3lCdjT8o6GE= X-Google-Smtp-Source: AGHT+IEtfCbMeAIITTtGxCUKDscc5qBVkEsDShGvNsuQ1cSmV/gia0F8oVmqda/EQVcbmLZpiMRsOaqR3LIz X-Received: by 2002:a05:690c:a08c:10b0:788:247f:3648 with SMTP id 00721157ae682-78929f69092mr120791617b3.66.1763432815032; Mon, 17 Nov 2025 18:26:55 -0800 (PST) Received: from postal.iol.unh.edu (postal.iol.unh.edu. [2606:4100:3880:1234::84]) by smtp-relay.gmail.com with ESMTPS id 00721157ae682-789586c1270sm1881247b3.23.2025.11.17.18.26.54 (version=TLS1_2 cipher=ECDHE-ECDSA-AES128-GCM-SHA256 bits=128/128); Mon, 17 Nov 2025 18:26:55 -0800 (PST) X-Relaying-Domain: iol.unh.edu Date: Mon, 17 Nov 2025 18:26:55 -0800 (PST) Message-ID: <691bd96f.050a0220.e7a93.9d14SMTPIN_ADDED_MISSING@mx.google.com> Received: from [172.21.0.3] (unknown [172.18.0.240]) by postal.iol.unh.edu (Postfix) with ESMTP id AC6256051830; Mon, 17 Nov 2025 21:26:54 -0500 (EST) Subject: |SUCCESS| [GIT MASTER] 39454e245b125ae555bc5a3a058cc3c1e1280f82 From: dpdklab@iol.unh.edu To: Test Report Cc: dpdk-test-reports@iol.unh.edu Content-Type: text/plain X-BeenThere: test-report@dpdk.org X-Mailman-Version: 2.1.29 Precedence: list List-Id: automatic DPDK test reports List-Unsubscribe: , List-Archive: List-Post: List-Help: List-Subscribe: , Errors-To: test-report-bounces@dpdk.org _Testing PASS_ Branch: dpdk 39454e245b125ae555bc5a3a058cc3c1e1280f82 --> testing pass Upstream job id: Generic-DPDK-Compile-Meson#445689 Test environment and result as below: +-------------------------------+--------------------+------------------+-------------------------+-------------------+----------------------+ | Environment | dpdk_meson_compile | dpdk_compile_ovs | dpdk_llvm_clang_compile | dpdk_msvc_compile | dpdk_mingw64_compile | +===============================+====================+==================+=========================+===================+======================+ | Ubuntu 24.04 | PASS | PASS | SKIPPED | SKIPPED | SKIPPED | +-------------------------------+--------------------+------------------+-------------------------+-------------------+----------------------+ | FreeBSD 14.2 | PASS | SKIPPED | SKIPPED | SKIPPED | SKIPPED | +-------------------------------+--------------------+------------------+-------------------------+-------------------+----------------------+ | Fedora Linux 42 | PASS | PASS | SKIPPED | SKIPPED | SKIPPED | +-------------------------------+--------------------+------------------+-------------------------+-------------------+----------------------+ | Ubuntu 20.04 | PASS | SKIPPED | SKIPPED | SKIPPED | SKIPPED | +-------------------------------+--------------------+------------------+-------------------------+-------------------+----------------------+ | CentOS Stream 10 | PASS | SKIPPED | SKIPPED | SKIPPED | SKIPPED | +-------------------------------+--------------------+------------------+-------------------------+-------------------+----------------------+ | Debian GNU/Linux 12 | PASS | SKIPPED | SKIPPED | SKIPPED | SKIPPED | +-------------------------------+--------------------+------------------+-------------------------+-------------------+----------------------+ | openSUSE Leap 15.6 | PASS | SKIPPED | SKIPPED | SKIPPED | SKIPPED | +-------------------------------+--------------------+------------------+-------------------------+-------------------+----------------------+ | Ubuntu 22.04 | PASS | SKIPPED | SKIPPED | SKIPPED | SKIPPED | +-------------------------------+--------------------+------------------+-------------------------+-------------------+----------------------+ | Red Hat Enterprise Linux 8.10 | PASS | SKIPPED | SKIPPED | SKIPPED | SKIPPED | +-------------------------------+--------------------+------------------+-------------------------+-------------------+----------------------+ | Alpine Linux 3.22.0 | PASS | SKIPPED | SKIPPED | SKIPPED | SKIPPED | +-------------------------------+--------------------+------------------+-------------------------+-------------------+----------------------+ | Red Hat Enterprise Linux 9.5 | PASS | SKIPPED | SKIPPED | SKIPPED | SKIPPED | +-------------------------------+--------------------+------------------+-------------------------+-------------------+----------------------+ | CentOS Stream 9 | PASS | SKIPPED | SKIPPED | SKIPPED | SKIPPED | +-------------------------------+--------------------+------------------+-------------------------+-------------------+----------------------+ | Arch Linux 20250613.0.365270 | PASS | SKIPPED | SKIPPED | SKIPPED | SKIPPED | +-------------------------------+--------------------+------------------+-------------------------+-------------------+----------------------+ | Windows Server 2022 | SKIPPED | SKIPPED | PASS | PASS | PASS | +-------------------------------+--------------------+------------------+-------------------------+-------------------+----------------------+ Ubuntu 24.04 Kernel: 5.15 Compiler: gcc gcc (Ubuntu 13.3.0-6ubuntu2~24.04) 13.3.0 FreeBSD 14.2 Kernel: 14.2-RELEASE Compiler: clang 18.1.6 Fedora Linux 42 Kernel: 5.15 Compiler: clang gcc (GCC) 15.2.1 20250808 (Red Hat 15.2.1-1) Ubuntu 20.04 Kernel: 4.19 Compiler: gcc gcc (Ubuntu 9.4.0-1ubuntu1~20.04.2) 9.4.0 CentOS Stream 10 Kernel: 5.15 Compiler: gcc gcc (GCC) 14.2.1 20250110 (Red Hat 14.2.1-8) Debian GNU/Linux 12 Kernel: 5.15 Compiler: gcc gcc (Debian 12.2.0-14+deb12u1) 12.2.0 openSUSE Leap 15.6 Kernel: 5.15 Compiler: gcc gcc (SUSE Linux) 7.5.0 Ubuntu 22.04 Kernel: 5.15 Compiler: gcc gcc (Ubuntu 11.4.0-1ubuntu1~22.04) 11.4.0 Red Hat Enterprise Linux 8.10 Kernel: 5.15 Compiler: gcc gcc (GCC) 8.5.0 20210514 (Red Hat 8.5.0-22) Alpine Linux 3.22.0 Kernel: 5.15 Compiler: gcc gcc (Alpine 14.2.0) 14.2.0 Red Hat Enterprise Linux 9.5 Kernel: 5.15 Compiler: gcc gcc (GCC) 11.5.0 20240719 (Red Hat 11.5.0-2) CentOS Stream 9 Kernel: 5.15 Compiler: gcc gcc (GCC) 11.5.0 20240719 (Red Hat 11.5.0-11) Arch Linux 20250613.0.365270 Kernel: 5.15 Compiler: gcc gcc (GCC) 15.1.1 20250425 Windows Server 2022 Kernel: 10.0.20348.2031 Compiler: clang 15.0.7, gcc 14.1.0 (MinGW), and MSVC VS 19.39.33521 To view detailed results, visit: https://lab.dpdk.org/results/dashboard/tarballs/35641/ UNH-IOL DPDK Community Lab To manage your email subscriptions, visit: https://lab.dpdk.org/results/dashboard/preferences/subscriptions/