From mboxrd@z Thu Jan 1 00:00:00 1970 Return-Path: Received: from mails.dpdk.org (mails.dpdk.org [217.70.189.124]) by inbox.dpdk.org (Postfix) with ESMTP id F2AE248B38 for ; Tue, 18 Nov 2025 05:24:07 +0100 (CET) Received: from mails.dpdk.org (localhost [127.0.0.1]) by mails.dpdk.org (Postfix) with ESMTP id CC7944026A; Tue, 18 Nov 2025 05:24:07 +0100 (CET) Received: from mail-qv1-f97.google.com (mail-qv1-f97.google.com [209.85.219.97]) by mails.dpdk.org (Postfix) with ESMTP id 8F1A84026A for ; Tue, 18 Nov 2025 05:24:06 +0100 (CET) Received: by mail-qv1-f97.google.com with SMTP id 6a1803df08f44-88051279e87so54747166d6.3 for ; Mon, 17 Nov 2025 20:24:06 -0800 (PST) DKIM-Signature: v=1; a=rsa-sha256; c=relaxed/relaxed; d=iol.unh.edu; s=unh-iol; t=1763439846; x=1764044646; darn=dpdk.org; h=references:in-reply-to:cc:to:from:subject:message-id:date:from:to :cc:subject:date:message-id:reply-to; bh=c7GuKvgXVROo19aQ9Jvxcn2ujonn8VmotP1k452idPQ=; b=eyMEcu1TuxOk98zw1vzUftfiWI1pRqSBBNYtKjDBBVzpO0ZXta1NwcrN4EmSDKNxlY rpUGzd6r9ev3r8kh0MOfrgA5StFnwRQ2UkVHRUrvEfiRuBqYN0y0r7aCCVpi9I9LPaLR WqrSV5PioHEpKJuUAzvCFylerI1cm6ctJShCM= X-Google-DKIM-Signature: v=1; a=rsa-sha256; c=relaxed/relaxed; d=1e100.net; s=20230601; t=1763439846; x=1764044646; h=references:in-reply-to:cc:to:from:subject:message-id:date:x-gm-gg :x-gm-message-state:from:to:cc:subject:date:message-id:reply-to; bh=c7GuKvgXVROo19aQ9Jvxcn2ujonn8VmotP1k452idPQ=; b=RjHyvPZAZYHJniTf49Fd+u8h14eU8zSAzyRVvVD+b1B0YLNTeEF3UZpNDmjobqtR9G 10T292vCSiFc7TTdF1g5RE2VI1kZ4emJWlngsigOgr9VLKwtAnNqXXabVmMeFrIYDWhG RUCyn/6KROvSJLT5XTbm+rV0+icwACRPc4sc0ZtsmOpT0TeLe05xNZVxWme7FS+Sp+tj oZPkhGAzek0kBnxgzntJNcjXm1v3HCRpXhbaAm07+CtTN0aWJoBjcBI8/MJx1zFRd9XO CNPDpYJ50FdsrGl9cxEjB65r+R77f+0MDfhtUcwNtmktGhWmBvPAGPvjUKxJPKxzMrNE VERA== X-Gm-Message-State: AOJu0YwcD/53DPHf0kKJc3oWww0BmIqr3VgaBwXkWb8Sy+A+3VUMPbuE jimQBlhWps9JTeVFKmn7ERj580ewpTXX+jFdZ3UafCCceDR7NKL1OyPLz7sIXxspY8BfAK8Ld1A QC5wWrsyjuiTYBLkx0mKf5g7KAuAdRFTPvj1gx2W8Mclh1iNC5xgfNsI1omKT X-Gm-Gg: ASbGncu2nVcku4ohePcwdNic1T8lEoJ7ktg67gk8oDcfsJ4A8oOPqL9uNmCd/QlcFzc BO+E3STmp5JhIndNA9Y9G0eRwoh1ktgxTiX092gTndQHafeMxfIvv8XcNVcylu324cGycTMdO89 bk613ki6+vsZgnJonW6D+rIwRgHy+enVX+tEKklSXNyxaSt1m1Pg5QP7rrShPFfrocYe6tLDxVk 8iQB1A5i6kxlGndewbXVfvLyTD76tIb86K97pRTMVdOs2bkZoag8utFiz6tRZAGjagzwEujXqqB jKyN0OJlBQQTIENABjHGMUG4TCOpUXcqD/l73bLsmue6WD1SMpqZSdADmIAEaS2QwsfvP+NThri MQX6MxG7mjygoYgoss2s= X-Google-Smtp-Source: AGHT+IGSPhCjS1oSNYgx2Ja8iF2K6opVZjKc2vcfUrSQEKLQGm+oBqZztgb23IBrmYFnXeWLNDhmucc5qD1G X-Received: by 2002:a05:6214:2244:b0:787:8e43:5761 with SMTP id 6a1803df08f44-8829270ca53mr227978746d6.56.1763439845799; Mon, 17 Nov 2025 20:24:05 -0800 (PST) Received: from postal.iol.unh.edu (postal.iol.unh.edu. [2606:4100:3880:1234::84]) by smtp-relay.gmail.com with ESMTPS id 6a1803df08f44-88286342d97sm18359916d6.13.2025.11.17.20.24.05 (version=TLS1_2 cipher=ECDHE-ECDSA-AES128-GCM-SHA256 bits=128/128); Mon, 17 Nov 2025 20:24:05 -0800 (PST) X-Relaying-Domain: iol.unh.edu Date: Mon, 17 Nov 2025 20:24:05 -0800 (PST) Message-ID: <691bf4e5.d40a0220.1fd167.db45SMTPIN_ADDED_MISSING@mx.google.com> Received: from [172.21.0.4] (unknown [172.18.0.240]) by postal.iol.unh.edu (Postfix) with ESMTP id 6B45260003F4; Mon, 17 Nov 2025 23:24:05 -0500 (EST) Subject: |SUCCESS| pw158860 [PATCH] crypto/openssl: support AES-XTS operation From: dpdklab@iol.unh.edu To: Test Report Cc: dpdk-test-reports@iol.unh.edu, Akhil Goyal In-Reply-To: <20251117124414.1839-1-felix.zhang@jaguarmicro.com> References: <20251117124414.1839-1-felix.zhang@jaguarmicro.com> Content-Type: text/plain X-BeenThere: test-report@dpdk.org X-Mailman-Version: 2.1.29 Precedence: list List-Id: automatic DPDK test reports List-Unsubscribe: , List-Archive: List-Post: List-Help: List-Subscribe: , Errors-To: test-report-bounces@dpdk.org Test-Label: iol-unit-arm64-testing Test-Status: SUCCESS http://dpdk.org/patch/158860 _Testing PASS_ Submitter: Shaokai Zhang Date: Monday, November 17 2025 12:44:14 DPDK git baseline: Repo:dpdk-next-crypto Branch: master CommitID:754ac59dcaf20949b55c58ab00ca73ea19dcc1cb 158860 --> testing pass Upstream job id: Generic-Unit-Test-DPDK#393999 Test environment and result as below: +------------------------------+--------------+------------------------------+----------------+---------------------------+ | Environment | lpm_autotest | cryptodev_sw_snow3g_autotest | dpdk_unit_test | cryptodev_sw_zuc_autotest | +==============================+==============+==============================+================+===========================+ | Ubuntu 20.04 | PASS | SKIPPED | PASS | SKIPPED | +------------------------------+--------------+------------------------------+----------------+---------------------------+ | Debian 12 (arm) | SKIPPED | PASS | SKIPPED | PASS | +------------------------------+--------------+------------------------------+----------------+---------------------------+ | CentOS Stream 9 | SKIPPED | SKIPPED | PASS | SKIPPED | +------------------------------+--------------+------------------------------+----------------+---------------------------+ | CentOS Stream 10 | SKIPPED | SKIPPED | PASS | SKIPPED | +------------------------------+--------------+------------------------------+----------------+---------------------------+ | Ubuntu 22.04 | SKIPPED | SKIPPED | PASS | SKIPPED | +------------------------------+--------------+------------------------------+----------------+---------------------------+ | Fedora Linux 41 | SKIPPED | SKIPPED | PASS | SKIPPED | +------------------------------+--------------+------------------------------+----------------+---------------------------+ | Debian GNU/Linux 12 | SKIPPED | SKIPPED | PASS | SKIPPED | +------------------------------+--------------+------------------------------+----------------+---------------------------+ | Fedora Linux 40 | SKIPPED | SKIPPED | PASS | SKIPPED | +------------------------------+--------------+------------------------------+----------------+---------------------------+ | Red Hat Enterprise Linux 9.5 | SKIPPED | SKIPPED | PASS | SKIPPED | +------------------------------+--------------+------------------------------+----------------+---------------------------+ | Fedora Linux 42 | SKIPPED | SKIPPED | PASS | SKIPPED | +------------------------------+--------------+------------------------------+----------------+---------------------------+ | Ubuntu 24.04 | SKIPPED | SKIPPED | PASS | SKIPPED | +------------------------------+--------------+------------------------------+----------------+---------------------------+ Ubuntu 20.04 Kernel: 5.4 Compiler: gcc gcc (Ubuntu 9.4.0-1ubuntu1~20.04.2) 9.4.0 Debian 12 (arm) Kernel: Depends on container host Compiler: gcc (Debian 12.2.0-14) 12.2.0 CentOS Stream 9 Kernel: 5.4 Compiler: gcc gcc (GCC) 11.5.0 20240719 (Red Hat 11.5.0-11) CentOS Stream 10 Kernel: 5.4 Compiler: gcc gcc (GCC) 14.2.1 20250110 (Red Hat 14.2.1-8) Ubuntu 22.04 Kernel: 5.15 Compiler: gcc gcc (Ubuntu 11.4.0-1ubuntu1~22.04.2) 11.4.0 Fedora Linux 41 Kernel: 5.4 Compiler: gcc gcc (GCC) 14.3.1 20250523 (Red Hat 14.3.1-1) Debian GNU/Linux 12 Kernel: 5.4 Compiler: gcc gcc (Debian 12.2.0-14+deb12u1) 12.2.0 Fedora Linux 40 Kernel: 5.4 Compiler: gcc gcc (GCC) 14.2.1 20240912 (Red Hat 14.2.1-3) Red Hat Enterprise Linux 9.5 Kernel: 5.4 Compiler: gcc gcc (GCC) 11.5.0 20240719 (Red Hat 11.5.0-2) Fedora Linux 42 Kernel: 5.4 Compiler: gcc gcc (GCC) 15.2.1 20250808 (Red Hat 15.2.1-1) Ubuntu 24.04 Kernel: 5.4 Compiler: gcc gcc (Ubuntu 13.3.0-6ubuntu2~24.04) 13.3.0 To view detailed results, visit: https://lab.dpdk.org/results/dashboard/patchsets/34628/ UNH-IOL DPDK Community Lab To manage your email subscriptions, visit: https://lab.dpdk.org/results/dashboard/preferences/subscriptions/