From mboxrd@z Thu Jan 1 00:00:00 1970 Return-Path: Received: from mails.dpdk.org (mails.dpdk.org [217.70.189.124]) by inbox.dpdk.org (Postfix) with ESMTP id 67E6548B38 for ; Tue, 18 Nov 2025 05:29:20 +0100 (CET) Received: from mails.dpdk.org (localhost [127.0.0.1]) by mails.dpdk.org (Postfix) with ESMTP id 579BF4026A; Tue, 18 Nov 2025 05:29:20 +0100 (CET) Received: from mail-pl1-f228.google.com (mail-pl1-f228.google.com [209.85.214.228]) by mails.dpdk.org (Postfix) with ESMTP id 5F7744026A for ; Tue, 18 Nov 2025 05:29:18 +0100 (CET) Received: by mail-pl1-f228.google.com with SMTP id d9443c01a7336-299d40b0845so35589365ad.3 for ; Mon, 17 Nov 2025 20:29:18 -0800 (PST) DKIM-Signature: v=1; a=rsa-sha256; c=relaxed/relaxed; d=iol.unh.edu; s=unh-iol; t=1763440157; x=1764044957; darn=dpdk.org; h=cc:to:from:subject:message-id:date:from:to:cc:subject:date :message-id:reply-to; bh=8Z+vJGhmZunePf2NZxJastQlVAy87C4OsahvOt9YUtY=; b=S3/5uC/mE1PFzKDUKdyhO7bnT76eLFimupL7OtHxIxQ5KUjiA+Ko5fNU6t+ciqu9fU 0pcjNjOPQVdXU+b2Mo4WMq29dWoUcpjj7AYbpIBSOdf0e5ivspyGEXkB11iNdCgygssz al2uFpn7tcRzVM4KeBSV6X0aUDu4sLRblG6Eg= X-Google-DKIM-Signature: v=1; a=rsa-sha256; c=relaxed/relaxed; d=1e100.net; s=20230601; t=1763440157; x=1764044957; h=cc:to:from:subject:message-id:date:x-gm-gg:x-gm-message-state:from :to:cc:subject:date:message-id:reply-to; bh=8Z+vJGhmZunePf2NZxJastQlVAy87C4OsahvOt9YUtY=; b=NzBg1YdSn9Xp6YY2uzv8kUxy9d0fsc7K3HfwVjv0Ton7qTEIqDjXDYqwqhagMReJsg N7P2AhIuuZqfQYwOv8tz7LFvfdsjAxSLAHskiLyR831Tu1W2AGUXk3Qq0vWsAj8pVTzU YUBim7p3/uP/kQs1ooUNLA1dt3jOfbWmgcXDYo5hHMLFFQX+QiRQy9ABojTrK1gyopWG 6kXhywm2h0zrHK110FiqmuxcR8cJWd7pIts7wJnzk/9SrYSlgST/Thy+kEEErvIMYZWs SFwdjtjMsozEmI78T6M70kUtK/2qpgngnrfn0q/GicHulFnvMY8EjdkfAH/EeYtAfC7O H3aw== X-Gm-Message-State: AOJu0YwxZSoul8ryeD59oUaagmAA6ijwwoO56ZAvYTiY4oQpUoex1CDw lD2fHsVIvdB84K0H3r/yKosQ83455G0K1QJZ1U3NeCBqDYq8gVkNYtgahE+u7I73Q7ePIyHTN+7 Q9g0HhW7GdGELrvuPbHsdCwWlhuXWY4aLmxcS6MAopOkkGUgqr2B7DaKp3hlI X-Gm-Gg: ASbGncvExtueHFSkR/oOq9r2RIqvJyYi/8sNzloLJIHC5IfWy2SZp/jHmt3bCXyCp8s LT9m2X1VaOiHi666Mzjx3HlZi8rDK+PKkVtaoLPlEIefLd1FgqcFOrgClZUeXM40Qijnvo8wKTr KEdv9T3WdpAnl+NZ0plnN+X7bOprGJruhI9Wc9HNvJy2SdxMdY5hLBbA/Zn1c4GJMZao0f1dLPU TYtSd3DFADoz9jd2vRWDAle3j9C4Y7pQ4xS//ogzPNTEqYuOPzae25EEQSHHL64uGwiLIpky9NG xOKc+mXaUW4EE0MEMX9b85tM/i1qISAnn+wuvLch3q4PfUjx1yvp8tmUvh8lRhl2d70yT8caQsw TeeBdo7giHGGGegJL3XI= X-Google-Smtp-Source: AGHT+IFBDRFcxBFgeDe/LCgCpgl5VwZzZGSt1ePsM6UpNAXzDKYTUINfpYu7NctbWVXQgtMbUcqhU0NXa4h7 X-Received: by 2002:a17:902:ef51:b0:297:d6c0:90b3 with SMTP id d9443c01a7336-2986a6d2440mr168946745ad.23.1763440157467; Mon, 17 Nov 2025 20:29:17 -0800 (PST) Received: from postal.iol.unh.edu (postal.iol.unh.edu. [2606:4100:3880:1234::84]) by smtp-relay.gmail.com with ESMTPS id d9443c01a7336-2985c2c3d86sm16704545ad.57.2025.11.17.20.29.17 (version=TLS1_2 cipher=ECDHE-ECDSA-AES128-GCM-SHA256 bits=128/128); Mon, 17 Nov 2025 20:29:17 -0800 (PST) X-Relaying-Domain: iol.unh.edu Date: Mon, 17 Nov 2025 20:29:17 -0800 (PST) Message-ID: <691bf61d.170a0220.301bc3.400cSMTPIN_ADDED_MISSING@mx.google.com> Received: from [172.21.0.2] (unknown [172.18.0.240]) by postal.iol.unh.edu (Postfix) with ESMTP id 926A76051830; Mon, 17 Nov 2025 23:29:16 -0500 (EST) Subject: |SUCCESS| [GIT MASTER] 39454e245b125ae555bc5a3a058cc3c1e1280f82 From: dpdklab@iol.unh.edu To: Test Report Cc: dpdk-test-reports@iol.unh.edu Content-Type: text/plain X-BeenThere: test-report@dpdk.org X-Mailman-Version: 2.1.29 Precedence: list List-Id: automatic DPDK test reports List-Unsubscribe: , List-Archive: List-Post: List-Help: List-Subscribe: , Errors-To: test-report-bounces@dpdk.org _Testing PASS_ Branch: dpdk 39454e245b125ae555bc5a3a058cc3c1e1280f82 --> testing pass Upstream job id: Generic-DPDK-Compile-Meson#445696 Test environment and result as below: +------------------------------+--------------------+ | Environment | dpdk_meson_compile | +==============================+====================+ | Ubuntu 20.04 | PASS | +------------------------------+--------------------+ | Debian GNU/Linux 12 | PASS | +------------------------------+--------------------+ | Red Hat Enterprise Linux 9.5 | PASS | +------------------------------+--------------------+ | Fedora Linux 42 | PASS | +------------------------------+--------------------+ | Ubuntu 22.04 | PASS | +------------------------------+--------------------+ | CentOS Stream 10 | PASS | +------------------------------+--------------------+ | CentOS Stream 9 | PASS | +------------------------------+--------------------+ | Ubuntu 24.04 | PASS | +------------------------------+--------------------+ Ubuntu 20.04 Kernel: 5.15 Compiler: clang gcc (Ubuntu 9.4.0-1ubuntu1~20.04.2) 9.4.0 Debian GNU/Linux 12 Kernel: 5.4 Compiler: gcc gcc (Debian 12.2.0-14+deb12u1) 12.2.0 Red Hat Enterprise Linux 9.5 Kernel: 5.4 Compiler: gcc gcc (GCC) 11.5.0 20240719 (Red Hat 11.5.0-2) Fedora Linux 42 Kernel: 5.4 Compiler: gcc gcc (GCC) 15.2.1 20250808 (Red Hat 15.2.1-1) Ubuntu 22.04 Kernel: 5.4 Compiler: gcc gcc (Ubuntu 11.4.0-1ubuntu1~22.04) 11.4.0 CentOS Stream 10 Kernel: 5.4 Compiler: gcc gcc (GCC) 14.2.1 20250110 (Red Hat 14.2.1-8) CentOS Stream 9 Kernel: 5.4 Compiler: gcc gcc (GCC) 11.5.0 20240719 (Red Hat 11.5.0-11) Ubuntu 24.04 Kernel: 5.4 Compiler: gcc gcc (Ubuntu 13.3.0-6ubuntu2~24.04) 13.3.0 To view detailed results, visit: https://lab.dpdk.org/results/dashboard/tarballs/35641/ UNH-IOL DPDK Community Lab To manage your email subscriptions, visit: https://lab.dpdk.org/results/dashboard/preferences/subscriptions/