From mboxrd@z Thu Jan 1 00:00:00 1970 Return-Path: Received: from mails.dpdk.org (mails.dpdk.org [217.70.189.124]) by inbox.dpdk.org (Postfix) with ESMTP id 2FC0D48B3C for ; Tue, 18 Nov 2025 08:06:10 +0100 (CET) Received: from mails.dpdk.org (localhost [127.0.0.1]) by mails.dpdk.org (Postfix) with ESMTP id 1E70340150; Tue, 18 Nov 2025 08:06:10 +0100 (CET) Received: from mail-qv1-f97.google.com (mail-qv1-f97.google.com [209.85.219.97]) by mails.dpdk.org (Postfix) with ESMTP id E31DD40150 for ; Tue, 18 Nov 2025 08:06:08 +0100 (CET) Received: by mail-qv1-f97.google.com with SMTP id 6a1803df08f44-8823fa3bd95so44248736d6.1 for ; Mon, 17 Nov 2025 23:06:08 -0800 (PST) DKIM-Signature: v=1; a=rsa-sha256; c=relaxed/relaxed; d=iol.unh.edu; s=unh-iol; t=1763449568; x=1764054368; darn=dpdk.org; h=cc:to:from:subject:message-id:date:from:to:cc:subject:date :message-id:reply-to; bh=EeKKp34qQ/WmVGNUgfjq7R+H++QGMz0o0twRbZMxo+s=; b=ZKtTgV1uXRcYN0bwHVdS8DSw2ujBuuqd4IVq9M7g0c5C8ivLYK5wuD78zIYgFJOUV1 yfsEL7QBEmM8YWLob6bjwC7L979rCCBd5Jv6NOA0nTksiC2ZhFU7Bn+uodlTsHGuYJ75 JAwMA6WOP0Uh8yAmpxftAdOhWOpXVi004SAM8= X-Google-DKIM-Signature: v=1; a=rsa-sha256; c=relaxed/relaxed; d=1e100.net; s=20230601; t=1763449568; x=1764054368; h=cc:to:from:subject:message-id:date:x-gm-gg:x-gm-message-state:from :to:cc:subject:date:message-id:reply-to; bh=EeKKp34qQ/WmVGNUgfjq7R+H++QGMz0o0twRbZMxo+s=; b=EvyI2EV5bUTu4+qQp19dXKhH5qeWOOAQ80k9wAZQgte9VkcRQwajGAicEqpdVhq4gq pHEu0Q1iw8tYaTkN3MU3mJBvUzTYdQoNK0UWJLMb6I2UVl70MrYKG9lEYcEDvShuB/DQ pb6c0oVrXpHnr9WYzXj0XBjEMGtgzeB8fd/jdJGWo0niLJqKDKI6rlydZnadM8HalVcu jKMOZaqj0oRwhgb3WuaGYh+6+Hx0DqxlxNQiBmRRyxILOnwy8sy16to8RgOnNPXkehF1 k33OFrQNhImQdaLFQwC30K8bsDZEEdjddMo9H1MVuM6JEKWccm4bkCfrt9IdLtYV0Foy tvTA== X-Gm-Message-State: AOJu0YwWuJiif+iPodI+228Th9uqZkPP/8Y1GTYXr08TZNmPZzKMYQOu In9KcmYwKaZWGRIjN0e3Bq3EzTodghHOEgPv4jHWEk3Ok96ZbnhYa7DQmEIUwb+pPWTH9eBrHP6 a35c6D64m160QlxnwGwP0XcrtKkmy4u5ukTHp X-Gm-Gg: ASbGnctAj9nZCITiscE2Eh4rfoWC5SyESnrLGEGXXULu8UxZYY9RMXbNgv8GE1bnGOc 6yieA+CpeZ2XhROBCYkr0JHOv2ClW6lwBQqTaOW4iRixd2WroCxn2y/BsHIZuRZ38cyINAidcWz 3TKMIIcLKB4+e/kfGb4ko3RuMZ1e+BNOYsmByeOSWE/1LaNaizgMBf8vt5SRH2hI8wUzF/rnFYG 5WjcPbfwT2+slsa46gp3+oXDrY0ETYTKG2ixdQec7hjNL0HH5I1bhPidp6KxDrZbSuyrsbtSCJ1 bKrzNwFZPs+465+ozzSJgM0QGe9jiUQwP3bjoUFzSE1vZRHziupuX9IbeRwssleWpZDmJoY9HIi ekRmSdZgJDsx5vzgwYqaPwgd5FzCYR2xwRgXRAFhiwQ== X-Google-Smtp-Source: AGHT+IEGVh4Zxe3V/uLpCIcXKvwGMpTK6KLcE3XL2eqRG2EHZ+B0j8/8VaJU9TY7EEcgVssoID4dr5++MvXp X-Received: by 2002:a05:6214:5192:b0:880:544c:697f with SMTP id 6a1803df08f44-88452afa9b6mr28720566d6.22.1763449568248; Mon, 17 Nov 2025 23:06:08 -0800 (PST) Received: from postal.iol.unh.edu (postal.iol.unh.edu. [132.177.123.84]) by smtp-relay.gmail.com with ESMTPS id 6a1803df08f44-882862b7fdbsm18702926d6.7.2025.11.17.23.06.08 (version=TLS1_2 cipher=ECDHE-ECDSA-AES128-GCM-SHA256 bits=128/128); Mon, 17 Nov 2025 23:06:08 -0800 (PST) X-Relaying-Domain: iol.unh.edu Date: Mon, 17 Nov 2025 23:06:08 -0800 (PST) Message-ID: <691c1ae0.050a0220.3be1fe.c6f4SMTPIN_ADDED_MISSING@mx.google.com> Received: from [172.21.0.2] (unknown [172.18.0.240]) by postal.iol.unh.edu (Postfix) with ESMTP id 0083A6051830; Tue, 18 Nov 2025 02:06:08 -0500 (EST) Subject: |SUCCESS| [GIT MASTER] 9784db2c5af1eecd02fc21132b59b5b266039b87 From: dpdklab@iol.unh.edu To: Test Report Cc: dpdk-test-reports@iol.unh.edu, Xueming Li , Christian Ehrhardt , Kevin Traynor , Luca Boccassi Content-Type: text/plain X-BeenThere: test-report@dpdk.org X-Mailman-Version: 2.1.29 Precedence: list List-Id: automatic DPDK test reports List-Unsubscribe: , List-Archive: List-Post: List-Help: List-Subscribe: , Errors-To: test-report-bounces@dpdk.org _Testing PASS_ Branch: tags/v22.11 9784db2c5af1eecd02fc21132b59b5b266039b87 --> testing pass Upstream job id: Generic-DPDK-Compile-Meson#445718 Test environment and result as below: +-------------------------------+--------------------+-------------------------+----------------------+ | Environment | dpdk_meson_compile | dpdk_llvm_clang_compile | dpdk_mingw64_compile | +===============================+====================+=========================+======================+ | FreeBSD 14.2 | PASS | SKIPPED | SKIPPED | +-------------------------------+--------------------+-------------------------+----------------------+ | Ubuntu 20.04 | PASS | SKIPPED | SKIPPED | +-------------------------------+--------------------+-------------------------+----------------------+ | CentOS Stream 10 | PASS | SKIPPED | SKIPPED | +-------------------------------+--------------------+-------------------------+----------------------+ | Fedora Linux 42 | PASS | SKIPPED | SKIPPED | +-------------------------------+--------------------+-------------------------+----------------------+ | CentOS Stream 9 | PASS | SKIPPED | SKIPPED | +-------------------------------+--------------------+-------------------------+----------------------+ | Red Hat Enterprise Linux 8.10 | PASS | SKIPPED | SKIPPED | +-------------------------------+--------------------+-------------------------+----------------------+ | Red Hat Enterprise Linux 9.5 | PASS | SKIPPED | SKIPPED | +-------------------------------+--------------------+-------------------------+----------------------+ | openSUSE Leap 15.6 | PASS | SKIPPED | SKIPPED | +-------------------------------+--------------------+-------------------------+----------------------+ | Ubuntu 22.04 | PASS | SKIPPED | SKIPPED | +-------------------------------+--------------------+-------------------------+----------------------+ | Debian GNU/Linux 12 | PASS | SKIPPED | SKIPPED | +-------------------------------+--------------------+-------------------------+----------------------+ | Ubuntu 24.04 | PASS | SKIPPED | SKIPPED | +-------------------------------+--------------------+-------------------------+----------------------+ | Windows Server 2022 | SKIPPED | PASS | PASS | +-------------------------------+--------------------+-------------------------+----------------------+ FreeBSD 14.2 Kernel: 14.2-RELEASE Compiler: clang 18.1.6 Ubuntu 20.04 Kernel: 4.19 Compiler: gcc gcc (Ubuntu 9.4.0-1ubuntu1~20.04.2) 9.4.0 CentOS Stream 10 Kernel: 5.15 Compiler: gcc gcc (GCC) 14.2.1 20250110 (Red Hat 14.2.1-8) Fedora Linux 42 Kernel: 5.15 Compiler: clang gcc (GCC) 15.2.1 20250808 (Red Hat 15.2.1-1) CentOS Stream 9 Kernel: 5.15 Compiler: gcc gcc (GCC) 11.5.0 20240719 (Red Hat 11.5.0-11) Red Hat Enterprise Linux 8.10 Kernel: 5.15 Compiler: gcc gcc (GCC) 8.5.0 20210514 (Red Hat 8.5.0-22) Red Hat Enterprise Linux 9.5 Kernel: 5.15 Compiler: gcc gcc (GCC) 11.5.0 20240719 (Red Hat 11.5.0-2) openSUSE Leap 15.6 Kernel: 5.15 Compiler: gcc gcc (SUSE Linux) 7.5.0 Ubuntu 22.04 Kernel: 5.15 Compiler: gcc gcc (Ubuntu 11.4.0-1ubuntu1~22.04) 11.4.0 Debian GNU/Linux 12 Kernel: 5.15 Compiler: gcc gcc (Debian 12.2.0-14+deb12u1) 12.2.0 Ubuntu 24.04 Kernel: 5.15 Compiler: gcc gcc (Ubuntu 13.3.0-6ubuntu2~24.04) 13.3.0 Windows Server 2022 Kernel: 10.0.20348.2031 Compiler: clang 15.0.7, gcc 14.1.0 (MinGW), and MSVC VS 19.39.33521 To view detailed results, visit: https://lab.dpdk.org/results/dashboard/tarballs/35642/ UNH-IOL DPDK Community Lab To manage your email subscriptions, visit: https://lab.dpdk.org/results/dashboard/preferences/subscriptions/