From mboxrd@z Thu Jan 1 00:00:00 1970 Return-Path: Received: from mails.dpdk.org (mails.dpdk.org [217.70.189.124]) by inbox.dpdk.org (Postfix) with ESMTP id 7B02F48B3C for ; Tue, 18 Nov 2025 08:08:49 +0100 (CET) Received: from mails.dpdk.org (localhost [127.0.0.1]) by mails.dpdk.org (Postfix) with ESMTP id 76C8740150; Tue, 18 Nov 2025 08:08:49 +0100 (CET) Received: from mail-il1-f225.google.com (mail-il1-f225.google.com [209.85.166.225]) by mails.dpdk.org (Postfix) with ESMTP id 7A82540150 for ; Tue, 18 Nov 2025 08:08:48 +0100 (CET) Received: by mail-il1-f225.google.com with SMTP id e9e14a558f8ab-43379251ff9so27562195ab.1 for ; Mon, 17 Nov 2025 23:08:48 -0800 (PST) DKIM-Signature: v=1; a=rsa-sha256; c=relaxed/relaxed; d=iol.unh.edu; s=unh-iol; t=1763449728; x=1764054528; darn=dpdk.org; h=cc:to:from:subject:message-id:date:from:to:cc:subject:date :message-id:reply-to; bh=svPp3SyYZh1oOfWKPWro7mUCdXBq+Dg40Qgfs/ApOck=; b=KHw+B5QD9ysKSh1DXEki9388/vKbGS0iKzekhB54TIeO3jeL+ZKgHpb3R11LwWQhIG MQF4hmlHn6tSqNS3BVm4QulajyyC02hQDSbl5VO0TynOBRGcMptPzeBRgvfqjvNO/qB8 LEteR1/JSqlPz9AAD3K3MqXtSjG3wuY8nIgX4= X-Google-DKIM-Signature: v=1; a=rsa-sha256; c=relaxed/relaxed; d=1e100.net; s=20230601; t=1763449728; x=1764054528; h=cc:to:from:subject:message-id:date:x-gm-gg:x-gm-message-state:from :to:cc:subject:date:message-id:reply-to; bh=svPp3SyYZh1oOfWKPWro7mUCdXBq+Dg40Qgfs/ApOck=; b=lMKG9NE8tZBUg9uLAl0HRkiZ3/BxXkj7z/x6U0peuRc1Lj1oyR+x5coyemFCyxclkY rq7tF+seMHUKyiLjiALR17FIhbMmL+170pGfTDBsL3oISR+M7cnjsYXlk3JU3dI19j+L sFDfwob+8Q3+ekzYn2mdym2j5AegSsoQTS82UeDU/CnNtgWSBjIOZQONYCbA01jibctb 2sJ/h6sdaHFnoXl0vdcVL8K9KeqluostNkFh9VfH/C22yOxue5RWIupZFHn2fK4shvRh GO2Zc86aQarF8CC5xiAxjVo1ODL+1XK7lc6KXINnsMcttFDoeSLJHU8YrHiEQvVTyQsI E7Gw== X-Gm-Message-State: AOJu0YwnsEPbA9oOvjGd5Uz/G/eZbbLxlE9UlbFoA3xyJ+GD9RBDggby 1BMTAGCsXKRe3eJ3sCsAUHp2iSkeQRlEtZNLs96rJorvlLXKGjHh4xJKWKJVnZ0l77T6wHZLgqC dp0aSvWpoT9VMND3L+y43qRwSxrPGl+LnLqoA X-Gm-Gg: ASbGncuizpNMYfgCukhp7jBCfdLEhEhm+yV82A8BNQlUYDClHl+G9hSIxnQXo8aCdBG VjoNHMFSKZ8/8BWNiFlT4m6wNhEN/DvKHW5R2eJN954EVumu6OgRq85e5suubxhMyKD0m2BVcnB ZFSD6sBvT3XtHhFDOSYKwoiXMLqajv2eArpFSP30+hQut+80XdqN+DV3O3DzVwVnGuSNgpWQwRp bkT4eQmUnuPNnYyrrrDaf850cRCaeUDbEOpNqN5yb68aZR1geiAZ6HVhl0+Xjl8jmFz4iuplzfP e8jcHp2IuxZVAL1+I85N6RbupLNsDcSMsvBdn2OPBJrIsE/nBQk8ERT2cGudcziDs7LCrkSM+7y 2C+JBYS8Wj+lpc/dG8rZtrTj6UI9YWnCJ0hkVvuBA5w== X-Google-Smtp-Source: AGHT+IGGwboCAP8WHeIK16ruwwuPT0vJYgbNFM6tooXWrn4/V5tLZ/Paa7YJvoNs5+TsMcv9LFrx/ZDmREs9 X-Received: by 2002:a05:6638:3f1a:b0:572:c2ff:b9bd with SMTP id 8926c6da1cb9f-5b7fa51bd46mr2639473173.0.1763449727825; Mon, 17 Nov 2025 23:08:47 -0800 (PST) Received: from postal.iol.unh.edu (postal.iol.unh.edu. [132.177.123.84]) by smtp-relay.gmail.com with ESMTPS id 8926c6da1cb9f-5b7bd266f39sm1080348173.15.2025.11.17.23.08.47 (version=TLS1_2 cipher=ECDHE-ECDSA-AES128-GCM-SHA256 bits=128/128); Mon, 17 Nov 2025 23:08:47 -0800 (PST) X-Relaying-Domain: iol.unh.edu Date: Mon, 17 Nov 2025 23:08:47 -0800 (PST) Message-ID: <691c1b7f.050a0220.3d1d7d.54c9SMTPIN_ADDED_MISSING@mx.google.com> Received: from [172.21.0.4] (unknown [172.18.0.240]) by postal.iol.unh.edu (Postfix) with ESMTP id 499596051830; Tue, 18 Nov 2025 02:08:47 -0500 (EST) Subject: |SUCCESS| [GIT MASTER] 0bd935abcb823f581ce53986986aa54eaf6f8140 From: dpdklab@iol.unh.edu To: Test Report Cc: dpdk-test-reports@iol.unh.edu, Xueming Li , Christian Ehrhardt , Kevin Traynor , Luca Boccassi Content-Type: text/plain X-BeenThere: test-report@dpdk.org X-Mailman-Version: 2.1.29 Precedence: list List-Id: automatic DPDK test reports List-Unsubscribe: , List-Archive: List-Post: List-Help: List-Subscribe: , Errors-To: test-report-bounces@dpdk.org _Testing PASS_ Branch: tags/v24.11 0bd935abcb823f581ce53986986aa54eaf6f8140 --> testing pass Upstream job id: Generic-Unit-Test-DPDK#394076 Test environment and result as below: +-------------------------------+----------------+ | Environment | dpdk_unit_test | +===============================+================+ | CentOS Stream 10 | PASS | +-------------------------------+----------------+ | Red Hat Enterprise Linux 8.10 | PASS | +-------------------------------+----------------+ | CentOS Stream 9 | PASS | +-------------------------------+----------------+ | Ubuntu 22.04 | PASS | +-------------------------------+----------------+ | Fedora Linux 42 | PASS | +-------------------------------+----------------+ | Ubuntu 24.04 | PASS | +-------------------------------+----------------+ | Fedora Linux 40 | PASS | +-------------------------------+----------------+ | Ubuntu 20.04 | PASS | +-------------------------------+----------------+ | Debian GNU/Linux 12 | PASS | +-------------------------------+----------------+ | Fedora Linux 41 | PASS | +-------------------------------+----------------+ | Red Hat Enterprise Linux 9.5 | PASS | +-------------------------------+----------------+ | Windows Server 2022 | PASS | +-------------------------------+----------------+ CentOS Stream 10 Kernel: 5.15 Compiler: gcc gcc (GCC) 14.2.1 20250110 (Red Hat 14.2.1-8) Red Hat Enterprise Linux 8.10 Kernel: 5.15 Compiler: gcc gcc (GCC) 8.5.0 20210514 (Red Hat 8.5.0-22) CentOS Stream 9 Kernel: 5.15 Compiler: gcc gcc (GCC) 11.5.0 20240719 (Red Hat 11.5.0-11) Ubuntu 22.04 Kernel: 5.15 Compiler: gcc gcc (Ubuntu 11.4.0-1ubuntu1~22.04) 11.4.0 Fedora Linux 42 Kernel: 5.15 Compiler: clang gcc (GCC) 15.2.1 20250808 (Red Hat 15.2.1-1) Ubuntu 24.04 Kernel: 5.15 Compiler: gcc gcc (Ubuntu 13.3.0-6ubuntu2~24.04) 13.3.0 Fedora Linux 40 Kernel: 5.15 Compiler: gcc gcc (GCC) 14.2.1 20240912 (Red Hat 14.2.1-3) Ubuntu 20.04 Kernel: 5.15 Compiler: gcc gcc (Ubuntu 9.4.0-1ubuntu1~20.04.2) 9.4.0 Debian GNU/Linux 12 Kernel: 5.15 Compiler: gcc gcc (Debian 12.2.0-14+deb12u1) 12.2.0 Fedora Linux 41 Kernel: 5.15 Compiler: clang gcc (GCC) 14.3.1 20250523 (Red Hat 14.3.1-1) Red Hat Enterprise Linux 9.5 Kernel: 5.15 Compiler: gcc gcc (GCC) 11.5.0 20240719 (Red Hat 11.5.0-2) Windows Server 2022 Kernel: 10.0.20348.2031 Compiler: clang 15.0.7, gcc 14.1.0 (MinGW), and MSVC VS 19.39.33521 To view detailed results, visit: https://lab.dpdk.org/results/dashboard/tarballs/35644/ UNH-IOL DPDK Community Lab To manage your email subscriptions, visit: https://lab.dpdk.org/results/dashboard/preferences/subscriptions/