From mboxrd@z Thu Jan 1 00:00:00 1970 Return-Path: Received: from mails.dpdk.org (mails.dpdk.org [217.70.189.124]) by inbox.dpdk.org (Postfix) with ESMTP id 2B44848B3C for ; Tue, 18 Nov 2025 08:14:52 +0100 (CET) Received: from mails.dpdk.org (localhost [127.0.0.1]) by mails.dpdk.org (Postfix) with ESMTP id 04B2740150; Tue, 18 Nov 2025 08:14:52 +0100 (CET) Received: from mail-pl1-f226.google.com (mail-pl1-f226.google.com [209.85.214.226]) by mails.dpdk.org (Postfix) with ESMTP id 2C7C740150 for ; Tue, 18 Nov 2025 08:14:51 +0100 (CET) Received: by mail-pl1-f226.google.com with SMTP id d9443c01a7336-297e239baecso56316935ad.1 for ; Mon, 17 Nov 2025 23:14:51 -0800 (PST) DKIM-Signature: v=1; a=rsa-sha256; c=relaxed/relaxed; d=iol.unh.edu; s=unh-iol; t=1763450090; x=1764054890; darn=dpdk.org; h=cc:to:from:subject:message-id:date:from:to:cc:subject:date :message-id:reply-to; bh=Cjx34U5zsGW0kVbliqufGQFDP3jxRFxnuYw6abdyczM=; b=PG+KcSQ9W+lW1NqJ06KszyMzgbADXg8rsv5BUm3aJsabiIn4HojVehOd4nwk5V8Zo/ qOaROLj/9AbM7B7bbRYtvZXwbmsbGQBIJt0ttPfAAWNph7qh+RMMlraBNIMxGPa7HQC8 wiqIU/DGq8IocbsG1F9CXS8Y+VuSPSOHUZAWw= X-Google-DKIM-Signature: v=1; a=rsa-sha256; c=relaxed/relaxed; d=1e100.net; s=20230601; t=1763450090; x=1764054890; h=cc:to:from:subject:message-id:date:x-gm-gg:x-gm-message-state:from :to:cc:subject:date:message-id:reply-to; bh=Cjx34U5zsGW0kVbliqufGQFDP3jxRFxnuYw6abdyczM=; b=JgMiTu8F0Hifh9RYuF/IFTSP1TjVyVWOMryrkzx75CB21+GTcRj995FQFEFkk8KF1n s8ptjZ77BbN9G+6NZ1xB0mcDc3rim0d5DGPF20dBc7DoJ03QDXy/oG9YqdrJWqan3vca fTKCeG1CEJKeFLtGs2lajJZ8fgI+9GgflFqi6ge81tqstG7paHRvyH0nENgu4PObQQO9 MOI7vH4x1LO4tO//+xblREAsnBtOkaJX4FapJcOJQewJe3YD55ySRjL5EfrGsDpAU3TF xKEjkOTWg4OZ0e+S4pEO9p6uyoxv7Cu8oID4xmLw70vemI8sLAs4f68hYrkyt06DJeVQ D13A== X-Gm-Message-State: AOJu0Yy+q+kE9BEtxdsmYi1EUSdR8TyqRH9ZKe26pfF8IkF9u9TAnM7K 3jELtS8WDNyhafMcvk2nWBeLc4YXmrY11e6bml3WsSFJqWR3MbHIk5x4lDOlcKk60XPvEnIpksl w5gd+sK9alPQ7C9PqQQJyJ4ZtiHKAJTxxXvFt2lrycnHtQDoqbmxg X-Gm-Gg: ASbGncud7Bz7NkdevIUjOrCZpwj/w7vrYKPbCjEbaKbXnLGkagyC8MG/gVIO+fTdHxg NJio2Jf4ruQrFyqJP4UryiKa7heLazckFD/2/7cQ6ubljYY1RamV83Vxtxx/ZvEJxg1YsvnvJhZ YkMZTN8jfr8+pgk8tp7HnRdZxGOPdY82qkgVz1+KISP7cA0GtGGzoP9E0GlcGEr8nNVJtJFKxPI LEq5nGs8RfrBHh27wRzliY27G4qlxbuW2TFaESedODomoiUQosacsrzvR85xI+kvAw7Trxkls03 HuU6t36bQxBRaelezeOYCLeE7eoFnJOWQkcHU58HE0DnKlPMqPkQAmI4lE3TKKMpRxbfsgukc+e +iMNQUhWxvWNsPOd1E7w= X-Google-Smtp-Source: AGHT+IGDeovpMx9nc/+RkS5A8qqh3Vmr4RXTastUI+oV6vmUNy4e4lirx1Nb0pDoBJlWhLljTWeFCcHPKmCD X-Received: by 2002:a17:903:1aab:b0:297:eb3c:51ed with SMTP id d9443c01a7336-299f5587d9dmr27164385ad.16.1763450090087; Mon, 17 Nov 2025 23:14:50 -0800 (PST) Received: from postal.iol.unh.edu (postal.iol.unh.edu. [2606:4100:3880:1234::84]) by smtp-relay.gmail.com with ESMTPS id d9443c01a7336-2985c2b8935sm17077025ad.52.2025.11.17.23.14.49 (version=TLS1_2 cipher=ECDHE-ECDSA-AES128-GCM-SHA256 bits=128/128); Mon, 17 Nov 2025 23:14:50 -0800 (PST) X-Relaying-Domain: iol.unh.edu Date: Mon, 17 Nov 2025 23:14:50 -0800 (PST) Message-ID: <691c1cea.170a0220.234aea.7a7dSMTPIN_ADDED_MISSING@mx.google.com> Received: from [172.21.0.2] (unknown [172.18.0.240]) by postal.iol.unh.edu (Postfix) with ESMTP id 8A40B6051830; Tue, 18 Nov 2025 02:14:49 -0500 (EST) Subject: |SUCCESS| [GIT MASTER] 0bd935abcb823f581ce53986986aa54eaf6f8140 From: dpdklab@iol.unh.edu To: Test Report Cc: dpdk-test-reports@iol.unh.edu, Xueming Li , Christian Ehrhardt , Kevin Traynor , Luca Boccassi Content-Type: text/plain X-BeenThere: test-report@dpdk.org X-Mailman-Version: 2.1.29 Precedence: list List-Id: automatic DPDK test reports List-Unsubscribe: , List-Archive: List-Post: List-Help: List-Subscribe: , Errors-To: test-report-bounces@dpdk.org _Testing PASS_ Branch: tags/v24.11 0bd935abcb823f581ce53986986aa54eaf6f8140 --> testing pass Upstream job id: Generic-DPDK-Compile-Meson#445762 Test environment and result as below: +-------------------------------+--------------------+------------------+-------------------+-------------------------+----------------------+ | Environment | dpdk_meson_compile | dpdk_compile_ovs | dpdk_msvc_compile | dpdk_llvm_clang_compile | dpdk_mingw64_compile | +===============================+====================+==================+===================+=========================+======================+ | Ubuntu 24.04 | PASS | PASS | SKIPPED | SKIPPED | SKIPPED | +-------------------------------+--------------------+------------------+-------------------+-------------------------+----------------------+ | Debian GNU/Linux 12 | PASS | SKIPPED | SKIPPED | SKIPPED | SKIPPED | +-------------------------------+--------------------+------------------+-------------------+-------------------------+----------------------+ | CentOS Stream 9 | PASS | SKIPPED | SKIPPED | SKIPPED | SKIPPED | +-------------------------------+--------------------+------------------+-------------------+-------------------------+----------------------+ | Ubuntu 20.04 | PASS | SKIPPED | SKIPPED | SKIPPED | SKIPPED | +-------------------------------+--------------------+------------------+-------------------+-------------------------+----------------------+ | Fedora Linux 42 | PASS | PASS | SKIPPED | SKIPPED | SKIPPED | +-------------------------------+--------------------+------------------+-------------------+-------------------------+----------------------+ | Alpine Linux 3.22.0 | PASS | SKIPPED | SKIPPED | SKIPPED | SKIPPED | +-------------------------------+--------------------+------------------+-------------------+-------------------------+----------------------+ | Red Hat Enterprise Linux 9.5 | PASS | SKIPPED | SKIPPED | SKIPPED | SKIPPED | +-------------------------------+--------------------+------------------+-------------------+-------------------------+----------------------+ | Ubuntu 22.04 | PASS | SKIPPED | SKIPPED | SKIPPED | SKIPPED | +-------------------------------+--------------------+------------------+-------------------+-------------------------+----------------------+ | Red Hat Enterprise Linux 8.10 | PASS | SKIPPED | SKIPPED | SKIPPED | SKIPPED | +-------------------------------+--------------------+------------------+-------------------+-------------------------+----------------------+ | openSUSE Leap 15.6 | PASS | SKIPPED | SKIPPED | SKIPPED | SKIPPED | +-------------------------------+--------------------+------------------+-------------------+-------------------------+----------------------+ | CentOS Stream 10 | PASS | SKIPPED | SKIPPED | SKIPPED | SKIPPED | +-------------------------------+--------------------+------------------+-------------------+-------------------------+----------------------+ | FreeBSD 14.2 | PASS | SKIPPED | SKIPPED | SKIPPED | SKIPPED | +-------------------------------+--------------------+------------------+-------------------+-------------------------+----------------------+ | Windows Server 2022 | SKIPPED | SKIPPED | PASS | PASS | PASS | +-------------------------------+--------------------+------------------+-------------------+-------------------------+----------------------+ Ubuntu 24.04 Kernel: 5.15 Compiler: gcc gcc (Ubuntu 13.3.0-6ubuntu2~24.04) 13.3.0 Debian GNU/Linux 12 Kernel: 5.15 Compiler: gcc gcc (Debian 12.2.0-14+deb12u1) 12.2.0 CentOS Stream 9 Kernel: 5.15 Compiler: gcc gcc (GCC) 11.5.0 20240719 (Red Hat 11.5.0-11) Ubuntu 20.04 Kernel: 5.15 Compiler: gcc gcc (Ubuntu 9.4.0-1ubuntu1~20.04.2) 9.4.0 Fedora Linux 42 Kernel: 5.15 Compiler: clang gcc (GCC) 15.2.1 20250808 (Red Hat 15.2.1-1) Alpine Linux 3.22.0 Kernel: 5.15 Compiler: gcc gcc (Alpine 14.2.0) 14.2.0 Red Hat Enterprise Linux 9.5 Kernel: 5.15 Compiler: gcc gcc (GCC) 11.5.0 20240719 (Red Hat 11.5.0-2) Ubuntu 22.04 Kernel: 5.15 Compiler: gcc gcc (Ubuntu 11.4.0-1ubuntu1~22.04) 11.4.0 Red Hat Enterprise Linux 8.10 Kernel: 5.15 Compiler: gcc gcc (GCC) 8.5.0 20210514 (Red Hat 8.5.0-22) openSUSE Leap 15.6 Kernel: 5.15 Compiler: gcc gcc (SUSE Linux) 7.5.0 CentOS Stream 10 Kernel: 5.15 Compiler: gcc gcc (GCC) 14.2.1 20250110 (Red Hat 14.2.1-8) FreeBSD 14.2 Kernel: 14.2-RELEASE Compiler: clang 18.1.6 Windows Server 2022 Kernel: 10.0.20348.2031 Compiler: clang 15.0.7, gcc 14.1.0 (MinGW), and MSVC VS 19.39.33521 To view detailed results, visit: https://lab.dpdk.org/results/dashboard/tarballs/35644/ UNH-IOL DPDK Community Lab To manage your email subscriptions, visit: https://lab.dpdk.org/results/dashboard/preferences/subscriptions/