From mboxrd@z Thu Jan 1 00:00:00 1970 Return-Path: Received: from mails.dpdk.org (mails.dpdk.org [217.70.189.124]) by inbox.dpdk.org (Postfix) with ESMTP id 3122548B3C for ; Tue, 18 Nov 2025 08:49:41 +0100 (CET) Received: from mails.dpdk.org (localhost [127.0.0.1]) by mails.dpdk.org (Postfix) with ESMTP id 0901740150; Tue, 18 Nov 2025 08:49:41 +0100 (CET) Received: from mail-il1-f227.google.com (mail-il1-f227.google.com [209.85.166.227]) by mails.dpdk.org (Postfix) with ESMTP id 3363640150 for ; Tue, 18 Nov 2025 08:49:40 +0100 (CET) Received: by mail-il1-f227.google.com with SMTP id e9e14a558f8ab-43377ee4825so26160835ab.2 for ; Mon, 17 Nov 2025 23:49:40 -0800 (PST) DKIM-Signature: v=1; a=rsa-sha256; c=relaxed/relaxed; d=iol.unh.edu; s=unh-iol; t=1763452179; x=1764056979; darn=dpdk.org; h=cc:to:from:subject:message-id:date:from:to:cc:subject:date :message-id:reply-to; bh=EMDIXoTHioM0Cr3IsyYjhd8wVGu/ASdUP697+PyyGbI=; b=E5thhxuXFmQlABnw6ax6XRzKUQssNiG8OjVzyHYgsuHxL7fobpY4eG3I8hQJICsf6A 9EYPs19IMFUezvVJZy9osnAitalBGnGGXTZtKbiSto+gY8vjo8ckwSyX6JzpWOp8bsy4 USCMSuxwH0w2sbYa20IPVSnuZ3e86g8gGZETY= X-Google-DKIM-Signature: v=1; a=rsa-sha256; c=relaxed/relaxed; d=1e100.net; s=20230601; t=1763452179; x=1764056979; h=cc:to:from:subject:message-id:date:x-gm-gg:x-gm-message-state:from :to:cc:subject:date:message-id:reply-to; bh=EMDIXoTHioM0Cr3IsyYjhd8wVGu/ASdUP697+PyyGbI=; b=RbihFdzGEt0qjpp8qooNDM5DHoAZny3B3iA5RaR8C8RKr0U++r6ua8lCAFQfsV6oDa CkRGA8HlR5wjpt8op45QZwJAPyOwlHcEptYRHMQ4kCNKA164cbTGZkKIlSElCebdNDXM VMg6a/YPClJIYGxH1D/F3rlZgX4Hg1YJKaZQ2Ur8yqT5FIMkcpAnwQ0VAFQTJ53rm4hp YIQn1vjQhbnvOREf3g49+DSBdHrz4q92CG8O6bgNrerjwhGhZTTtUJK1FuUzcCId0ZCd t3QGF5LjTVtQ2Gru0I87FPuYYK8RVtyxdcHHbxvzRteJ1JjSYBsvhxiuqV4vb/P7qMpg soaQ== X-Gm-Message-State: AOJu0YyBl3tFyJ5ZQxQYvKrWxNBZ8ZqMdf2yGdj66YVpDG/Z63j2u2GS ZIIsMLBmq6Jg/kpNa08TB/Xmy8ejXSD/sNsyQS2KsZdzMbZNelny270GVUD4pbv8u427gbG4jik fNW5rlKv5Zd4zEG2/DvTdnVS/TMwV4JlthdvP X-Gm-Gg: ASbGnctOHnOqUBVIRzdYhIakkp2a4ZhkL4kfFBLiVEFUH3WtX6m7ntpYPYq3SS0282U lAuclkiNq6rmT8nvccKW8godyfULsw2KyvA6F4Q63vvStyWy23LQuEAj77mLLPgoVCG6vVjf0WV bGB1fqVAW8uTPsBrUZZVyYGsQkqzeN4LDfAdNSNoOIIMjX6OGTeDhJeciMut3/MQqKA4XEk6RFl rHq10Ke5EA9OCgw1C4Ph4PT12PmSk6iDppj80hk/D9OkGbIt4Tgh6Peu8oCUMNyLfqEWH19uMcF CKaT+kvBzy820+/7aJWocHEXaPwWS79xHjvvd3ylauiSucGrFlrLuUn4/oXl+olUOyIaFCn1Ljl 0ENR6I/gI1xfyKo7+QvliauTgmLEHdshrP9O0+QNtNA== X-Google-Smtp-Source: AGHT+IFi384HvSA/kXVmAf2IBufxXyqGdRqOaTcEJpzmnEVIoJRr1GInsO8ewRymWIIks4948Bfv4oBbzkGe X-Received: by 2002:a92:ca4c:0:b0:433:7896:2d45 with SMTP id e9e14a558f8ab-4348c93b6fcmr170326555ab.25.1763452179306; Mon, 17 Nov 2025 23:49:39 -0800 (PST) Received: from postal.iol.unh.edu (postal.iol.unh.edu. [132.177.123.84]) by smtp-relay.gmail.com with ESMTPS id e9e14a558f8ab-43483991e0csm13157925ab.21.2025.11.17.23.49.39 (version=TLS1_2 cipher=ECDHE-ECDSA-AES128-GCM-SHA256 bits=128/128); Mon, 17 Nov 2025 23:49:39 -0800 (PST) X-Relaying-Domain: iol.unh.edu Date: Mon, 17 Nov 2025 23:49:39 -0800 (PST) Message-ID: <691c2513.050a0220.2af7c8.1c58SMTPIN_ADDED_MISSING@mx.google.com> Received: from [172.21.0.2] (unknown [172.18.0.240]) by postal.iol.unh.edu (Postfix) with ESMTP id DCA6C60003F4; Tue, 18 Nov 2025 02:49:38 -0500 (EST) Subject: |WARNING| [GIT MASTER] 62f583c49bf67dd4d6733ece14e55fe6839e66d1 From: dpdklab@iol.unh.edu To: Test Report Cc: dpdk-test-reports@iol.unh.edu, Xueming Li , Christian Ehrhardt , Kevin Traynor , Luca Boccassi Content-Type: text/plain X-BeenThere: test-report@dpdk.org X-Mailman-Version: 2.1.29 Precedence: list List-Id: automatic DPDK test reports List-Unsubscribe: , List-Archive: List-Post: List-Help: List-Subscribe: , Errors-To: test-report-bounces@dpdk.org _Testing issues_ Branch: tags/v23.11 62f583c49bf67dd4d6733ece14e55fe6839e66d1 --> testing issues Upstream job id: Generic-Unit-Test-DPDK#394041 Test environment and result as below: +------------------------------+----------------+--------------+---------------------------+------------------------------+ | Environment | dpdk_unit_test | lpm_autotest | cryptodev_sw_zuc_autotest | cryptodev_sw_snow3g_autotest | +==============================+================+==============+===========================+==============================+ | Ubuntu 24.04 | PASS | SKIPPED | SKIPPED | SKIPPED | +------------------------------+----------------+--------------+---------------------------+------------------------------+ | Fedora Linux 42 | PASS | SKIPPED | SKIPPED | SKIPPED | +------------------------------+----------------+--------------+---------------------------+------------------------------+ | Debian GNU/Linux 12 | PASS | SKIPPED | SKIPPED | SKIPPED | +------------------------------+----------------+--------------+---------------------------+------------------------------+ | Ubuntu 22.04 | PASS | SKIPPED | SKIPPED | SKIPPED | +------------------------------+----------------+--------------+---------------------------+------------------------------+ | Fedora Linux 41 | PASS | SKIPPED | SKIPPED | SKIPPED | +------------------------------+----------------+--------------+---------------------------+------------------------------+ | CentOS Stream 10 | PASS | SKIPPED | SKIPPED | SKIPPED | +------------------------------+----------------+--------------+---------------------------+------------------------------+ | Red Hat Enterprise Linux 9.5 | PASS | SKIPPED | SKIPPED | SKIPPED | +------------------------------+----------------+--------------+---------------------------+------------------------------+ | Ubuntu 20.04 | PASS | PASS | SKIPPED | SKIPPED | +------------------------------+----------------+--------------+---------------------------+------------------------------+ | CentOS Stream 9 | PASS | SKIPPED | SKIPPED | SKIPPED | +------------------------------+----------------+--------------+---------------------------+------------------------------+ | Fedora Linux 40 | PASS | SKIPPED | SKIPPED | SKIPPED | +------------------------------+----------------+--------------+---------------------------+------------------------------+ | Debian 12 (arm) | SKIPPED | SKIPPED | PASS | PASS | +------------------------------+----------------+--------------+---------------------------+------------------------------+ Ubuntu 24.04 Kernel: 5.4 Compiler: gcc gcc (Ubuntu 13.3.0-6ubuntu2~24.04) 13.3.0 Fedora Linux 42 Kernel: 5.4 Compiler: gcc gcc (GCC) 15.2.1 20250808 (Red Hat 15.2.1-1) Debian GNU/Linux 12 Kernel: 5.4 Compiler: gcc gcc (Debian 12.2.0-14+deb12u1) 12.2.0 Ubuntu 22.04 Kernel: 5.4 Compiler: gcc gcc (Ubuntu 11.4.0-1ubuntu1~22.04) 11.4.0 Fedora Linux 41 Kernel: 5.4 Compiler: gcc gcc (GCC) 14.3.1 20250523 (Red Hat 14.3.1-1) CentOS Stream 10 Kernel: 5.4 Compiler: gcc gcc (GCC) 14.2.1 20250110 (Red Hat 14.2.1-8) Red Hat Enterprise Linux 9.5 Kernel: 5.4 Compiler: gcc gcc (GCC) 11.5.0 20240719 (Red Hat 11.5.0-2) Ubuntu 20.04 Kernel: 5.4 Compiler: gcc gcc (Ubuntu 9.4.0-1ubuntu1~20.04.2) 9.4.0 CentOS Stream 9 Kernel: 5.4 Compiler: gcc gcc (GCC) 11.5.0 20240719 (Red Hat 11.5.0-11) Fedora Linux 40 Kernel: 5.4 Compiler: clang gcc (GCC) 14.2.1 20240912 (Red Hat 14.2.1-3) Debian 12 (arm) Kernel: Depends on container host Compiler: gcc (Debian 12.2.0-14) 12.2.0 To view detailed results, visit: https://lab.dpdk.org/results/dashboard/tarballs/35643/ UNH-IOL DPDK Community Lab To manage your email subscriptions, visit: https://lab.dpdk.org/results/dashboard/preferences/subscriptions/