From mboxrd@z Thu Jan 1 00:00:00 1970 Return-Path: Received: from mails.dpdk.org (mails.dpdk.org [217.70.189.124]) by inbox.dpdk.org (Postfix) with ESMTP id A4E6148B3E for ; Tue, 18 Nov 2025 10:08:48 +0100 (CET) Received: from mails.dpdk.org (localhost [127.0.0.1]) by mails.dpdk.org (Postfix) with ESMTP id 8379440150; Tue, 18 Nov 2025 10:08:48 +0100 (CET) Received: from mail-qk1-f225.google.com (mail-qk1-f225.google.com [209.85.222.225]) by mails.dpdk.org (Postfix) with ESMTP id 661C440150 for ; Tue, 18 Nov 2025 10:08:47 +0100 (CET) Received: by mail-qk1-f225.google.com with SMTP id af79cd13be357-8b3016c311bso82230185a.1 for ; Tue, 18 Nov 2025 01:08:47 -0800 (PST) DKIM-Signature: v=1; a=rsa-sha256; c=relaxed/relaxed; d=iol.unh.edu; s=unh-iol; t=1763456927; x=1764061727; darn=dpdk.org; h=cc:to:from:subject:message-id:date:from:to:cc:subject:date :message-id:reply-to; bh=TW4eITNW7K+T6x7u//tqM3u8hol/DIFI8UPcKu5JUoA=; b=UurBmtkMtlnd9SbNGCfPBhba0hKjUFq8SE9DURp2xLdcCFYGzU5LCZMT35ut63/4Uq HrAvSVQKkn4vTckcXTsejwqji9rbOrXXCQIYN1PoYeL/a4/TKSAoOLUCcm4gzpj8CEdF L1cRh91NxlUuUIhUqaRdvQql/woiqBlkR1q8E= X-Google-DKIM-Signature: v=1; a=rsa-sha256; c=relaxed/relaxed; d=1e100.net; s=20230601; t=1763456927; x=1764061727; h=cc:to:from:subject:message-id:date:x-gm-gg:x-gm-message-state:from :to:cc:subject:date:message-id:reply-to; bh=TW4eITNW7K+T6x7u//tqM3u8hol/DIFI8UPcKu5JUoA=; b=fXg9ijI+aEB73+VB46b5QBD965lkeAyKoA/i8u7VZn4g+g0Hp/vLPHweDkckapD9R0 gaY3HoeFWFpz1SgJFWB/DaG/DHOsF1sAIr5ay5N5LfPcXdUdg/cLd25VPgDy52LjVpmd oRJbOYeaIYVwDzSnzKVaFWp6MWvrKcWJMrr4HccAJkwZdzIzLv80xbdpH2+UIceEvvDF 7iS66JYmqADpVR7NxvHf/g+5v3x439gaVZ4X4xav+4JfBv5N83NAvvmvj3U76HGt0s8X 2HPeaEP7nL7kRp9N1PzQlVX/3FjgxlOXM6WRDlBufn2dtG1ueVNeU6UiHgv6weQ74UnO Tn5A== X-Gm-Message-State: AOJu0YxdKsTfIPFyxRSDunifd7nqzSf7fIBUmfhGVLJh1U5tA+fWtYRx hILT7zkS70FjBXL99RmjsMm9jJ3hi8RSgxPcYMF3clsNz+y/aNy1D8Y1S3RMv80bDAJ0XciqZzt j1P9Ym4J3TFzln5wC+pL/MwDJVwyGwhGScru2 X-Gm-Gg: ASbGnct5PMiGTKR8dQsbCLDaoIGMAg/6Nlewtt5vS5jCrcaVIgpFsEfoZjbkfvbJ4rl 0jsv82HUVsA1rVeU9GKZJuGEpI9A0E7GRQ6ldAL8dDewoPQ+vOMbURiSHizmqOtVCXImlax+h6k YRHu8n7vTvW1HOkiXjtqLcCXUhVM0QMXJVDvK4Qr69l1VFbdyhr/Ic2cpqcvkW1ayj0T6orh1zc VvMCrAB1Q2uP8xiK49f1T9M/03iXq0EaXvCQJMPnEorH0RcyeFVV4Y5zBT0MzQ328MYZTVtolN4 lWf/O+Y/oFJIKSynx6deVfQTjFZkDl9sITA6sfTslLLaSka1Ln1E37vgudpy20nA7tQSzJ1wTxt 2ZnNlml3P+9KslLWfWOA5XmvQczgkt0+cL2haEuS1hQ== X-Google-Smtp-Source: AGHT+IHfBtqcW9x8MT9qlOimPMD2fyyZUSvXNu/7PSwfoAJb+oMlEDBt9RGj2sb2RSgqDDMHRdKQKirgLKVF X-Received: by 2002:a05:620a:2a02:b0:8b2:dcea:fc78 with SMTP id af79cd13be357-8b2dceafe47mr1233467785a.16.1763456926612; Tue, 18 Nov 2025 01:08:46 -0800 (PST) Received: from postal.iol.unh.edu (postal.iol.unh.edu. [132.177.123.84]) by smtp-relay.gmail.com with ESMTPS id d75a77b69052e-4ee28b8f817sm2660251cf.1.2025.11.18.01.08.46 (version=TLS1_2 cipher=ECDHE-ECDSA-AES128-GCM-SHA256 bits=128/128); Tue, 18 Nov 2025 01:08:46 -0800 (PST) X-Relaying-Domain: iol.unh.edu Date: Tue, 18 Nov 2025 01:08:46 -0800 (PST) Message-ID: <691c379e.c80a0220.f6d18.d3d7SMTPIN_ADDED_MISSING@mx.google.com> Received: from [172.21.0.3] (unknown [172.18.0.240]) by postal.iol.unh.edu (Postfix) with ESMTP id 13FE86051830; Tue, 18 Nov 2025 04:08:46 -0500 (EST) Subject: |SUCCESS| [GIT MASTER] 0bd935abcb823f581ce53986986aa54eaf6f8140 From: dpdklab@iol.unh.edu To: Test Report Cc: dpdk-test-reports@iol.unh.edu, Xueming Li , Christian Ehrhardt , Kevin Traynor , Luca Boccassi Content-Type: text/plain X-BeenThere: test-report@dpdk.org X-Mailman-Version: 2.1.29 Precedence: list List-Id: automatic DPDK test reports List-Unsubscribe: , List-Archive: List-Post: List-Help: List-Subscribe: , Errors-To: test-report-bounces@dpdk.org _Testing PASS_ Branch: tags/v24.11 0bd935abcb823f581ce53986986aa54eaf6f8140 --> testing pass Upstream job id: Generic-DPDK-Compile-Meson#445765 Test environment and result as below: +------------------------------+--------------------+ | Environment | dpdk_meson_compile | +==============================+====================+ | Debian GNU/Linux 12 | PASS | +------------------------------+--------------------+ | Ubuntu 20.04 | PASS | +------------------------------+--------------------+ | Red Hat Enterprise Linux 9.5 | PASS | +------------------------------+--------------------+ | Fedora Linux 42 | PASS | +------------------------------+--------------------+ | Ubuntu 22.04 | PASS | +------------------------------+--------------------+ | Ubuntu 24.04 | PASS | +------------------------------+--------------------+ | CentOS Stream 10 | PASS | +------------------------------+--------------------+ | CentOS Stream 9 | PASS | +------------------------------+--------------------+ Debian GNU/Linux 12 Kernel: 5.4 Compiler: gcc gcc (Debian 12.2.0-14+deb12u1) 12.2.0 Ubuntu 20.04 Kernel: 5.15 Compiler: aarch64-linux-gnu-gcc gcc (Ubuntu 9.4.0-1ubuntu1~20.04.2) 9.4.0 Red Hat Enterprise Linux 9.5 Kernel: 5.4 Compiler: gcc gcc (GCC) 11.5.0 20240719 (Red Hat 11.5.0-2) Fedora Linux 42 Kernel: 5.4 Compiler: clang gcc (GCC) 15.2.1 20250808 (Red Hat 15.2.1-1) Ubuntu 22.04 Kernel: 5.4 Compiler: gcc gcc (Ubuntu 11.4.0-1ubuntu1~22.04) 11.4.0 Ubuntu 24.04 Kernel: 5.4 Compiler: gcc gcc (Ubuntu 13.3.0-6ubuntu2~24.04) 13.3.0 CentOS Stream 10 Kernel: 5.4 Compiler: gcc gcc (GCC) 14.2.1 20250110 (Red Hat 14.2.1-8) CentOS Stream 9 Kernel: 5.4 Compiler: gcc gcc (GCC) 11.5.0 20240719 (Red Hat 11.5.0-11) To view detailed results, visit: https://lab.dpdk.org/results/dashboard/tarballs/35644/ UNH-IOL DPDK Community Lab To manage your email subscriptions, visit: https://lab.dpdk.org/results/dashboard/preferences/subscriptions/