From mboxrd@z Thu Jan 1 00:00:00 1970 Return-Path: Received: from mails.dpdk.org (mails.dpdk.org [217.70.189.124]) by inbox.dpdk.org (Postfix) with ESMTP id 06C9048B3E for ; Tue, 18 Nov 2025 10:31:49 +0100 (CET) Received: from mails.dpdk.org (localhost [127.0.0.1]) by mails.dpdk.org (Postfix) with ESMTP id 01C7440150; Tue, 18 Nov 2025 10:31:49 +0100 (CET) Received: from mail-pj1-f98.google.com (mail-pj1-f98.google.com [209.85.216.98]) by mails.dpdk.org (Postfix) with ESMTP id 5A6F340150 for ; Tue, 18 Nov 2025 10:31:48 +0100 (CET) Received: by mail-pj1-f98.google.com with SMTP id 98e67ed59e1d1-343806688c5so5595941a91.0 for ; Tue, 18 Nov 2025 01:31:48 -0800 (PST) DKIM-Signature: v=1; a=rsa-sha256; c=relaxed/relaxed; d=iol.unh.edu; s=unh-iol; t=1763458307; x=1764063107; darn=dpdk.org; h=cc:to:from:subject:message-id:date:from:to:cc:subject:date :message-id:reply-to; bh=RSte1zYhxkStwqRsw2COXdJHzDZQ8FlCfmUR4Ej4bAM=; b=iaLn5LgdZg/M94Um/18Fe13x86WldoUR2UuRLy2ijoNiUOMUGyXXFpe0wNxrI1vVUF Q8AVa/ZNtNEP4zYqqwoxosjeFqK1DG4/05It3SoUSxiX2ABI/hnNGNliZrdqJ2AaPqCo 6vcMwKhSWEdVS0yU84peHd08SV0ZV1CmN6ULY= X-Google-DKIM-Signature: v=1; a=rsa-sha256; c=relaxed/relaxed; d=1e100.net; s=20230601; t=1763458307; x=1764063107; h=cc:to:from:subject:message-id:date:x-gm-gg:x-gm-message-state:from :to:cc:subject:date:message-id:reply-to; bh=RSte1zYhxkStwqRsw2COXdJHzDZQ8FlCfmUR4Ej4bAM=; b=JbmCTT3cTu1+UeJTdqf/gERpOpWApX5L6CI5l8LyNHVVVcHhk9UhkH9U6xX2so55u6 l3jdPzq00fR4+YPY7cGCPhwgrBybqcLqNsJ+WIGpP6k/SzOsBG05ksK5CMJKg6qFI/mb 7b0nBJ8P8807fDmsWyaJE4PDXofsF8IveZyHnBxTOok8DjDMNrweUccoYI3oo+QIF8Ld hfgJKheEmJF1Opj365ViHHBStqBcSp6J36MZWc0AS65+uVSIxg2g0Wc8bbuY0Jpq8mIj ixMCHTbof0IkHUfhwYR0x5Xkhs4zW/1/09pXUjNUT7BeiWiz3+8rbaqO9wK9UTXqTz+D O7bA== X-Gm-Message-State: AOJu0YwHOiauy/ucXjF6Tr6O05w4V5iyPRZR6bXDkoEiydm5z5YohYWW aO9cT8yTd3Jt8UcRAiXTGcWYbsn26qDanVhOpTkmLwTZQIj/aY0qg2M50L7/+WbHLZ8XjXdKWdB NTdpTLawVFgxwRG+ZcoL4KNR9y0jo32xzV1GGws9xNM4FeM6o/2de X-Gm-Gg: ASbGncvFUioE7PvXfeZA1UOj//PAZkZK1yN1e61B1jd/n2ppjwRO+94KlLbc5TpOLAK Xa/nLBZZxOQaeqnox2ExKXzCYccYDbKKUr8eqkcvWzPT3KsmxlrdnOAxk7Nr5izqKoF6sEXZUtU fvbCV+3qqY5BfnGXEkKaRsYuD900SMMpoX+TjvOg+Z18dg0IgryxG250aaKg1tnrWUnvKv1q6eu nuF7sL5r6/hoecxV6CP7m8PXvScZpmWUMCFhnVtViElXogez64Z31qyMLNzvF3Ku7XnRSByze4j PbwNFMqsKo6v9PpLjiF9d1vVHCkFrzTrJ64kvxjKIObLgctto5nSubvJPkOsxmZqs56jmKah69o /GiUslii6Q0zNT8TW76M= X-Google-Smtp-Source: AGHT+IHc7Hc9suEplK18srk42mJ5QeU7m0eu3+m0q+EF+sPhHbz7m/fmxvBZWXwgiu+vGftuHX+NsqTuFKMp X-Received: by 2002:a17:90b:4b8c:b0:340:c179:365a with SMTP id 98e67ed59e1d1-343f99c41c4mr16784558a91.0.1763458307388; Tue, 18 Nov 2025 01:31:47 -0800 (PST) Received: from postal.iol.unh.edu (postal.iol.unh.edu. [2606:4100:3880:1234::84]) by smtp-relay.gmail.com with ESMTPS id 98e67ed59e1d1-343ed555866sm1790227a91.3.2025.11.18.01.31.47 (version=TLS1_2 cipher=ECDHE-ECDSA-AES128-GCM-SHA256 bits=128/128); Tue, 18 Nov 2025 01:31:47 -0800 (PST) X-Relaying-Domain: iol.unh.edu Date: Tue, 18 Nov 2025 01:31:47 -0800 (PST) Message-ID: <691c3d03.170a0220.c8312.bf94SMTPIN_ADDED_MISSING@mx.google.com> Received: from [172.21.0.3] (unknown [172.18.0.240]) by postal.iol.unh.edu (Postfix) with ESMTP id 83F186051830; Tue, 18 Nov 2025 04:31:46 -0500 (EST) Subject: |SUCCESS| [GIT MASTER] 0bd935abcb823f581ce53986986aa54eaf6f8140 From: dpdklab@iol.unh.edu To: Test Report Cc: dpdk-test-reports@iol.unh.edu, Xueming Li , Christian Ehrhardt , Kevin Traynor , Luca Boccassi Content-Type: text/plain X-BeenThere: test-report@dpdk.org X-Mailman-Version: 2.1.29 Precedence: list List-Id: automatic DPDK test reports List-Unsubscribe: , List-Archive: List-Post: List-Help: List-Subscribe: , Errors-To: test-report-bounces@dpdk.org _Testing PASS_ Branch: tags/v24.11 0bd935abcb823f581ce53986986aa54eaf6f8140 --> testing pass Upstream job id: Generic-Unit-Test-DPDK#394081 Test environment and result as below: +------------------------------+----------------+--------------+------------------------------+---------------------------+ | Environment | dpdk_unit_test | lpm_autotest | cryptodev_sw_snow3g_autotest | cryptodev_sw_zuc_autotest | +==============================+================+==============+==============================+===========================+ | CentOS Stream 10 | PASS | SKIPPED | SKIPPED | SKIPPED | +------------------------------+----------------+--------------+------------------------------+---------------------------+ | Debian GNU/Linux 12 | PASS | SKIPPED | SKIPPED | SKIPPED | +------------------------------+----------------+--------------+------------------------------+---------------------------+ | CentOS Stream 9 | PASS | SKIPPED | SKIPPED | SKIPPED | +------------------------------+----------------+--------------+------------------------------+---------------------------+ | Fedora Linux 40 | PASS | SKIPPED | SKIPPED | SKIPPED | +------------------------------+----------------+--------------+------------------------------+---------------------------+ | Fedora Linux 41 | PASS | SKIPPED | SKIPPED | SKIPPED | +------------------------------+----------------+--------------+------------------------------+---------------------------+ | Ubuntu 22.04 | PASS | SKIPPED | SKIPPED | SKIPPED | +------------------------------+----------------+--------------+------------------------------+---------------------------+ | Ubuntu 20.04 | PASS | PASS | SKIPPED | SKIPPED | +------------------------------+----------------+--------------+------------------------------+---------------------------+ | Ubuntu 24.04 | PASS | SKIPPED | SKIPPED | SKIPPED | +------------------------------+----------------+--------------+------------------------------+---------------------------+ | Red Hat Enterprise Linux 9.5 | PASS | SKIPPED | SKIPPED | SKIPPED | +------------------------------+----------------+--------------+------------------------------+---------------------------+ | Fedora Linux 42 | PASS | SKIPPED | SKIPPED | SKIPPED | +------------------------------+----------------+--------------+------------------------------+---------------------------+ | Debian 12 (arm) | SKIPPED | SKIPPED | PASS | PASS | +------------------------------+----------------+--------------+------------------------------+---------------------------+ CentOS Stream 10 Kernel: 5.4 Compiler: gcc gcc (GCC) 14.2.1 20250110 (Red Hat 14.2.1-8) Debian GNU/Linux 12 Kernel: 5.4 Compiler: gcc gcc (Debian 12.2.0-14+deb12u1) 12.2.0 CentOS Stream 9 Kernel: 5.4 Compiler: gcc gcc (GCC) 11.5.0 20240719 (Red Hat 11.5.0-11) Fedora Linux 40 Kernel: 5.4 Compiler: gcc gcc (GCC) 14.2.1 20240912 (Red Hat 14.2.1-3) Fedora Linux 41 Kernel: 5.4 Compiler: clang gcc (GCC) 14.3.1 20250523 (Red Hat 14.3.1-1) Ubuntu 22.04 Kernel: 5.4 Compiler: gcc gcc (Ubuntu 11.4.0-1ubuntu1~22.04) 11.4.0 Ubuntu 20.04 Kernel: 5.4 Compiler: gcc gcc (Ubuntu 9.4.0-1ubuntu1~20.04.2) 9.4.0 Ubuntu 24.04 Kernel: 5.4 Compiler: gcc gcc (Ubuntu 13.3.0-6ubuntu2~24.04) 13.3.0 Red Hat Enterprise Linux 9.5 Kernel: 5.4 Compiler: gcc gcc (GCC) 11.5.0 20240719 (Red Hat 11.5.0-2) Fedora Linux 42 Kernel: 5.4 Compiler: clang gcc (GCC) 15.2.1 20250808 (Red Hat 15.2.1-1) Debian 12 (arm) Kernel: Depends on container host Compiler: gcc (Debian 12.2.0-14) 12.2.0 To view detailed results, visit: https://lab.dpdk.org/results/dashboard/tarballs/35644/ UNH-IOL DPDK Community Lab To manage your email subscriptions, visit: https://lab.dpdk.org/results/dashboard/preferences/subscriptions/