From mboxrd@z Thu Jan 1 00:00:00 1970 Return-Path: Received: from mails.dpdk.org (mails.dpdk.org [217.70.189.124]) by inbox.dpdk.org (Postfix) with ESMTP id 509D348B3E for ; Tue, 18 Nov 2025 10:59:28 +0100 (CET) Received: from mails.dpdk.org (localhost [127.0.0.1]) by mails.dpdk.org (Postfix) with ESMTP id 31E6B40150; Tue, 18 Nov 2025 10:59:28 +0100 (CET) Received: from mail-vk1-f228.google.com (mail-vk1-f228.google.com [209.85.221.228]) by mails.dpdk.org (Postfix) with ESMTP id 24CB240150 for ; Tue, 18 Nov 2025 10:59:27 +0100 (CET) Received: by mail-vk1-f228.google.com with SMTP id 71dfb90a1353d-55b2a09ff61so648261e0c.2 for ; Tue, 18 Nov 2025 01:59:27 -0800 (PST) DKIM-Signature: v=1; a=rsa-sha256; c=relaxed/relaxed; d=iol.unh.edu; s=unh-iol; t=1763459966; x=1764064766; darn=dpdk.org; h=cc:to:from:subject:message-id:date:from:to:cc:subject:date :message-id:reply-to; bh=aNHU1nTgDcM9ZPbVYolUT/E2vc78GtZWkDIWhmCntiI=; b=E8AlhDUi6AtA+AIAIYHlRrvJ5txxMiduZ+uAMFmyJoENkHbEPQ2NRtAejCwRMZIX4a lFKdKN1hUpozqLjeWPaS4KSjUOkVkQI3V9KeTXlXVD4iDMjN82bxL0UPIPsbRYYdNmC9 JQrT0XN4VQqb+RKitNaYJk04VPZVfLuIJBC9Q= X-Google-DKIM-Signature: v=1; a=rsa-sha256; c=relaxed/relaxed; d=1e100.net; s=20230601; t=1763459966; x=1764064766; h=cc:to:from:subject:message-id:date:x-gm-gg:x-gm-message-state:from :to:cc:subject:date:message-id:reply-to; bh=aNHU1nTgDcM9ZPbVYolUT/E2vc78GtZWkDIWhmCntiI=; b=kFaOvoqepzQwCIpcjzERkf2VfHkxreT9LonrVaTvp9x02Fg3ZGXuURS9E9GLJTQOl1 NR41jbqfIp1mYrY2WBIC44jIvzbxl7KVj6755QCRBQnYLZske2SxVMBH+WiOhlGYE17h NZ7EsX1Eq6IohGRSS77jaEf3DsdBcZ2f7y8xyEJ6KH+7P8FloseF99X+IpMdYct8EvIj R9+aWuJtCt8rwllEP7tN8d99KPw5kkFopEe/2dzY08Pk1I87twuVEGhPPYefraiFc6ci CwRWvZD+YjAKYD3jrqcPPIg4Mgmlhqsmag4FoYof+ZTHbOxKG15nb1uuQX/RTbdyZKsK Apfw== X-Gm-Message-State: AOJu0YyGIu+dlDXX2QBMrtEvzWpsfxRsgX4yfT19SaTsWuLxYlaSYwGq 1JPkbNWAwmMBnw2qwVTfVo7Yt6FBAHRxjIrv2w2FUHbs2qwxc1yBC+FgrVWxyE/fbWTJeqKIhp9 APc/1vYE4Iq0DPbNHHZtc3XwJtvvyFKPXikc3mXkeJ6a7fLSxD4wN X-Gm-Gg: ASbGncsyLy8p01IWpcJj2TMsnuQjHVtAESXUdApKuDXndTPxegwZvTy+6yz8oZ9yYjE 0dCxa3bu/nNi+yVNILT4MDmhL9MH8dUH4JU50nUA6NpqWD0L6Vp8mS+HeIaXoC8E/5krZoiA4SC u02O0mTfniy/UGGhdrQCRBXROkVcEjGNEdppeUPvhjOcxy6pWqTRTw7r8dv5ic9Fdl8qyPnSH40 Nq1Pkg1Ccpp375OpBT2iksfbSNpDa9QhdLWgzPWudaFzUTDiO95YoKnpRHWxj9o+T+MUxVsLSgF /IXU+bWdv0TcdadZuikPkbcbukgfXgw+Dq1KjC4ML/KEtbdCMKaVhrNYPMzorrrhlC+8coc8qFF I1Mrpq+GAzyce8xA/zGw= X-Google-Smtp-Source: AGHT+IE7XfqPK1k8rX86NWS8wK8gEg6wkr49SyrWCAAh53KyRtpAs7lUS9U+pnldQTlFlQmX19ai+iNjSdo+ X-Received: by 2002:a05:6122:3a17:b0:539:2a2c:6efe with SMTP id 71dfb90a1353d-55b1bdbd63fmr4551501e0c.4.1763459966342; Tue, 18 Nov 2025 01:59:26 -0800 (PST) Received: from postal.iol.unh.edu (postal.iol.unh.edu. [2606:4100:3880:1234::84]) by smtp-relay.gmail.com with ESMTPS id 71dfb90a1353d-55b0f430ea7sm1723111e0c.3.2025.11.18.01.59.26 (version=TLS1_2 cipher=ECDHE-ECDSA-AES128-GCM-SHA256 bits=128/128); Tue, 18 Nov 2025 01:59:26 -0800 (PST) X-Relaying-Domain: iol.unh.edu Date: Tue, 18 Nov 2025 01:59:26 -0800 (PST) Message-ID: <691c437e.050a0220.249538.64e5SMTPIN_ADDED_MISSING@mx.google.com> Received: from [172.21.0.3] (unknown [172.18.0.240]) by postal.iol.unh.edu (Postfix) with ESMTP id BA96160003F7; Tue, 18 Nov 2025 04:59:25 -0500 (EST) Subject: |SUCCESS| [GIT MASTER] 9784db2c5af1eecd02fc21132b59b5b266039b87 From: dpdklab@iol.unh.edu To: Test Report Cc: dpdk-test-reports@iol.unh.edu, Xueming Li , Christian Ehrhardt , Kevin Traynor , Luca Boccassi Content-Type: text/plain X-BeenThere: test-report@dpdk.org X-Mailman-Version: 2.1.29 Precedence: list List-Id: automatic DPDK test reports List-Unsubscribe: , List-Archive: List-Post: List-Help: List-Subscribe: , Errors-To: test-report-bounces@dpdk.org _Testing PASS_ Branch: tags/v22.11 9784db2c5af1eecd02fc21132b59b5b266039b87 --> testing pass Upstream job id: Generic-DPDK-Compile-Meson#445709 Test environment and result as below: +------------------------------+--------------------+ | Environment | dpdk_meson_compile | +==============================+====================+ | CentOS Stream 10 | PASS | +------------------------------+--------------------+ | Red Hat Enterprise Linux 9.5 | PASS | +------------------------------+--------------------+ | Ubuntu 24.04 | PASS | +------------------------------+--------------------+ | Fedora Linux 42 | PASS | +------------------------------+--------------------+ | Debian GNU/Linux 12 | PASS | +------------------------------+--------------------+ | Ubuntu 20.04 | PASS | +------------------------------+--------------------+ | CentOS Stream 9 | PASS | +------------------------------+--------------------+ | Ubuntu 22.04 | PASS | +------------------------------+--------------------+ CentOS Stream 10 Kernel: 5.4 Compiler: gcc gcc (GCC) 14.2.1 20250110 (Red Hat 14.2.1-8) Red Hat Enterprise Linux 9.5 Kernel: 5.4 Compiler: gcc gcc (GCC) 11.5.0 20240719 (Red Hat 11.5.0-2) Ubuntu 24.04 Kernel: 5.4 Compiler: gcc gcc (Ubuntu 13.3.0-6ubuntu2~24.04) 13.3.0 Fedora Linux 42 Kernel: 5.4 Compiler: clang gcc (GCC) 15.2.1 20250808 (Red Hat 15.2.1-1) Debian GNU/Linux 12 Kernel: 5.4 Compiler: gcc gcc (Debian 12.2.0-14+deb12u1) 12.2.0 Ubuntu 20.04 Kernel: 5.15 Compiler: aarch64-linux-gnu-gcc gcc (Ubuntu 9.4.0-1ubuntu1~20.04.2) 9.4.0 CentOS Stream 9 Kernel: 5.4 Compiler: gcc gcc (GCC) 11.5.0 20240719 (Red Hat 11.5.0-11) Ubuntu 22.04 Kernel: 5.4 Compiler: gcc gcc (Ubuntu 11.4.0-1ubuntu1~22.04) 11.4.0 To view detailed results, visit: https://lab.dpdk.org/results/dashboard/tarballs/35642/ UNH-IOL DPDK Community Lab To manage your email subscriptions, visit: https://lab.dpdk.org/results/dashboard/preferences/subscriptions/