From mboxrd@z Thu Jan 1 00:00:00 1970 Return-Path: Received: from mails.dpdk.org (mails.dpdk.org [217.70.189.124]) by inbox.dpdk.org (Postfix) with ESMTP id 9493948B42 for ; Tue, 18 Nov 2025 18:10:45 +0100 (CET) Received: from mails.dpdk.org (localhost [127.0.0.1]) by mails.dpdk.org (Postfix) with ESMTP id 900194027D; Tue, 18 Nov 2025 18:10:45 +0100 (CET) Received: from mail-pl1-f227.google.com (mail-pl1-f227.google.com [209.85.214.227]) by mails.dpdk.org (Postfix) with ESMTP id 9134D4027D for ; Tue, 18 Nov 2025 18:10:44 +0100 (CET) Received: by mail-pl1-f227.google.com with SMTP id d9443c01a7336-298039e00c2so72868045ad.3 for ; Tue, 18 Nov 2025 09:10:44 -0800 (PST) DKIM-Signature: v=1; a=rsa-sha256; c=relaxed/relaxed; d=iol.unh.edu; s=unh-iol; t=1763485844; x=1764090644; darn=dpdk.org; h=references:in-reply-to:cc:to:from:subject:message-id:date:from:to :cc:subject:date:message-id:reply-to; bh=aOZGd/adag2ghxHdxqaE66nc0WV2KTCOhD4lydAJ0lI=; b=bhqVpV8nvbRpwnijNoLwWvvmv8igSWQAmCabkNquQB6XWz3faVwBDvgx8W+VdAPfa4 Icle33es2v6LdFOfow9ED30EtvuqYaM/caNuM7BTVF0KwuImXMTV1gt3jH8JqaKhfVhf E3IEp0GVo3/i2GGEJhQp40+T33tU9hPROW0Ig= X-Google-DKIM-Signature: v=1; a=rsa-sha256; c=relaxed/relaxed; d=1e100.net; s=20230601; t=1763485844; x=1764090644; h=references:in-reply-to:cc:to:from:subject:message-id:date:x-gm-gg :x-gm-message-state:from:to:cc:subject:date:message-id:reply-to; bh=aOZGd/adag2ghxHdxqaE66nc0WV2KTCOhD4lydAJ0lI=; b=lMs+omIIESjw7DoIhh548ke/6P4Xq/f6X9fFa5AJc47RW+lNc765K2Owegsl5PyRRg qnlqjkfRwAUM9+/9LMJdWLsCf+CYQLH/r/g5zDGBuPnMKDLQGtsH4qgqE4nLBUVQe6kA un6axJ+4g+BFBAR80dlD2fCD8s3D5NDMF6+4L/EcV0NxIpAG/Kfng+ByWLyzsg6GDChJ dsm61FUDvGbOIJCkfyHg3I17U16R6GZrMbVKRHmIIg6YNmVhvpvqXcqewq1kdOEuRUxt KWe1rwlHuAYwiJkpAYZTTmg2whlFyY4eXPb4jy3/0ezg6jm+YA7ObSt1pPC8+O4hw+BR /EOw== X-Gm-Message-State: AOJu0YzxSw9S2hLVl+AVt1WnWiveBX8X5Bs1siLRArvEPbCo68uKvYdm qP5ZhOGWBfDc9IxCQGtzhjDEoEj5ve9f+1DIpHGHrRm7XEeZ/XknXyktcggSj7i7mOs2A4aNIRw yNdvcfw3lMI7f49FFnZT8Q4o5wDbT69ebEaUdCCclVvWQ X-Gm-Gg: ASbGncuA6T9gUJDo+BcF5ZeDSoraAuxOp+oIQRvpPF/sL4pZ9yBskP0eomElMAKPh2v 2SWyWffvjm5cL7lMGnRlfG1dT4rgb0aR5pTuoTltPo73TZPFKYhs8EtmAIg2pjMiiCMis4MUef8 d8Fxo/RJz9ENopZJexkQ+r5OtbOWjUWg4JuuYaSch7xnNCOKyq2nmc8o0V4cJZpUynZ9engbiCr kPl37VHgk7I89s8U/6S0gwDwviQAl/zmpLO2jIS8DCZFm3G6u1PasITeqopLoyCAouk4HrZs0K0 nMQoFOfmDy41Ui14JS4uFxfKWTgwzVzWWjzvma8fyfrjkX1a8nsGr0md8lpPQudg8wzWon6S18n QJdU8g6/C41Rx2asjH37Z0Z8A5krK7fzMuEbJExg9eg== X-Google-Smtp-Source: AGHT+IE0+XTJpDE+Mtiup8dPqfrbIpqGA9J8Jp2FZhelsnupOlGYQ95Lu8msdZFamomKhgu7kUpkHjYCybQ4 X-Received: by 2002:a17:902:e947:b0:297:d939:393b with SMTP id d9443c01a7336-2986a770b2bmr173809115ad.58.1763485843699; Tue, 18 Nov 2025 09:10:43 -0800 (PST) Received: from postal.iol.unh.edu (postal.iol.unh.edu. [132.177.123.84]) by smtp-relay.gmail.com with ESMTPS id d9443c01a7336-2985c245e10sm19172775ad.20.2025.11.18.09.10.43 (version=TLS1_2 cipher=ECDHE-ECDSA-AES128-GCM-SHA256 bits=128/128); Tue, 18 Nov 2025 09:10:43 -0800 (PST) X-Relaying-Domain: iol.unh.edu Date: Tue, 18 Nov 2025 09:10:43 -0800 (PST) Message-ID: <691ca893.170a0220.31ee86.2295SMTPIN_ADDED_MISSING@mx.google.com> Received: from [172.21.0.4] (unknown [172.18.0.240]) by postal.iol.unh.edu (Postfix) with ESMTP id 1B3CD6050A61; Tue, 18 Nov 2025 12:10:43 -0500 (EST) Subject: |SUCCESS| pw158867 [PATCH] app/testpmd: fix flow queue job leaks From: dpdklab@iol.unh.edu To: Test Report Cc: dpdk-test-reports@iol.unh.edu, Stephen Hemminger In-Reply-To: <20251118104518.1714166-1-dsosnowski@nvidia.com> References: <20251118104518.1714166-1-dsosnowski@nvidia.com> Content-Type: text/plain X-BeenThere: test-report@dpdk.org X-Mailman-Version: 2.1.29 Precedence: list List-Id: automatic DPDK test reports List-Unsubscribe: , List-Archive: List-Post: List-Help: List-Subscribe: , Errors-To: test-report-bounces@dpdk.org Test-Label: iol-unit-arm64-testing Test-Status: SUCCESS http://dpdk.org/patch/158867 _Testing PASS_ Submitter: Dariusz Sosnowski Date: Tuesday, November 18 2025 10:45:18 DPDK git baseline: Repo:dpdk-next-net Branch: master CommitID:37c1fb70b39c3a2dea6f7a80187e57b03460a365 158867 --> testing pass Upstream job id: Generic-Unit-Test-DPDK#394151 Test environment and result as below: +------------------------------+----------------+--------------+------------------------------+---------------------------+ | Environment | dpdk_unit_test | lpm_autotest | cryptodev_sw_snow3g_autotest | cryptodev_sw_zuc_autotest | +==============================+================+==============+==============================+===========================+ | Debian GNU/Linux 12 | PASS | SKIPPED | SKIPPED | SKIPPED | +------------------------------+----------------+--------------+------------------------------+---------------------------+ | CentOS Stream 10 | PASS | SKIPPED | SKIPPED | SKIPPED | +------------------------------+----------------+--------------+------------------------------+---------------------------+ | Fedora Linux 42 | PASS | SKIPPED | SKIPPED | SKIPPED | +------------------------------+----------------+--------------+------------------------------+---------------------------+ | Red Hat Enterprise Linux 9.5 | PASS | SKIPPED | SKIPPED | SKIPPED | +------------------------------+----------------+--------------+------------------------------+---------------------------+ | Fedora Linux 41 | PASS | SKIPPED | SKIPPED | SKIPPED | +------------------------------+----------------+--------------+------------------------------+---------------------------+ | Ubuntu 22.04 | PASS | SKIPPED | SKIPPED | SKIPPED | +------------------------------+----------------+--------------+------------------------------+---------------------------+ | CentOS Stream 9 | PASS | SKIPPED | SKIPPED | SKIPPED | +------------------------------+----------------+--------------+------------------------------+---------------------------+ | Ubuntu 24.04 | PASS | SKIPPED | SKIPPED | SKIPPED | +------------------------------+----------------+--------------+------------------------------+---------------------------+ | Fedora Linux 40 | PASS | SKIPPED | SKIPPED | SKIPPED | +------------------------------+----------------+--------------+------------------------------+---------------------------+ | Ubuntu 20.04 | PASS | PASS | SKIPPED | SKIPPED | +------------------------------+----------------+--------------+------------------------------+---------------------------+ | Debian 12 (arm) | SKIPPED | SKIPPED | PASS | PASS | +------------------------------+----------------+--------------+------------------------------+---------------------------+ Debian GNU/Linux 12 Kernel: 5.4 Compiler: gcc gcc (Debian 12.2.0-14+deb12u1) 12.2.0 CentOS Stream 10 Kernel: 5.4 Compiler: gcc gcc (GCC) 14.2.1 20250110 (Red Hat 14.2.1-8) Fedora Linux 42 Kernel: 5.4 Compiler: gcc gcc (GCC) 15.2.1 20250808 (Red Hat 15.2.1-1) Red Hat Enterprise Linux 9.5 Kernel: 5.4 Compiler: gcc gcc (GCC) 11.5.0 20240719 (Red Hat 11.5.0-2) Fedora Linux 41 Kernel: 5.4 Compiler: gcc gcc (GCC) 14.3.1 20250523 (Red Hat 14.3.1-1) Ubuntu 22.04 Kernel: 5.4 Compiler: gcc gcc (Ubuntu 11.4.0-1ubuntu1~22.04) 11.4.0 CentOS Stream 9 Kernel: 5.4 Compiler: gcc gcc (GCC) 11.5.0 20240719 (Red Hat 11.5.0-11) Ubuntu 24.04 Kernel: 5.4 Compiler: gcc gcc (Ubuntu 13.3.0-6ubuntu2~24.04) 13.3.0 Fedora Linux 40 Kernel: 5.4 Compiler: gcc gcc (GCC) 14.2.1 20240912 (Red Hat 14.2.1-3) Ubuntu 20.04 Kernel: 5.4 Compiler: gcc gcc (Ubuntu 9.4.0-1ubuntu1~20.04.2) 9.4.0 Debian 12 (arm) Kernel: Depends on container host Compiler: gcc (Debian 12.2.0-14) 12.2.0 To view detailed results, visit: https://lab.dpdk.org/results/dashboard/patchsets/34630/ UNH-IOL DPDK Community Lab To manage your email subscriptions, visit: https://lab.dpdk.org/results/dashboard/preferences/subscriptions/