From mboxrd@z Thu Jan 1 00:00:00 1970 Return-Path: Received: from mails.dpdk.org (mails.dpdk.org [217.70.189.124]) by inbox.dpdk.org (Postfix) with ESMTP id AA9EE48B42 for ; Tue, 18 Nov 2025 19:43:45 +0100 (CET) Received: from mails.dpdk.org (localhost [127.0.0.1]) by mails.dpdk.org (Postfix) with ESMTP id 8329C4027A; Tue, 18 Nov 2025 19:43:45 +0100 (CET) Received: from mail-pf1-f228.google.com (mail-pf1-f228.google.com [209.85.210.228]) by mails.dpdk.org (Postfix) with ESMTP id 71FE74027A for ; Tue, 18 Nov 2025 19:43:44 +0100 (CET) Received: by mail-pf1-f228.google.com with SMTP id d2e1a72fcca58-7bc0cd6a13aso116049b3a.0 for ; Tue, 18 Nov 2025 10:43:44 -0800 (PST) DKIM-Signature: v=1; a=rsa-sha256; c=relaxed/relaxed; d=iol.unh.edu; s=unh-iol; t=1763491423; x=1764096223; darn=dpdk.org; h=references:in-reply-to:cc:to:from:subject:message-id:date:from:to :cc:subject:date:message-id:reply-to; bh=YNrdsrnqBiKVEOM73j2HpJKm0/0qSViiwIqrLHQyHM4=; b=cXkhUbAX1naCAKyHMyAbbsVfLJyx2owYUX1vRFgi0e7LmPIG7p5Mdv1t674Vqgb7es cJAFVTK7Jz+GlfUkgEVeG5hKK9FyyLzHq7XimsqBpB583YqunOxBpmaMdcjoIm2nPRGQ IOLVWM0q+5S7a4rmcNy9QcQGRdwi8YWzTwkHk= X-Google-DKIM-Signature: v=1; a=rsa-sha256; c=relaxed/relaxed; d=1e100.net; s=20230601; t=1763491423; x=1764096223; h=references:in-reply-to:cc:to:from:subject:message-id:date:x-gm-gg :x-gm-message-state:from:to:cc:subject:date:message-id:reply-to; bh=YNrdsrnqBiKVEOM73j2HpJKm0/0qSViiwIqrLHQyHM4=; b=njcSGbSWG4Fi1bGaW3TMNjwnFaroupYf3gukpI46IZUfUfikDGJONGtL2Qv69az8tZ kGIp4mgoboJIxS68eXRp9vUBtJZd30N86P+EXHXU48kVxUY7j41Cafhp7tvkxOvNQXCt zTNlQAgyZhvtCbvVK1mh/IPZNCT0k6/J0ZpK4IOOWHUEFDsWCqq4OAPK2xylQ/kDyDS2 pW6wuB2UqA829i8jc72t3E8BjaM/2AZYkYZsj4PBOhuHOjlDlQLHLuinzJuTpWqNGqDZ O/Jigud5+LyfyEq/ynfrtrPWFRnw9iXbEb8MmeegJSEgozI/cvqw2GZWn698xkh8rkar 3Nkg== X-Gm-Message-State: AOJu0Yxrw78lqGGe3moC6AnHnEQMl2bfxqZDSWTip2VdNLwAklAl0W46 372QTYuyKpgZa3TvmqgB+1OJ3Cl2sqLNflNW3jL5WiCOcipBWZJ7reLAiOPnx56wpdtCXTOFU5h fgDAGupeWSi2HWMMZLCoyghtvOkLvLQodryNqR+T9K9XM X-Gm-Gg: ASbGncs5l0CkLhLuAk2aecf/EgGMgjH387+YhKIIai4+5GovBpip8JfTrqyBk3rZgwQ og59fCbndESqFfbocvd1neKwpWEbiicwAGYRUR3Pq16tlNnNq0auvARQggb+PAXcjoiPy2fHulQ kUsAPed+sH3aJbaEmX5o7RaUym4xdzq3Ejnt3xvNY0HTMPjDUUejTfiXngvvy+hxggVSuXa2taC VyqR9YEM/pQLTNmR5Uu+HQWkDiLiUybarFvlYtWRkfcFUgoxgiElrCA6hpD/JDB4lpVPcKlmlr+ cgg1GbtmoezbHHKh+VQDDHAYg+fEy/JgysdayStWezyYoM+R32Z3ohFmp3I6okjQdbjmqdGhY3I N90ECgSrcGz2zq7ZebktyoiaMasIFEwiaQAM5eBSRQw== X-Google-Smtp-Source: AGHT+IEpnAHdqQYMdWHhCadpv37xkkM8tKZ7rMGLVYZmOgbvI786JDsxRGZ0uzB9bOAoVLXblrSRUiUk+C+S X-Received: by 2002:a05:6a20:9185:b0:35e:b02b:4efd with SMTP id adf61e73a8af0-3612b2654ebmr531590637.27.1763491423518; Tue, 18 Nov 2025 10:43:43 -0800 (PST) Received: from postal.iol.unh.edu (postal.iol.unh.edu. [132.177.123.84]) by smtp-relay.gmail.com with ESMTPS id 41be03b00d2f7-bc36de0a080sm1008626a12.3.2025.11.18.10.43.43 (version=TLS1_2 cipher=ECDHE-ECDSA-AES128-GCM-SHA256 bits=128/128); Tue, 18 Nov 2025 10:43:43 -0800 (PST) X-Relaying-Domain: iol.unh.edu Date: Tue, 18 Nov 2025 10:43:43 -0800 (PST) Message-ID: <691cbe5f.050a0220.17018.4097SMTPIN_ADDED_MISSING@mx.google.com> Received: from [172.21.0.2] (unknown [172.18.0.240]) by postal.iol.unh.edu (Postfix) with ESMTP id C238F604D420; Tue, 18 Nov 2025 13:43:42 -0500 (EST) Subject: |SUCCESS| pw158867 [PATCH] app/testpmd: fix flow queue job leaks From: dpdklab@iol.unh.edu To: Test Report Cc: dpdk-test-reports@iol.unh.edu, Stephen Hemminger In-Reply-To: <20251118104518.1714166-1-dsosnowski@nvidia.com> References: <20251118104518.1714166-1-dsosnowski@nvidia.com> Content-Type: text/plain X-BeenThere: test-report@dpdk.org X-Mailman-Version: 2.1.29 Precedence: list List-Id: automatic DPDK test reports List-Unsubscribe: , List-Archive: List-Post: List-Help: List-Subscribe: , Errors-To: test-report-bounces@dpdk.org Test-Label: iol-compile-arm64-testing Test-Status: SUCCESS http://dpdk.org/patch/158867 _Testing PASS_ Submitter: Dariusz Sosnowski Date: Tuesday, November 18 2025 10:45:18 DPDK git baseline: Repo:dpdk-next-net Branch: master CommitID:37c1fb70b39c3a2dea6f7a80187e57b03460a365 158867 --> testing pass Upstream job id: Generic-DPDK-Compile-Meson#445822 Test environment and result as below: +------------------------------+--------------------+ | Environment | dpdk_meson_compile | +==============================+====================+ | Ubuntu 20.04 | PASS | +------------------------------+--------------------+ | Debian GNU/Linux 12 | PASS | +------------------------------+--------------------+ | Red Hat Enterprise Linux 9.5 | PASS | +------------------------------+--------------------+ | Fedora Linux 42 | PASS | +------------------------------+--------------------+ | CentOS Stream 9 | PASS | +------------------------------+--------------------+ | Ubuntu 22.04 | PASS | +------------------------------+--------------------+ | Ubuntu 24.04 | PASS | +------------------------------+--------------------+ | CentOS Stream 10 | PASS | +------------------------------+--------------------+ Ubuntu 20.04 Kernel: 5.15 Compiler: aarch64-linux-gnu-gcc gcc (Ubuntu 9.4.0-1ubuntu1~20.04.2) 9.4.0 Debian GNU/Linux 12 Kernel: 5.4 Compiler: gcc gcc (Debian 12.2.0-14+deb12u1) 12.2.0 Red Hat Enterprise Linux 9.5 Kernel: 5.4 Compiler: gcc gcc (GCC) 11.5.0 20240719 (Red Hat 11.5.0-2) Fedora Linux 42 Kernel: 5.4 Compiler: gcc gcc (GCC) 15.2.1 20250808 (Red Hat 15.2.1-1) CentOS Stream 9 Kernel: 5.4 Compiler: gcc gcc (GCC) 11.5.0 20240719 (Red Hat 11.5.0-11) Ubuntu 22.04 Kernel: 5.4 Compiler: gcc gcc (Ubuntu 11.4.0-1ubuntu1~22.04) 11.4.0 Ubuntu 24.04 Kernel: 5.4 Compiler: gcc gcc (Ubuntu 13.3.0-6ubuntu2~24.04) 13.3.0 CentOS Stream 10 Kernel: 5.4 Compiler: gcc gcc (GCC) 14.2.1 20250110 (Red Hat 14.2.1-8) To view detailed results, visit: https://lab.dpdk.org/results/dashboard/patchsets/34630/ UNH-IOL DPDK Community Lab To manage your email subscriptions, visit: https://lab.dpdk.org/results/dashboard/preferences/subscriptions/