From mboxrd@z Thu Jan 1 00:00:00 1970 Return-Path: Received: from mails.dpdk.org (mails.dpdk.org [217.70.189.124]) by inbox.dpdk.org (Postfix) with ESMTP id 06BDA48B47 for ; Wed, 19 Nov 2025 07:18:48 +0100 (CET) Received: from mails.dpdk.org (localhost [127.0.0.1]) by mails.dpdk.org (Postfix) with ESMTP id D895840265; Wed, 19 Nov 2025 07:18:47 +0100 (CET) Received: from mail-oo1-f100.google.com (mail-oo1-f100.google.com [209.85.161.100]) by mails.dpdk.org (Postfix) with ESMTP id A0A5B40265 for ; Wed, 19 Nov 2025 07:18:46 +0100 (CET) Received: by mail-oo1-f100.google.com with SMTP id 006d021491bc7-656b8ca52e8so2703860eaf.3 for ; Tue, 18 Nov 2025 22:18:46 -0800 (PST) DKIM-Signature: v=1; a=rsa-sha256; c=relaxed/relaxed; d=iol.unh.edu; s=unh-iol; t=1763533125; x=1764137925; darn=dpdk.org; h=cc:to:from:subject:message-id:date:from:to:cc:subject:date :message-id:reply-to; bh=JDsAl5QVDkGsr9f4pULBZXTUCqHttWBxD1qHlrhq5Ok=; b=RyPQjmZtU+oxidNZFA4rZJUH1vYRs1ZufYIvK5/kr/4oeTkcqLQ+dJ9jwEm2mN/e0S jrUGEpNjTXyHsdoRCH76t8wKtmHRmSNkRL1hL5B55dFa9z2NMvP8HefRj3wI61bYGPMF NHtrdOPPd37x9RA1sy2pthMxQgosYyzJvKZMU= X-Google-DKIM-Signature: v=1; a=rsa-sha256; c=relaxed/relaxed; d=1e100.net; s=20230601; t=1763533125; x=1764137925; h=cc:to:from:subject:message-id:date:x-gm-gg:x-gm-message-state:from :to:cc:subject:date:message-id:reply-to; bh=JDsAl5QVDkGsr9f4pULBZXTUCqHttWBxD1qHlrhq5Ok=; b=SfE3xHELLlR4j4WgBWhCdkA5VVtHGEc2EddH/pURtwyPaTX1Gxf4Yeppi0gcnHlEjx mMfiaNGyrNekXFarG5tuhE3tHY29k4yfKGxjnBt8lCGBLsEyU1ygUonpFBAeYndR/Mbk BWFon68zO8/PxjPxwwF34j3sSzY1qe0mYql5kKPVGrlAXftD2kzruYLOreCKad6L3YuD sk7BkDJOsv5Olag/FMzUi6VuUbpBXo9eO2Yv0O4GAuAb1j+zmkwHQPo2wQ/PFBCbRe4k b+h2DSJ9vzjPzAWwtfvQvfWZdwqocd03iKLTarXxiJImKSWyM514P0+ig4+D97w4KtiW hDgQ== X-Gm-Message-State: AOJu0Yyy7fplEJFwNHZpZ1N4bZcBkbTXarg/3ve09O6TWdvefES/4lPg fvqiynF3bGYbfnLtnenjxuzuTnhMn6aUrnm5BiXklUZc2CcVgu8N44J8QfLimLbEwWGcedtk+oF 2rpI+Pyji9zilcpNE0d9L7xZ5I5JR9mJfGbhJ X-Gm-Gg: ASbGnctVuFwd8P32EzyJuvvmG2MjQoDkFFgxKbM+V/rCcsZnn65lWc9rhSPl6Esmqqz ilUXg3jTVT1wSUkmPbXhJ4BBZIzcUVOYwuTRmT/z+YYRjCU4BKeyZdSdRrIvgUp1+IIDoXNEbbn zq4ysTwvAbe+W5iOZzcFB0upwAezIM3tfujHgbtyexrwcn/kICOXRKZsVbS4JRcHq7YwjIaF0TJ cgb8jilEGuTAkDKYmlTsnIjERyukmZ1nZmOBu+EK212Xqh46lrgMxO6zR1o8REuyOMmqE/R49b5 aUUbatNxJk3ixg9JvctZoRrT1Rky/xk8oSMYcE16Z/m5D+4AO/o74niWHXmzsc4xdNwmOZfzxD6 OM7T26kZsKLayBESiYzysfksayA2SEO9ZiYg5hHs7xA== X-Google-Smtp-Source: AGHT+IFYZPpE/amVzZWVZTlkyCgwhbjstrlD2HanCqX+JrkVQRULpaohz+kCR87Hok14xzVc/CSo4LRsSc0I X-Received: by 2002:a05:6870:a108:b0:3e0:fd27:2623 with SMTP id 586e51a60fabf-3e868e2f270mr10294976fac.4.1763533125516; Tue, 18 Nov 2025 22:18:45 -0800 (PST) Received: from postal.iol.unh.edu (postal.iol.unh.edu. [132.177.123.84]) by smtp-relay.gmail.com with ESMTPS id 586e51a60fabf-3ec48dcb934sm654905fac.15.2025.11.18.22.18.45 (version=TLS1_2 cipher=ECDHE-ECDSA-AES128-GCM-SHA256 bits=128/128); Tue, 18 Nov 2025 22:18:45 -0800 (PST) X-Relaying-Domain: iol.unh.edu Date: Tue, 18 Nov 2025 22:18:45 -0800 (PST) Message-ID: <691d6145.050a0220.56b6e.1ccbSMTPIN_ADDED_MISSING@mx.google.com> Received: from [172.21.0.4] (unknown [172.18.0.240]) by postal.iol.unh.edu (Postfix) with ESMTP id 01F2F6051830; Wed, 19 Nov 2025 01:18:44 -0500 (EST) Subject: |SUCCESS| [GIT MASTER] 0bd935abcb823f581ce53986986aa54eaf6f8140 From: dpdklab@iol.unh.edu To: Test Report Cc: dpdk-test-reports@iol.unh.edu, Xueming Li , Kevin Traynor , Luca Boccassi Content-Type: text/plain X-BeenThere: test-report@dpdk.org X-Mailman-Version: 2.1.29 Precedence: list List-Id: automatic DPDK test reports List-Unsubscribe: , List-Archive: List-Post: List-Help: List-Subscribe: , Errors-To: test-report-bounces@dpdk.org _Testing PASS_ Branch: tags/v24.11 0bd935abcb823f581ce53986986aa54eaf6f8140 --> testing pass Upstream job id: Generic-Unit-Test-DPDK#394249 Test environment and result as below: +-------------------------------+----------------+ | Environment | dpdk_unit_test | +===============================+================+ | Fedora Linux 41 | PASS | +-------------------------------+----------------+ | Red Hat Enterprise Linux 8.10 | PASS | +-------------------------------+----------------+ | Ubuntu 24.04 | PASS | +-------------------------------+----------------+ | CentOS Stream 9 | PASS | +-------------------------------+----------------+ | Debian GNU/Linux 12 | PASS | +-------------------------------+----------------+ | Fedora Linux 40 | PASS | +-------------------------------+----------------+ | CentOS Stream 10 | PASS | +-------------------------------+----------------+ | Fedora Linux 42 | PASS | +-------------------------------+----------------+ | Red Hat Enterprise Linux 9.5 | PASS | +-------------------------------+----------------+ | Ubuntu 22.04 | PASS | +-------------------------------+----------------+ | Ubuntu 20.04 | PASS | +-------------------------------+----------------+ | Windows Server 2022 | PASS | +-------------------------------+----------------+ Fedora Linux 41 Kernel: 5.15 Compiler: clang gcc (GCC) 14.3.1 20250523 (Red Hat 14.3.1-1) Red Hat Enterprise Linux 8.10 Kernel: 5.15 Compiler: gcc gcc (GCC) 8.5.0 20210514 (Red Hat 8.5.0-22) Ubuntu 24.04 Kernel: 5.15 Compiler: gcc gcc (Ubuntu 13.3.0-6ubuntu2~24.04) 13.3.0 CentOS Stream 9 Kernel: 5.15 Compiler: gcc gcc (GCC) 11.5.0 20240719 (Red Hat 11.5.0-11) Debian GNU/Linux 12 Kernel: 5.15 Compiler: gcc gcc (Debian 12.2.0-14+deb12u1) 12.2.0 Fedora Linux 40 Kernel: 5.15 Compiler: gcc gcc (GCC) 14.2.1 20240912 (Red Hat 14.2.1-3) CentOS Stream 10 Kernel: 5.15 Compiler: gcc gcc (GCC) 14.2.1 20250110 (Red Hat 14.2.1-8) Fedora Linux 42 Kernel: 5.15 Compiler: clang gcc (GCC) 15.2.1 20250808 (Red Hat 15.2.1-1) Red Hat Enterprise Linux 9.5 Kernel: 5.15 Compiler: gcc gcc (GCC) 11.5.0 20240719 (Red Hat 11.5.0-2) Ubuntu 22.04 Kernel: 5.15 Compiler: gcc gcc (Ubuntu 11.4.0-1ubuntu1~22.04) 11.4.0 Ubuntu 20.04 Kernel: 5.15 Compiler: gcc gcc (Ubuntu 9.4.0-1ubuntu1~20.04.2) 9.4.0 Windows Server 2022 Kernel: 10.0.20348.2031 Compiler: clang 15.0.7, gcc 14.1.0 (MinGW), and MSVC VS 19.39.33521 To view detailed results, visit: https://lab.dpdk.org/results/dashboard/tarballs/35651/ UNH-IOL DPDK Community Lab To manage your email subscriptions, visit: https://lab.dpdk.org/results/dashboard/preferences/subscriptions/