From mboxrd@z Thu Jan 1 00:00:00 1970 Return-Path: Received: from mails.dpdk.org (mails.dpdk.org [217.70.189.124]) by inbox.dpdk.org (Postfix) with ESMTP id EC4BE48B47 for ; Wed, 19 Nov 2025 07:19:01 +0100 (CET) Received: from mails.dpdk.org (localhost [127.0.0.1]) by mails.dpdk.org (Postfix) with ESMTP id E8AB640265; Wed, 19 Nov 2025 07:19:01 +0100 (CET) Received: from mail-qt1-f225.google.com (mail-qt1-f225.google.com [209.85.160.225]) by mails.dpdk.org (Postfix) with ESMTP id 9DA8E40265 for ; Wed, 19 Nov 2025 07:19:00 +0100 (CET) Received: by mail-qt1-f225.google.com with SMTP id d75a77b69052e-4ee14ba3d9cso34016391cf.1 for ; Tue, 18 Nov 2025 22:19:00 -0800 (PST) DKIM-Signature: v=1; a=rsa-sha256; c=relaxed/relaxed; d=iol.unh.edu; s=unh-iol; t=1763533140; x=1764137940; darn=dpdk.org; h=cc:to:from:subject:message-id:date:from:to:cc:subject:date :message-id:reply-to; bh=80MY+kXRa9CAoZJQU+D9wJ2nJl55Jj17lTSG8P/a0Yk=; b=HPWRYjkje+jas4kLqwLDSTrGDbJixwUcZXR0gFhZW2lp9Ht1c12fULI/Jc0c5Of5Lg zC5ZxyJKsxScH0H3aozFXnT9lWTxEiQY8ndxgDoK6c4IHhK2GUWI7UjyM85cjPzTiDGC ayaZ4GbgCraR3CCazzVf4naPoTfTxp8pyCvdw= X-Google-DKIM-Signature: v=1; a=rsa-sha256; c=relaxed/relaxed; d=1e100.net; s=20230601; t=1763533140; x=1764137940; h=cc:to:from:subject:message-id:date:x-gm-gg:x-gm-message-state:from :to:cc:subject:date:message-id:reply-to; bh=80MY+kXRa9CAoZJQU+D9wJ2nJl55Jj17lTSG8P/a0Yk=; b=wI1TvKSl3oMV/k/M44M+9yAuFkCTBeqWEMTYH/JVoQnC9JYk1Aii2CMG68RFVYR9re 8mRnQcOz5pW28FzqvjaOAsBrJANjtPsP9JnjQ3TE7UVlTgYnBtetoB55tpAgjhCRbvUi 2nBZNUEHEE9v3uprlyN29huJPsXh3Lj81wfXQQmP+btW52DYM64y7VYXsGKZJX2Gflm2 ln6GTYI8Jc2SxkZWe/Fe+F7erqWNd8dx5EN5sWEsIbTltzaInIeiT4uTJzg7GKJJxnXY Mt+4ac8GRlxbF+2tiLSsp2JUDTG2xFMrEJO94X1U0mQDJsRjslaQ9zfNx4IqdLMR1Ug1 sKsw== X-Gm-Message-State: AOJu0YwgOC/CDtSRdhUXHYGeZWQBd5xgw/ijvoFCojFHT6j01Hv27Zhr v4Lm4pmkdazzp8KjXYlcMwQrEyQ6jmDLMYWyO1nTMuYRw3XY4ejh75NEUsHR+rJscLuFmOsnij4 UOe2a73U4wGcnaL2Oj3vyFednUhrB/+z/df8G X-Gm-Gg: ASbGncs/Wg+ib9P7cTRYsz/bt9LiG0/toKvqUi96Z1eX1GT2JLO/34hxnSCnm+CTrc2 iGXlu1twGhc/9DfeoYSxe33zef3cJy0euTnj1qYiAQxdwcuZvkXk/4K7S6qvHKowd9VgcO3md1L 5OIDIVJr+PtB25J6Ju7s9CV9+5STkMXl/p186qMfmSjPhvR5F+v++19O2XWghMCOnpF8u/+1Anc NqaZLqDAkkmfRntdtyczfOr2d34xv7oKve5VExmudIQdUWTYm4iMKslv80xl8xhnMhhWFaSfpse 2Ju1TbCNfYMQXl4d6P2GgdAK1vmIujzzunKe5JUhJHtSAcQ8TbrHTM9sjoN7gqqc0OacVVkLXE7 xRnU6O3070SV/q/QqADrIReTu0nxoF4RkrkQr38ACKw== X-Google-Smtp-Source: AGHT+IEEeY9YnouN12dQRakCWovPoEFT632SrTGJ5QJS1xzVQUWa5jP87BSeF3sYC2wrSWGe/f332bdaxGAM X-Received: by 2002:a05:622a:c6:b0:4ec:f56c:afa5 with SMTP id d75a77b69052e-4edf2068af0mr272782021cf.22.1763533139997; Tue, 18 Nov 2025 22:18:59 -0800 (PST) Received: from postal.iol.unh.edu (postal.iol.unh.edu. [132.177.123.84]) by smtp-relay.gmail.com with ESMTPS id d75a77b69052e-4ede85a1bd5sm11189101cf.0.2025.11.18.22.18.59 (version=TLS1_2 cipher=ECDHE-ECDSA-AES128-GCM-SHA256 bits=128/128); Tue, 18 Nov 2025 22:18:59 -0800 (PST) X-Relaying-Domain: iol.unh.edu Date: Tue, 18 Nov 2025 22:18:59 -0800 (PST) Message-ID: <691d6153.c80a0220.85494.9c8bSMTPIN_ADDED_MISSING@mx.google.com> Received: from [172.21.0.3] (unknown [172.18.0.240]) by postal.iol.unh.edu (Postfix) with ESMTP id AF8C46051830; Wed, 19 Nov 2025 01:18:59 -0500 (EST) Subject: |SUCCESS| [GIT MASTER] 0bd935abcb823f581ce53986986aa54eaf6f8140 From: dpdklab@iol.unh.edu To: Test Report Cc: dpdk-test-reports@iol.unh.edu, Xueming Li , Kevin Traynor , Luca Boccassi Content-Type: text/plain X-BeenThere: test-report@dpdk.org X-Mailman-Version: 2.1.29 Precedence: list List-Id: automatic DPDK test reports List-Unsubscribe: , List-Archive: List-Post: List-Help: List-Subscribe: , Errors-To: test-report-bounces@dpdk.org _Testing PASS_ Branch: tags/v24.11 0bd935abcb823f581ce53986986aa54eaf6f8140 --> testing pass Upstream job id: Generic-Unit-Test-DPDK#394236 Test environment and result as below: +-------------------------------+----------------+ | Environment | dpdk_unit_test | +===============================+================+ | Fedora Linux 41 | PASS | +-------------------------------+----------------+ | Red Hat Enterprise Linux 8.10 | PASS | +-------------------------------+----------------+ | Ubuntu 24.04 | PASS | +-------------------------------+----------------+ | CentOS Stream 9 | PASS | +-------------------------------+----------------+ | Debian GNU/Linux 12 | PASS | +-------------------------------+----------------+ | Fedora Linux 40 | PASS | +-------------------------------+----------------+ | CentOS Stream 10 | PASS | +-------------------------------+----------------+ | Fedora Linux 42 | PASS | +-------------------------------+----------------+ | Red Hat Enterprise Linux 9.5 | PASS | +-------------------------------+----------------+ | Ubuntu 22.04 | PASS | +-------------------------------+----------------+ | Ubuntu 20.04 | PASS | +-------------------------------+----------------+ | Windows Server 2022 | PASS | +-------------------------------+----------------+ Fedora Linux 41 Kernel: 5.15 Compiler: clang gcc (GCC) 14.3.1 20250523 (Red Hat 14.3.1-1) Red Hat Enterprise Linux 8.10 Kernel: 5.15 Compiler: gcc gcc (GCC) 8.5.0 20210514 (Red Hat 8.5.0-22) Ubuntu 24.04 Kernel: 5.15 Compiler: gcc gcc (Ubuntu 13.3.0-6ubuntu2~24.04) 13.3.0 CentOS Stream 9 Kernel: 5.15 Compiler: gcc gcc (GCC) 11.5.0 20240719 (Red Hat 11.5.0-11) Debian GNU/Linux 12 Kernel: 5.15 Compiler: gcc gcc (Debian 12.2.0-14+deb12u1) 12.2.0 Fedora Linux 40 Kernel: 5.15 Compiler: gcc gcc (GCC) 14.2.1 20240912 (Red Hat 14.2.1-3) CentOS Stream 10 Kernel: 5.15 Compiler: gcc gcc (GCC) 14.2.1 20250110 (Red Hat 14.2.1-8) Fedora Linux 42 Kernel: 5.15 Compiler: clang gcc (GCC) 15.2.1 20250808 (Red Hat 15.2.1-1) Red Hat Enterprise Linux 9.5 Kernel: 5.15 Compiler: gcc gcc (GCC) 11.5.0 20240719 (Red Hat 11.5.0-2) Ubuntu 22.04 Kernel: 5.15 Compiler: gcc gcc (Ubuntu 11.4.0-1ubuntu1~22.04) 11.4.0 Ubuntu 20.04 Kernel: 5.15 Compiler: gcc gcc (Ubuntu 9.4.0-1ubuntu1~20.04.2) 9.4.0 Windows Server 2022 Kernel: 10.0.20348.2031 Compiler: clang 15.0.7, gcc 14.1.0 (MinGW), and MSVC VS 19.39.33521 To view detailed results, visit: https://lab.dpdk.org/results/dashboard/tarballs/35651/ UNH-IOL DPDK Community Lab To manage your email subscriptions, visit: https://lab.dpdk.org/results/dashboard/preferences/subscriptions/