From mboxrd@z Thu Jan 1 00:00:00 1970 Return-Path: Received: from mails.dpdk.org (mails.dpdk.org [217.70.189.124]) by inbox.dpdk.org (Postfix) with ESMTP id 43C5048B47 for ; Wed, 19 Nov 2025 07:59:49 +0100 (CET) Received: from mails.dpdk.org (localhost [127.0.0.1]) by mails.dpdk.org (Postfix) with ESMTP id 1FBCB40265; Wed, 19 Nov 2025 07:59:49 +0100 (CET) Received: from mail-il1-f228.google.com (mail-il1-f228.google.com [209.85.166.228]) by mails.dpdk.org (Postfix) with ESMTP id BF94A40265 for ; Wed, 19 Nov 2025 07:59:47 +0100 (CET) Received: by mail-il1-f228.google.com with SMTP id e9e14a558f8ab-433217b58d9so23358655ab.1 for ; Tue, 18 Nov 2025 22:59:47 -0800 (PST) DKIM-Signature: v=1; a=rsa-sha256; c=relaxed/relaxed; d=iol.unh.edu; s=unh-iol; t=1763535587; x=1764140387; darn=dpdk.org; h=cc:to:from:subject:message-id:date:from:to:cc:subject:date :message-id:reply-to; bh=ndvlmt227X4znoUrCaYyubPX8fGJx+foL4uUkvaKGTY=; b=LN4B6Tdq5tNfm5aaqxBX45c06i3sig4ldD8+Ddpi4aauc105rT3O1l4URPZlSJ/hm6 81KGH1Z2jahwbBMGWcfS6Kfm10XkJ0SAa8sy53AYSpQtJfPB/IHtUWaA+MYsgNeAzX94 AYrLpNjQsy+IwaSTy5PArW2wEBXiPzy3Z0QLQ= X-Google-DKIM-Signature: v=1; a=rsa-sha256; c=relaxed/relaxed; d=1e100.net; s=20230601; t=1763535587; x=1764140387; h=cc:to:from:subject:message-id:date:x-gm-gg:x-gm-message-state:from :to:cc:subject:date:message-id:reply-to; bh=ndvlmt227X4znoUrCaYyubPX8fGJx+foL4uUkvaKGTY=; b=eOmKr0IhoKjo6eN4wOZmW9HH61ROAeKghWRgqZr2Y964icFTlGBRoGZSPX6JXji8hz culql5o8pShclPX7VgbB3Uy0LEAHT2nv/BdCw0jlKs6Kr3UOc23y87L6zBLVy6eChWQ2 LYAO3sQi+IshGbZf/tdCcHr4Hlxb34NBg2zdZ9jF2Lckm1jdERMOnVBeyZcxYlGlHhw8 mp13nayPtjF7HvPLwDenmFQ+wYi9UDQTKkO26IxPJUf+abmugXEDtw/Aa1lEnEmUzQEE gTmUJ1hqNFPgbmX9JlECn27FOy0BNCcPbOurtjUk321/zvgTD2cl8HLTNEeDIFWGSEcT vnhQ== X-Gm-Message-State: AOJu0Yy7C7NcTx8XnoE6m4mZnbRBDne5LztVVLE3f8foItvaKFn4EOlQ 2+b69R5b9Pgp5AiX8bu2gXwHfP/818LVlXQlEdu7u9SQS4DiVQJxhWi4spDnjYK2tQyS1kej1No UIuUIwS0qHC4pajW3TVTJ0j4y2nqwv90HXXWB X-Gm-Gg: ASbGncsmiNKGohqEIViqwE0EHqD1RczMkwjgD7GakjUbctb8Vg49IjLxnsx38q1milr sVHXHPfdC6DkHnQWduPV2TYA4enjaBxURRMTvZwss2f3/VfNkwcPMLHZHHJv9CvP7cngNFBycuZ R61AHqEkeHw6qWfrxDxnByTbSZLGtqhEpwHgFZ1ENr/jS/ZKiiHgNQkq9oYV1eDyWjMX0/gABh8 G9GCsmtPZx2odwughKSu3ONvv74RczFgAwbCq2wjDJXLaxnYJZPOR79rG3m2rDZv/Dn2fbsdW9j u0v4jDQyDwMw0q4l+5UpRnCztBHAxgKdItRA86xMBdxhMlqlCI2VOnjOxahC/gc9FIAMg8hqFi7 qCLzkEAC5k6lKHJkBqAgARxur4ZKhAWIiph0t4Nxvyw== X-Google-Smtp-Source: AGHT+IFq0ofAtzNzRVSLrvDrULZJboJb/BVmU3tXDKjUDPIHHH8qaYAqf/r8zTUxL0lTM7be9/8cU1kg75aW X-Received: by 2002:a05:6e02:2283:b0:433:7673:1d with SMTP id e9e14a558f8ab-4348c948cd6mr268442735ab.31.1763535587079; Tue, 18 Nov 2025 22:59:47 -0800 (PST) Received: from postal.iol.unh.edu (postal.iol.unh.edu. [132.177.123.84]) by smtp-relay.gmail.com with ESMTPS id e9e14a558f8ab-434839d529bsm15233495ab.27.2025.11.18.22.59.46 (version=TLS1_2 cipher=ECDHE-ECDSA-AES128-GCM-SHA256 bits=128/128); Tue, 18 Nov 2025 22:59:47 -0800 (PST) X-Relaying-Domain: iol.unh.edu Date: Tue, 18 Nov 2025 22:59:47 -0800 (PST) Message-ID: <691d6ae3.050a0220.122f82.d72bSMTPIN_ADDED_MISSING@mx.google.com> Received: from [172.21.0.5] (unknown [172.18.0.240]) by postal.iol.unh.edu (Postfix) with ESMTP id 9C65B6051830; Wed, 19 Nov 2025 01:59:46 -0500 (EST) Subject: |SUCCESS| [GIT MASTER] 0bd935abcb823f581ce53986986aa54eaf6f8140 From: dpdklab@iol.unh.edu To: Test Report Cc: dpdk-test-reports@iol.unh.edu, Xueming Li , Kevin Traynor , Luca Boccassi Content-Type: text/plain X-BeenThere: test-report@dpdk.org X-Mailman-Version: 2.1.29 Precedence: list List-Id: automatic DPDK test reports List-Unsubscribe: , List-Archive: List-Post: List-Help: List-Subscribe: , Errors-To: test-report-bounces@dpdk.org _Testing PASS_ Branch: tags/v24.11 0bd935abcb823f581ce53986986aa54eaf6f8140 --> testing pass Upstream job id: Generic-DPDK-Compile-Meson#445896 Test environment and result as below: +-------------------------------+--------------------+-------------------+-------------------------+------------------+----------------------+ | Environment | dpdk_meson_compile | dpdk_msvc_compile | dpdk_llvm_clang_compile | dpdk_compile_ovs | dpdk_mingw64_compile | +===============================+====================+===================+=========================+==================+======================+ | FreeBSD 14.2 | PASS | SKIPPED | SKIPPED | SKIPPED | SKIPPED | +-------------------------------+--------------------+-------------------+-------------------------+------------------+----------------------+ | Ubuntu 20.04 | PASS | SKIPPED | SKIPPED | SKIPPED | SKIPPED | +-------------------------------+--------------------+-------------------+-------------------------+------------------+----------------------+ | Ubuntu 24.04 | PASS | SKIPPED | SKIPPED | PASS | SKIPPED | +-------------------------------+--------------------+-------------------+-------------------------+------------------+----------------------+ | Fedora Linux 42 | PASS | SKIPPED | SKIPPED | PASS | SKIPPED | +-------------------------------+--------------------+-------------------+-------------------------+------------------+----------------------+ | Debian GNU/Linux 12 | PASS | SKIPPED | SKIPPED | SKIPPED | SKIPPED | +-------------------------------+--------------------+-------------------+-------------------------+------------------+----------------------+ | CentOS Stream 10 | PASS | SKIPPED | SKIPPED | SKIPPED | SKIPPED | +-------------------------------+--------------------+-------------------+-------------------------+------------------+----------------------+ | CentOS Stream 9 | PASS | SKIPPED | SKIPPED | SKIPPED | SKIPPED | +-------------------------------+--------------------+-------------------+-------------------------+------------------+----------------------+ | Red Hat Enterprise Linux 8.10 | PASS | SKIPPED | SKIPPED | SKIPPED | SKIPPED | +-------------------------------+--------------------+-------------------+-------------------------+------------------+----------------------+ | Alpine Linux 3.22.0 | PASS | SKIPPED | SKIPPED | SKIPPED | SKIPPED | +-------------------------------+--------------------+-------------------+-------------------------+------------------+----------------------+ | openSUSE Leap 15.6 | PASS | SKIPPED | SKIPPED | SKIPPED | SKIPPED | +-------------------------------+--------------------+-------------------+-------------------------+------------------+----------------------+ | Ubuntu 22.04 | PASS | SKIPPED | SKIPPED | SKIPPED | SKIPPED | +-------------------------------+--------------------+-------------------+-------------------------+------------------+----------------------+ | Red Hat Enterprise Linux 9.5 | PASS | SKIPPED | SKIPPED | SKIPPED | SKIPPED | +-------------------------------+--------------------+-------------------+-------------------------+------------------+----------------------+ | Windows Server 2022 | SKIPPED | PASS | PASS | SKIPPED | PASS | +-------------------------------+--------------------+-------------------+-------------------------+------------------+----------------------+ FreeBSD 14.2 Kernel: 14.2-RELEASE Compiler: clang 18.1.6 Ubuntu 20.04 Kernel: 4.19 Compiler: gcc gcc (Ubuntu 9.4.0-1ubuntu1~20.04.2) 9.4.0 Ubuntu 24.04 Kernel: 5.15 Compiler: gcc gcc (Ubuntu 13.3.0-6ubuntu2~24.04) 13.3.0 Fedora Linux 42 Kernel: 5.15 Compiler: clang gcc (GCC) 15.2.1 20250808 (Red Hat 15.2.1-1) Debian GNU/Linux 12 Kernel: 5.15 Compiler: gcc gcc (Debian 12.2.0-14+deb12u1) 12.2.0 CentOS Stream 10 Kernel: 5.15 Compiler: gcc gcc (GCC) 14.2.1 20250110 (Red Hat 14.2.1-8) CentOS Stream 9 Kernel: 5.15 Compiler: gcc gcc (GCC) 11.5.0 20240719 (Red Hat 11.5.0-11) Red Hat Enterprise Linux 8.10 Kernel: 5.15 Compiler: gcc gcc (GCC) 8.5.0 20210514 (Red Hat 8.5.0-22) Alpine Linux 3.22.0 Kernel: 5.15 Compiler: gcc gcc (Alpine 14.2.0) 14.2.0 openSUSE Leap 15.6 Kernel: 5.15 Compiler: gcc gcc (SUSE Linux) 7.5.0 Ubuntu 22.04 Kernel: 5.15 Compiler: gcc gcc (Ubuntu 11.4.0-1ubuntu1~22.04) 11.4.0 Red Hat Enterprise Linux 9.5 Kernel: 5.15 Compiler: gcc gcc (GCC) 11.5.0 20240719 (Red Hat 11.5.0-2) Windows Server 2022 Kernel: 10.0.20348.2031 Compiler: clang 15.0.7, gcc 14.1.0 (MinGW), and MSVC VS 19.39.33521 To view detailed results, visit: https://lab.dpdk.org/results/dashboard/tarballs/35651/ UNH-IOL DPDK Community Lab To manage your email subscriptions, visit: https://lab.dpdk.org/results/dashboard/preferences/subscriptions/