From mboxrd@z Thu Jan 1 00:00:00 1970 Return-Path: Received: from mails.dpdk.org (mails.dpdk.org [217.70.189.124]) by inbox.dpdk.org (Postfix) with ESMTP id 71F3148B4A for ; Wed, 19 Nov 2025 08:22:37 +0100 (CET) Received: from mails.dpdk.org (localhost [127.0.0.1]) by mails.dpdk.org (Postfix) with ESMTP id 52DEF40265; Wed, 19 Nov 2025 08:22:37 +0100 (CET) Received: from mail-pj1-f97.google.com (mail-pj1-f97.google.com [209.85.216.97]) by mails.dpdk.org (Postfix) with ESMTP id AC4A340265 for ; Wed, 19 Nov 2025 08:22:35 +0100 (CET) Received: by mail-pj1-f97.google.com with SMTP id 98e67ed59e1d1-343514c7854so621632a91.1 for ; Tue, 18 Nov 2025 23:22:35 -0800 (PST) DKIM-Signature: v=1; a=rsa-sha256; c=relaxed/relaxed; d=iol.unh.edu; s=unh-iol; t=1763536955; x=1764141755; darn=dpdk.org; h=cc:to:from:subject:message-id:date:from:to:cc:subject:date :message-id:reply-to; bh=e9qDiVUxHf8oYjv+xrmPAgjI0ktUOODJFcW0y3lUhzs=; b=RCs38GAH7mFxDqRPVr3TgcG4va9LOLn219wQBfnG5KHX6rMQyCfZWBUq+uxzltvLBK 4zHD3BxFG2mwQCYHNsV2H0l+22N21DEwyHopTyuSaTESKcqq/adr5yXNCNiSKxoIloJg gaLsOtq174eppoBGUJ7Cav/CzCxWJeHTCaFFk= X-Google-DKIM-Signature: v=1; a=rsa-sha256; c=relaxed/relaxed; d=1e100.net; s=20230601; t=1763536955; x=1764141755; h=cc:to:from:subject:message-id:date:x-gm-gg:x-gm-message-state:from :to:cc:subject:date:message-id:reply-to; bh=e9qDiVUxHf8oYjv+xrmPAgjI0ktUOODJFcW0y3lUhzs=; b=dO3wTua9hgsVUZNmF1vO2dGl+0qxQ3UaQAEh+siPaVzWsAQ4+b7dWNmhXKz2/k3aPD luuQSQ1Iv2xvZyUXsHOXYDCtvuTkAeTSnBHA+dzDT5RxI2xcQ+AWzcgBJE9JJ6IX/7JE m/yG98ntV/5G76FYaQCmhNHw2/3i86OIM7lhF6r12F8m8jSUVspuA4S4nbC+i84rooVl TTFekwK7UftAUGVwjUouSjiIHpZ1qRw5lx9h3eB0VO+gJmm6qKdDFCRAwPngwPgJDeLd dDv5H4ZzLgtySoE0INrsfqj3/XbpGXA1cXIccksCRQ2rBzHl81I6nOjnqxHlVjOFhLeG BzbQ== X-Gm-Message-State: AOJu0YzMKJWdUvyfpiUL6M2qoMY94ujUUP0zenUD+hS8UZBJk/bYOUYS uwY9Jh22q1V5fN1j1GHgRD3QvBTaGPF1h/S449nap+UGo5mMdaUtKGPZKEPTm4jcripDoWWMJAs EserxQI+JZadXz+tchxMoHRqGVg36qcIbYAnCc/xXn/3YU6b4gWbz X-Gm-Gg: ASbGncujQ3aqbTvPOcFfM3S11YuvMM/KfMNvaeemXFLrwdV6K3cWx0wBRDELhtcH6Dj smgNQ3WazPNRP7zKzE1IcuvJwCfbsLG9xhE7JCftguXQVS7tlknSHYjtrdbDFncXswUWuyenl6i D512OHvvr3HfwUys0MJ40+XY1+h/80hSoJsFDK0aXzx1RJ3UzPa+1SrGICe4D9YTN/tvZ3b7rLm TiPLHnihWWGbSO5o9OruYB8i6bwDg3EJ7jT95SSOBFK1ZuhjYPl14pRc3iqeSvDzfGZ1I7znspY OhHtI0M/2LBtraKJ6DI2jENwMTAo4yGXTwgmxTKqY9/cQXlPsOlrHRMRzyxYTFtD471/pLZ1eb3 fFxOlyFnPAJ19QNNIE7c= X-Google-Smtp-Source: AGHT+IFUVakk3sdYxml6zgyVquaAVXaRtvAASGK/owDxbi5pFKkuq38DlpGp2IuxGeTLhyLCWEPBGPBxXtBX X-Received: by 2002:a17:90b:5707:b0:340:9d78:59 with SMTP id 98e67ed59e1d1-345bd16de2dmr1489756a91.3.1763536954721; Tue, 18 Nov 2025 23:22:34 -0800 (PST) Received: from postal.iol.unh.edu (postal.iol.unh.edu. [2606:4100:3880:1234::84]) by smtp-relay.gmail.com with ESMTPS id 98e67ed59e1d1-345bc257e77sm212686a91.5.2025.11.18.23.22.34 (version=TLS1_2 cipher=ECDHE-ECDSA-AES128-GCM-SHA256 bits=128/128); Tue, 18 Nov 2025 23:22:34 -0800 (PST) X-Relaying-Domain: iol.unh.edu Date: Tue, 18 Nov 2025 23:22:34 -0800 (PST) Message-ID: <691d703a.170a0220.3ca8eb.b1f6SMTPIN_ADDED_MISSING@mx.google.com> Received: from [172.21.0.3] (unknown [172.18.0.240]) by postal.iol.unh.edu (Postfix) with ESMTP id EFDB56051830; Wed, 19 Nov 2025 02:22:33 -0500 (EST) Subject: |SUCCESS| [GIT MASTER] d297bb24650efb7040a66a3270e01c94fc8ee4f5 From: dpdklab@iol.unh.edu To: Test Report Cc: dpdk-test-reports@iol.unh.edu, Xueming Li , Kevin Traynor , Luca Boccassi Content-Type: text/plain X-BeenThere: test-report@dpdk.org X-Mailman-Version: 2.1.29 Precedence: list List-Id: automatic DPDK test reports List-Unsubscribe: , List-Archive: List-Post: List-Help: List-Subscribe: , Errors-To: test-report-bounces@dpdk.org _Testing PASS_ Branch: tags/v22.11 d297bb24650efb7040a66a3270e01c94fc8ee4f5 --> testing pass Upstream job id: Generic-DPDK-Compile-Meson#445914 Test environment and result as below: +-------------------------------+--------------------+-------------------------+----------------------+ | Environment | dpdk_meson_compile | dpdk_llvm_clang_compile | dpdk_mingw64_compile | +===============================+====================+=========================+======================+ | Ubuntu 20.04 | PASS | SKIPPED | SKIPPED | +-------------------------------+--------------------+-------------------------+----------------------+ | FreeBSD 14.2 | PASS | SKIPPED | SKIPPED | +-------------------------------+--------------------+-------------------------+----------------------+ | Red Hat Enterprise Linux 9.5 | PASS | SKIPPED | SKIPPED | +-------------------------------+--------------------+-------------------------+----------------------+ | CentOS Stream 9 | PASS | SKIPPED | SKIPPED | +-------------------------------+--------------------+-------------------------+----------------------+ | Ubuntu 22.04 | PASS | SKIPPED | SKIPPED | +-------------------------------+--------------------+-------------------------+----------------------+ | CentOS Stream 10 | PASS | SKIPPED | SKIPPED | +-------------------------------+--------------------+-------------------------+----------------------+ | Red Hat Enterprise Linux 8.10 | PASS | SKIPPED | SKIPPED | +-------------------------------+--------------------+-------------------------+----------------------+ | Fedora Linux 42 | PASS | SKIPPED | SKIPPED | +-------------------------------+--------------------+-------------------------+----------------------+ | openSUSE Leap 15.6 | PASS | SKIPPED | SKIPPED | +-------------------------------+--------------------+-------------------------+----------------------+ | Ubuntu 24.04 | PASS | SKIPPED | SKIPPED | +-------------------------------+--------------------+-------------------------+----------------------+ | Debian GNU/Linux 12 | PASS | SKIPPED | SKIPPED | +-------------------------------+--------------------+-------------------------+----------------------+ | Windows Server 2022 | SKIPPED | PASS | PASS | +-------------------------------+--------------------+-------------------------+----------------------+ Ubuntu 20.04 Kernel: 4.19 Compiler: gcc gcc (Ubuntu 9.4.0-1ubuntu1~20.04.2) 9.4.0 FreeBSD 14.2 Kernel: 14.2-RELEASE Compiler: clang 18.1.6 Red Hat Enterprise Linux 9.5 Kernel: 5.15 Compiler: gcc gcc (GCC) 11.5.0 20240719 (Red Hat 11.5.0-2) CentOS Stream 9 Kernel: 5.15 Compiler: gcc gcc (GCC) 11.5.0 20240719 (Red Hat 11.5.0-11) Ubuntu 22.04 Kernel: 5.15 Compiler: gcc gcc (Ubuntu 11.4.0-1ubuntu1~22.04) 11.4.0 CentOS Stream 10 Kernel: 5.15 Compiler: gcc gcc (GCC) 14.2.1 20250110 (Red Hat 14.2.1-8) Red Hat Enterprise Linux 8.10 Kernel: 5.15 Compiler: gcc gcc (GCC) 8.5.0 20210514 (Red Hat 8.5.0-22) Fedora Linux 42 Kernel: 5.15 Compiler: clang gcc (GCC) 15.2.1 20250808 (Red Hat 15.2.1-1) openSUSE Leap 15.6 Kernel: 5.15 Compiler: gcc gcc (SUSE Linux) 7.5.0 Ubuntu 24.04 Kernel: 5.15 Compiler: gcc gcc (Ubuntu 13.3.0-6ubuntu2~24.04) 13.3.0 Debian GNU/Linux 12 Kernel: 5.15 Compiler: gcc gcc (Debian 12.2.0-14+deb12u1) 12.2.0 Windows Server 2022 Kernel: 10.0.20348.2031 Compiler: clang 15.0.7, gcc 14.1.0 (MinGW), and MSVC VS 19.39.33521 To view detailed results, visit: https://lab.dpdk.org/results/dashboard/tarballs/35649/ UNH-IOL DPDK Community Lab To manage your email subscriptions, visit: https://lab.dpdk.org/results/dashboard/preferences/subscriptions/