From mboxrd@z Thu Jan 1 00:00:00 1970 Return-Path: Received: from mails.dpdk.org (mails.dpdk.org [217.70.189.124]) by inbox.dpdk.org (Postfix) with ESMTP id 751C248B4A for ; Wed, 19 Nov 2025 08:44:49 +0100 (CET) Received: from mails.dpdk.org (localhost [127.0.0.1]) by mails.dpdk.org (Postfix) with ESMTP id 4A22740265; Wed, 19 Nov 2025 08:44:49 +0100 (CET) Received: from mail-qv1-f100.google.com (mail-qv1-f100.google.com [209.85.219.100]) by mails.dpdk.org (Postfix) with ESMTP id 5EF6A40265 for ; Wed, 19 Nov 2025 08:44:48 +0100 (CET) Received: by mail-qv1-f100.google.com with SMTP id 6a1803df08f44-88267973e5cso37557776d6.3 for ; Tue, 18 Nov 2025 23:44:48 -0800 (PST) DKIM-Signature: v=1; a=rsa-sha256; c=relaxed/relaxed; d=iol.unh.edu; s=unh-iol; t=1763538287; x=1764143087; darn=dpdk.org; h=cc:to:from:subject:message-id:date:from:to:cc:subject:date :message-id:reply-to; bh=6yjMF3q2wuRAL2DGLyasXy8kRKfR6h5Qa0cED/ytRmU=; b=JqdMHZOfPIvyci6yth9SMbvKiZ6Gj5OxqAb+Ottmd8tUN2Pn2F3da/4YUQhg11eDvN Nn4tlgTOkYn8qPhko6TgMHnDzYu/DsW9A6kfoUrX2gwx2ghc5sOPLV9+z3S2t/Qix6Oj 4A/uisaH3aR7Xb+PUq8znkWO3uCKEiikj/MMA= X-Google-DKIM-Signature: v=1; a=rsa-sha256; c=relaxed/relaxed; d=1e100.net; s=20230601; t=1763538287; x=1764143087; h=cc:to:from:subject:message-id:date:x-gm-gg:x-gm-message-state:from :to:cc:subject:date:message-id:reply-to; bh=6yjMF3q2wuRAL2DGLyasXy8kRKfR6h5Qa0cED/ytRmU=; b=nh1whYlEgx7norBJLConQ8O11jp1pbGuTyRYPBnAkNRbiuouUC9yHcINt5i77R9JYO VCq89zJiRI4tQJbWFQXmyXhWpfu8gu7TXuwqcCJrEr9ckIhiBHn1V8+EqU3gopIpuWe0 zdSquSHPYdI8M7KyiX6LHV2urZbq2mDy475YRT7vLkJy1/tbzbUkdtzZ3JM5B1PmtFvr LHyr7wgFpe6oVCAR2EmxA4gG+/KwSUXa1UTojDB/bK9N9KP5jKusK2aigCZhOFQva0BV Yq1BtbztmBLZ8iXDcvfWkUVvYzpE/kcsOgykugt+KHSc4Rn5VTayaGgHfk+ClCuPLgpK nl9w== X-Gm-Message-State: AOJu0Yw/B6QwFCTVgBURpekUhVZ2NIG3g/VSuEFxzF1xz7K+sUu3LJFD Ku4bL1r8I0UiODpYowbmX7JQIu09iu0rIrdyT1bMSNGMzTpizdPVanln4d4PjX0O09xBFn+Xopc CPPJAMHyOhWP7WKChrmzKU9dG8rQXLiiyl480DD/V2M00gIcDELJF X-Gm-Gg: ASbGncssIAsztlmqWlaOSbrupE5l3SJ0arWwxhufIyG9r14MGysPrpTf3Vi8qBBOQU3 yPTVN+pec0Fjsff0gpBBurEXRVUbRhWBVmnRoxXFg72EG8qZOyWvPJMBhJCVTrEPjowOhNSNaya icx6zvUauGjGJgcqoMpFV4kgk5ykaikQTDEVIh3GopQ+pQcR5Qh/8jbujSr4UxOnESI09pC8JTH B8p12UHGu6RJsYvNkmVG2KeFEESrU8XqYUVuCDh3r9gwTOGGJbBZhQZdhknsODsshoTFNSm4udT Uv4WcRlP6cW6R1jSpskwEoJkxMVoCJicgjsYO+r/m+iCxjydtFYPbCFyv3RIhv4LKL1nIiSvyCW bjR0TQwUUbzImBgk8jzg= X-Google-Smtp-Source: AGHT+IFpgCsAeyJtTvZrE+MgBG7Z6n0yJU1ZX4CzzMcOGBOEtUDcRAMjmCHvYFo3MZFGEnuryew0KEpBpn1x X-Received: by 2002:ad4:596e:0:b0:882:3adf:d3e4 with SMTP id 6a1803df08f44-8829270f423mr308571256d6.61.1763538287591; Tue, 18 Nov 2025 23:44:47 -0800 (PST) Received: from postal.iol.unh.edu (postal.iol.unh.edu. [2606:4100:3880:1234::84]) by smtp-relay.gmail.com with ESMTPS id 6a1803df08f44-88286539c4csm21952716d6.17.2025.11.18.23.44.47 (version=TLS1_2 cipher=ECDHE-ECDSA-AES128-GCM-SHA256 bits=128/128); Tue, 18 Nov 2025 23:44:47 -0800 (PST) X-Relaying-Domain: iol.unh.edu Date: Tue, 18 Nov 2025 23:44:47 -0800 (PST) Message-ID: <691d756f.050a0220.2d30a2.eabaSMTPIN_ADDED_MISSING@mx.google.com> Received: from [172.21.0.3] (unknown [172.18.0.240]) by postal.iol.unh.edu (Postfix) with ESMTP id 465FB6051830; Wed, 19 Nov 2025 02:44:47 -0500 (EST) Subject: |SUCCESS| [GIT MASTER] d297bb24650efb7040a66a3270e01c94fc8ee4f5 From: dpdklab@iol.unh.edu To: Test Report Cc: dpdk-test-reports@iol.unh.edu, Xueming Li , Kevin Traynor , Luca Boccassi Content-Type: text/plain X-BeenThere: test-report@dpdk.org X-Mailman-Version: 2.1.29 Precedence: list List-Id: automatic DPDK test reports List-Unsubscribe: , List-Archive: List-Post: List-Help: List-Subscribe: , Errors-To: test-report-bounces@dpdk.org _Testing PASS_ Branch: tags/v22.11 d297bb24650efb7040a66a3270e01c94fc8ee4f5 --> testing pass Upstream job id: Generic-Unit-Test-DPDK#394269 Test environment and result as below: +-----------------+--------------+------------------------------+---------------------------+----------------+ | Environment | lpm_autotest | cryptodev_sw_snow3g_autotest | cryptodev_sw_zuc_autotest | dpdk_unit_test | +=================+==============+==============================+===========================+================+ | Ubuntu 20.04 | PASS | SKIPPED | SKIPPED | SKIPPED | +-----------------+--------------+------------------------------+---------------------------+----------------+ | Debian 12 (arm) | SKIPPED | PASS | PASS | SKIPPED | +-----------------+--------------+------------------------------+---------------------------+----------------+ | Ubuntu 22.04 | SKIPPED | SKIPPED | SKIPPED | PASS | +-----------------+--------------+------------------------------+---------------------------+----------------+ Ubuntu 20.04 Kernel: 5.4 Compiler: gcc gcc (Ubuntu 9.4.0-1ubuntu1~20.04.2) 9.4.0 Debian 12 (arm) Kernel: Depends on container host Compiler: gcc (Debian 12.2.0-14) 12.2.0 Ubuntu 22.04 Kernel: 5.15 Compiler: gcc gcc (Ubuntu 11.4.0-1ubuntu1~22.04.2) 11.4.0 To view detailed results, visit: https://lab.dpdk.org/results/dashboard/tarballs/35649/ UNH-IOL DPDK Community Lab To manage your email subscriptions, visit: https://lab.dpdk.org/results/dashboard/preferences/subscriptions/