From mboxrd@z Thu Jan 1 00:00:00 1970 Return-Path: Received: from mails.dpdk.org (mails.dpdk.org [217.70.189.124]) by inbox.dpdk.org (Postfix) with ESMTP id AFC0F48B4A for ; Wed, 19 Nov 2025 09:19:40 +0100 (CET) Received: from mails.dpdk.org (localhost [127.0.0.1]) by mails.dpdk.org (Postfix) with ESMTP id 9119F40265; Wed, 19 Nov 2025 09:19:40 +0100 (CET) Received: from mail-pl1-f226.google.com (mail-pl1-f226.google.com [209.85.214.226]) by mails.dpdk.org (Postfix) with ESMTP id 2736A40265 for ; Wed, 19 Nov 2025 09:19:39 +0100 (CET) Received: by mail-pl1-f226.google.com with SMTP id d9443c01a7336-299d40b0845so57228195ad.3 for ; Wed, 19 Nov 2025 00:19:39 -0800 (PST) DKIM-Signature: v=1; a=rsa-sha256; c=relaxed/relaxed; d=iol.unh.edu; s=unh-iol; t=1763540378; x=1764145178; darn=dpdk.org; h=cc:to:from:subject:message-id:date:from:to:cc:subject:date :message-id:reply-to; bh=hIkQB9KwdtxlAJ8f4zc+RWDCQmxL1ItJT5gnmVyYbQ0=; b=Bziribj6T0aYt6nJwHs9TegNGWa1rVqwlzWHdAI3yQBfidXLhvKrMF3x3mfEXTeaIX xOpp+smqt2JbYZuJLNFJCmzNUGTD6+ku3nNJpVwf0bbT7N05sIOGPMfuBccnNQ2zOip2 3JVvQxXr4DI6+wj+xKPe++EIHdeIUbqFzuW00= X-Google-DKIM-Signature: v=1; a=rsa-sha256; c=relaxed/relaxed; d=1e100.net; s=20230601; t=1763540378; x=1764145178; h=cc:to:from:subject:message-id:date:x-gm-gg:x-gm-message-state:from :to:cc:subject:date:message-id:reply-to; bh=hIkQB9KwdtxlAJ8f4zc+RWDCQmxL1ItJT5gnmVyYbQ0=; b=wWVjkYZJQZYv8uNfFxZPxdvmPNbobPNVwyM8+HhjRQfz0gfUukRZFQVAzQ6EZURhCk AlGOGPzG78uWOJZqd8iLJ3xwYoyRXAdjiG+oS9CsKwrI3TOevkToMUSPzlbG54dC4HTw gnyrXAwKLNvzVDD7BdhZqblIrYngYlfn99TzmXk/ap4HgMvVw9UWBCzcQ1ZSyVEt3kH5 HGni23/sc/VU8CwFeMmVR7QMv5LJWfC0V8QsRYLTd9/eon06cEbEUuM5I7P+cmLj6Qbl bFoSnqSL3Kp1HgNmnKRjDwPkmJQW658jNMoz530VzjFkIyURBcUeC27BpZA8pMiQ50p6 GiKA== X-Gm-Message-State: AOJu0Yy/axZCv1JEbIcLKqiX0KtMNoiz6gFI9nvxJMbge7aiREDYFpC2 NPh8R2ZiTu0/vwm5LlYwuldlObojGwIbYmiAislNKBK9NBUMjSeNGmJrWNMz0qlRCBV4CJZpx6d phRIIxSm+AbmePZ5lDndb4XHtRlDRjxWcbEln X-Gm-Gg: ASbGnctGiaamDlrntL9gY27wLsVrn844wiD2gAFWOEu+V3PsEIQsqcOLzgnXCqEbRII QHT6wFDRBkc1lARlqxRd8bIkVz/rs47sv1uWnUXJ+KWXD1uYLLsdLlxdwLZfObfevTKjgx59U/O V2Q/5zTvyDhBN+lfMrWAtI3VnIzGRr8BfBepj/sQcnvpxAf5YGWuvrNwJLmJCoo/wGIGI+A1zzP mF6V1z2A/yy+4FaMkrUczhLmrHytf+R1de8pOlVo1zH/RF9wQ8Sm5GoTMPsstaB8Hb9TB5m1cFy 5qq95XuOBxxTWcwlSuW8siaDR/iqjdZric2QVhi85EiDcQsDS6KpSrCw36Wmrzr+5/wIUY6boFs FXO8sVqQ9pkat0E8H3kexnYH2JH6HdrAXH+h6INgU9w== X-Google-Smtp-Source: AGHT+IHydI+2z6v6MVlt9LKcWGMhUKqR2XBU34aVtsiCsSXRfSAnbbZ0MwgZ1N6yYq4rhiIK5vubQZ5NpitN X-Received: by 2002:a17:903:90f:b0:295:1a5b:f406 with SMTP id d9443c01a7336-2986a6f038bmr219293525ad.25.1763540377758; Wed, 19 Nov 2025 00:19:37 -0800 (PST) Received: from postal.iol.unh.edu (postal.iol.unh.edu. [132.177.123.84]) by smtp-relay.gmail.com with ESMTPS id d9443c01a7336-2985c23458csm20695405ad.4.2025.11.19.00.19.37 (version=TLS1_2 cipher=ECDHE-ECDSA-AES128-GCM-SHA256 bits=128/128); Wed, 19 Nov 2025 00:19:37 -0800 (PST) X-Relaying-Domain: iol.unh.edu Date: Wed, 19 Nov 2025 00:19:37 -0800 (PST) Message-ID: <691d7d99.170a0220.2d505b.8f23SMTPIN_ADDED_MISSING@mx.google.com> Received: from [172.21.0.2] (unknown [172.18.0.240]) by postal.iol.unh.edu (Postfix) with ESMTP id 2C3836051830; Wed, 19 Nov 2025 03:19:37 -0500 (EST) Subject: |SUCCESS| [GIT MASTER] 0bd935abcb823f581ce53986986aa54eaf6f8140 From: dpdklab@iol.unh.edu To: Test Report Cc: dpdk-test-reports@iol.unh.edu, Xueming Li , Kevin Traynor , Luca Boccassi Content-Type: text/plain X-BeenThere: test-report@dpdk.org X-Mailman-Version: 2.1.29 Precedence: list List-Id: automatic DPDK test reports List-Unsubscribe: , List-Archive: List-Post: List-Help: List-Subscribe: , Errors-To: test-report-bounces@dpdk.org _Testing PASS_ Branch: tags/v24.11 0bd935abcb823f581ce53986986aa54eaf6f8140 --> testing pass Upstream job id: Generic-Unit-Test-DPDK#394304 Test environment and result as below: +------------------------------+----------------+--------------+---------------------------+------------------------------+ | Environment | dpdk_unit_test | lpm_autotest | cryptodev_sw_zuc_autotest | cryptodev_sw_snow3g_autotest | +==============================+================+==============+===========================+==============================+ | Fedora Linux 40 | PASS | SKIPPED | SKIPPED | SKIPPED | +------------------------------+----------------+--------------+---------------------------+------------------------------+ | Ubuntu 22.04 | PASS | SKIPPED | SKIPPED | SKIPPED | +------------------------------+----------------+--------------+---------------------------+------------------------------+ | CentOS Stream 10 | PASS | SKIPPED | SKIPPED | SKIPPED | +------------------------------+----------------+--------------+---------------------------+------------------------------+ | Ubuntu 20.04 | PASS | PASS | SKIPPED | SKIPPED | +------------------------------+----------------+--------------+---------------------------+------------------------------+ | CentOS Stream 9 | PASS | SKIPPED | SKIPPED | SKIPPED | +------------------------------+----------------+--------------+---------------------------+------------------------------+ | Fedora Linux 42 | PASS | SKIPPED | SKIPPED | SKIPPED | +------------------------------+----------------+--------------+---------------------------+------------------------------+ | Red Hat Enterprise Linux 9.5 | PASS | SKIPPED | SKIPPED | SKIPPED | +------------------------------+----------------+--------------+---------------------------+------------------------------+ | Debian GNU/Linux 12 | PASS | SKIPPED | SKIPPED | SKIPPED | +------------------------------+----------------+--------------+---------------------------+------------------------------+ | Ubuntu 24.04 | PASS | SKIPPED | SKIPPED | SKIPPED | +------------------------------+----------------+--------------+---------------------------+------------------------------+ | Fedora Linux 41 | PASS | SKIPPED | SKIPPED | SKIPPED | +------------------------------+----------------+--------------+---------------------------+------------------------------+ | Debian 12 (arm) | SKIPPED | SKIPPED | PASS | PASS | +------------------------------+----------------+--------------+---------------------------+------------------------------+ Fedora Linux 40 Kernel: 5.4 Compiler: clang gcc (GCC) 14.2.1 20240912 (Red Hat 14.2.1-3) Ubuntu 22.04 Kernel: 5.4 Compiler: gcc gcc (Ubuntu 11.4.0-1ubuntu1~22.04) 11.4.0 CentOS Stream 10 Kernel: 5.4 Compiler: gcc gcc (GCC) 14.2.1 20250110 (Red Hat 14.2.1-8) Ubuntu 20.04 Kernel: 5.4 Compiler: gcc gcc (Ubuntu 9.4.0-1ubuntu1~20.04.2) 9.4.0 CentOS Stream 9 Kernel: 5.4 Compiler: gcc gcc (GCC) 11.5.0 20240719 (Red Hat 11.5.0-11) Fedora Linux 42 Kernel: 5.4 Compiler: clang gcc (GCC) 15.2.1 20250808 (Red Hat 15.2.1-1) Red Hat Enterprise Linux 9.5 Kernel: 5.4 Compiler: gcc gcc (GCC) 11.5.0 20240719 (Red Hat 11.5.0-2) Debian GNU/Linux 12 Kernel: 5.4 Compiler: gcc gcc (Debian 12.2.0-14+deb12u1) 12.2.0 Ubuntu 24.04 Kernel: 5.4 Compiler: gcc gcc (Ubuntu 13.3.0-6ubuntu2~24.04) 13.3.0 Fedora Linux 41 Kernel: 5.4 Compiler: clang gcc (GCC) 14.3.1 20250523 (Red Hat 14.3.1-1) Debian 12 (arm) Kernel: Depends on container host Compiler: gcc (Debian 12.2.0-14) 12.2.0 To view detailed results, visit: https://lab.dpdk.org/results/dashboard/tarballs/35651/ UNH-IOL DPDK Community Lab To manage your email subscriptions, visit: https://lab.dpdk.org/results/dashboard/preferences/subscriptions/