From mboxrd@z Thu Jan 1 00:00:00 1970 Return-Path: Received: from mails.dpdk.org (mails.dpdk.org [217.70.189.124]) by inbox.dpdk.org (Postfix) with ESMTP id E2D9A48B4C for ; Wed, 19 Nov 2025 10:40:56 +0100 (CET) Received: from mails.dpdk.org (localhost [127.0.0.1]) by mails.dpdk.org (Postfix) with ESMTP id DE1E440265; Wed, 19 Nov 2025 10:40:56 +0100 (CET) Received: from mail-pl1-f227.google.com (mail-pl1-f227.google.com [209.85.214.227]) by mails.dpdk.org (Postfix) with ESMTP id 1A7C140265 for ; Wed, 19 Nov 2025 10:40:55 +0100 (CET) Received: by mail-pl1-f227.google.com with SMTP id d9443c01a7336-2953e415b27so69320455ad.2 for ; Wed, 19 Nov 2025 01:40:55 -0800 (PST) DKIM-Signature: v=1; a=rsa-sha256; c=relaxed/relaxed; d=iol.unh.edu; s=unh-iol; t=1763545254; x=1764150054; darn=dpdk.org; h=cc:to:from:subject:message-id:date:from:to:cc:subject:date :message-id:reply-to; bh=leo88NhrsN5aF57m7peQYGjwg0FMLoNg57LAtAwstPM=; b=hf72kbBAuOEnxqS/Bu+avuckFq82kwxa31FdFKApEpCxtA8cLuzv05r+K51+T8hppu Ui5dKkLP/V+dBsA0feFIA9yhdBxUwnpxWuKb7m2d+CF0EqzcdCFnL8jK0l3dWabUg2W2 9mieZHgYcDHnX1r/253zn8mKt0fdYwWMKzpzU= X-Google-DKIM-Signature: v=1; a=rsa-sha256; c=relaxed/relaxed; d=1e100.net; s=20230601; t=1763545254; x=1764150054; h=cc:to:from:subject:message-id:date:x-gm-gg:x-gm-message-state:from :to:cc:subject:date:message-id:reply-to; bh=leo88NhrsN5aF57m7peQYGjwg0FMLoNg57LAtAwstPM=; b=kf+JeBURHnIYrsIMcrQjYMvO9OeGAN6Pu9SzOcTpUIBzdZq8CfKeMTE3TI8qZIkQ0f 2zJnZqV7RjtaUbqyByT5i1g8daIMF+dDPiVE2yQHIBYymUT5THhE6Sa2CYm+ebcMl7r8 FPZk7jgzcODXPAfrLA946yo2Ca6QEhbafcrsq4OwV0U1YN++dWf20RwbItfRNA/EeZDJ JRc9cvZ05r+K4k5XJlyrdhhaShTJ4NFsNBdehotsi/lZg5Byo+rzYfXjQVpjiOAZW3qa d4PKK1h9ynuh8j1vo5W8jWgn0077bW/s0s9HdLrEYgO6CDilhx5D2/twz/lU92Z3xQBR gjjw== X-Gm-Message-State: AOJu0YwpvvxR2eUh7xWqc60klV0Iy1V+/IsZDLlOlnzjnn2PDAysYeOx zcsNe/coD9bsbS6vZAP5tMGLVRrffkfGV/qaCjtLsd47XZq1FPLAFn+kW6OIzeyHJZh4wfpCiic mN0Je5/tijAx+bSYb2MSYFiw7GvoVdmN4ZXiP X-Gm-Gg: ASbGncvinbglelvoKzvyPdkR8AVr6e+UQr0Gf1dI8347k8kqTYFVYE+qa7lMhOctWpA FPmwQbHsmaAYqjSelEo/sHS5eJUR9UmVhkROZ6sxlgiQBZpp9ZXyjhMNWFzXEFzTKBVBcp1fjrS pi4rcdLqblnrMPmQdJPKHSvbp4lYlRKgV8OOdm66mqvZMRTXisysf+PpLR9vp50EswK4CwQJQMs uezUTDF+km+ILpTA2kKREnXqhY0E3M/b7F5KwWpTXtuv1pHmSHVloEelDRHhnKrDqP/brF/LsoN H1ZNHqPw59jMtw/v7aEs1Rc8CGEjINJY2Xq6xqdnp9IjOo4bykDtaL68qbJyeL5a19CZSmjIma3 VUYyClD8zKko/DAOVhglEHAc9gS4hSX+XE/0E9zSaXQ== X-Google-Smtp-Source: AGHT+IFpyQfN1BKCId8XTxX2u68BxCabf+9JzGlCf7OmzgmHANlvWzk2sDfzShmNuUGTJkuk6pEpDo89bFMm X-Received: by 2002:a17:903:41d0:b0:295:7806:1d7b with SMTP id d9443c01a7336-2986a7526f1mr209265625ad.45.1763545254191; Wed, 19 Nov 2025 01:40:54 -0800 (PST) Received: from postal.iol.unh.edu (postal.iol.unh.edu. [132.177.123.84]) by smtp-relay.gmail.com with ESMTPS id d9443c01a7336-2985c234f47sm20391415ad.7.2025.11.19.01.40.54 (version=TLS1_2 cipher=ECDHE-ECDSA-AES128-GCM-SHA256 bits=128/128); Wed, 19 Nov 2025 01:40:54 -0800 (PST) X-Relaying-Domain: iol.unh.edu Date: Wed, 19 Nov 2025 01:40:54 -0800 (PST) Message-ID: <691d90a6.170a0220.9fb76.8f5bSMTPIN_ADDED_MISSING@mx.google.com> Received: from [172.21.0.4] (unknown [172.18.0.240]) by postal.iol.unh.edu (Postfix) with ESMTP id A067C6051830; Wed, 19 Nov 2025 04:40:53 -0500 (EST) Subject: |SUCCESS| [GIT MASTER] d297bb24650efb7040a66a3270e01c94fc8ee4f5 From: dpdklab@iol.unh.edu To: Test Report Cc: dpdk-test-reports@iol.unh.edu, Xueming Li , Kevin Traynor , Luca Boccassi Content-Type: text/plain X-BeenThere: test-report@dpdk.org X-Mailman-Version: 2.1.29 Precedence: list List-Id: automatic DPDK test reports List-Unsubscribe: , List-Archive: List-Post: List-Help: List-Subscribe: , Errors-To: test-report-bounces@dpdk.org _Testing PASS_ Branch: tags/v22.11 d297bb24650efb7040a66a3270e01c94fc8ee4f5 --> testing pass Upstream job id: Generic-DPDK-Compile-Meson#445928 Test environment and result as below: +------------------------------+--------------------+ | Environment | dpdk_meson_compile | +==============================+====================+ | Ubuntu 20.04 | PASS | +------------------------------+--------------------+ | Debian GNU/Linux 12 | PASS | +------------------------------+--------------------+ | Red Hat Enterprise Linux 9.5 | PASS | +------------------------------+--------------------+ | Ubuntu 24.04 | PASS | +------------------------------+--------------------+ | Ubuntu 22.04 | PASS | +------------------------------+--------------------+ | Fedora Linux 42 | PASS | +------------------------------+--------------------+ | CentOS Stream 10 | PASS | +------------------------------+--------------------+ | CentOS Stream 9 | PASS | +------------------------------+--------------------+ Ubuntu 20.04 Kernel: 5.4 Compiler: gcc gcc (Ubuntu 9.4.0-1ubuntu1~20.04.2) 9.4.0 Debian GNU/Linux 12 Kernel: 5.4 Compiler: gcc gcc (Debian 12.2.0-14+deb12u1) 12.2.0 Red Hat Enterprise Linux 9.5 Kernel: 5.4 Compiler: gcc gcc (GCC) 11.5.0 20240719 (Red Hat 11.5.0-2) Ubuntu 24.04 Kernel: 5.4 Compiler: gcc gcc (Ubuntu 13.3.0-6ubuntu2~24.04) 13.3.0 Ubuntu 22.04 Kernel: 5.4 Compiler: gcc gcc (Ubuntu 11.4.0-1ubuntu1~22.04) 11.4.0 Fedora Linux 42 Kernel: 5.4 Compiler: gcc gcc (GCC) 15.2.1 20250808 (Red Hat 15.2.1-1) CentOS Stream 10 Kernel: 5.4 Compiler: gcc gcc (GCC) 14.2.1 20250110 (Red Hat 14.2.1-8) CentOS Stream 9 Kernel: 5.4 Compiler: gcc gcc (GCC) 11.5.0 20240719 (Red Hat 11.5.0-11) To view detailed results, visit: https://lab.dpdk.org/results/dashboard/tarballs/35649/ UNH-IOL DPDK Community Lab To manage your email subscriptions, visit: https://lab.dpdk.org/results/dashboard/preferences/subscriptions/