From mboxrd@z Thu Jan 1 00:00:00 1970 Return-Path: Received: from mails.dpdk.org (mails.dpdk.org [217.70.189.124]) by inbox.dpdk.org (Postfix) with ESMTP id F0CE148B4C for ; Wed, 19 Nov 2025 10:41:01 +0100 (CET) Received: from mails.dpdk.org (localhost [127.0.0.1]) by mails.dpdk.org (Postfix) with ESMTP id EB0CD40265; Wed, 19 Nov 2025 10:41:01 +0100 (CET) Received: from mail-yw1-f225.google.com (mail-yw1-f225.google.com [209.85.128.225]) by mails.dpdk.org (Postfix) with ESMTP id C0A4D40265 for ; Wed, 19 Nov 2025 10:41:00 +0100 (CET) Received: by mail-yw1-f225.google.com with SMTP id 00721157ae682-787e84ceaf7so72374337b3.2 for ; Wed, 19 Nov 2025 01:41:00 -0800 (PST) DKIM-Signature: v=1; a=rsa-sha256; c=relaxed/relaxed; d=iol.unh.edu; s=unh-iol; t=1763545260; x=1764150060; darn=dpdk.org; h=cc:to:from:subject:message-id:date:from:to:cc:subject:date :message-id:reply-to; bh=0pWprVbqUcE874oluwX+WAt6CkarwqWoZIAzNruZGZc=; b=Dqvf75Vs9hceOOlLAuwdVJueX7pORhDpesGhbnfHdsJBjPkvuxSFHFBhgrGq6T02JR F+es535Wsua1cvRnJJFyrvofsiBq7AJS0h15gCpb8vcn16HgvFUxtXaavuUBgRhVcP0z sK214gN94hSHpRbbfJQwoOlyaB/pJbQ3aLwA0= X-Google-DKIM-Signature: v=1; a=rsa-sha256; c=relaxed/relaxed; d=1e100.net; s=20230601; t=1763545260; x=1764150060; h=cc:to:from:subject:message-id:date:x-gm-gg:x-gm-message-state:from :to:cc:subject:date:message-id:reply-to; bh=0pWprVbqUcE874oluwX+WAt6CkarwqWoZIAzNruZGZc=; b=ez5bYpN6ryfQyLZ3V1MvHbQd/uCxqmz9Himpzj986E1hIfDAfC8u5lZxA9GyOxeIo3 l/8nooismq0sliKTjJ9/UEUQmydsVfL1JX8DwGY5keYLHygEm4OY0XZORCP9n5nEXdHK AS4slko3ej/HHN58FJ/nDccjw3BVqazZkclwdnyZ/IHimjhpyok0hbuKIt5V0915RWDj luIAoVqXFiL1sEP0ZizOlvbPueUVurCJeths8HYOwLPYDu2a1Dan3GoQeWpqdoyeTEaZ uWdZuq1z3nwMLO+jMrHL/sB0JJ9wWPTONEpGjwHfWkptOIt/9/EfAKURyiRWj3cLma47 WalA== X-Gm-Message-State: AOJu0YxEuwM/4MRWhDQDTycgAUyNX4U7JSI0+DDurdgoH9prwxSGwXEB /QHyMF0rgglDzox5fgO62vWf4Xq5Np51RhkCsvzSuBrNHI6wAFpQy67jN4GLAcINnYIQSnYwxsB Jm55zBtjCDYJitLT5qKYcvmEW+Lmpc5xz513U X-Gm-Gg: ASbGncvPZzXWC4+1xNkJ43/7lfS3lethH1usjsj5q/qFWoLI5SO+r9gZXNw/f3FhmID suJ2DPC3uuvw+s3WSVleMyNAkRqG7a3HXMvHJjt+tm/GUjvCkVYv5Xx8SKX3kLHWj5DY0g33Hqj 7HKC41jWHOu7OQCMme2fNZpwG65lwNwOFPmTcQ4NOM7UUpSZwORA9UcFKX0CsL+r1bh//wrhXuX CM4/xOdExvYX6V0WKFIBLvfPsMLSk1aQ+3qp4Dd9x58Gb3lHGwtEPufYBld/UXhSQ081jkjhCLZ lo1P5K4Tq5nUg0YSRp0pEE7vDdvuf9gXDpUFuijlKWSmFTQ37LejFCsHU4FQ3VPBT5cSjN360YN 9Uolhj+fzuqG0zPu3xkPz0B3px5OFfGT533vFEUJcmQ== X-Google-Smtp-Source: AGHT+IGXMCuTdX5aUcTCQh3T/RhlWXBJoTBXVkb++RTJAI0alfOyzISYaDtKta4Xinm1w4vw2jlzBv5suao2 X-Received: by 2002:a05:690c:4e8a:b0:768:70a1:46c2 with SMTP id 00721157ae682-78929f19f75mr131013997b3.48.1763545260182; Wed, 19 Nov 2025 01:41:00 -0800 (PST) Received: from postal.iol.unh.edu (postal.iol.unh.edu. [132.177.123.84]) by smtp-relay.gmail.com with ESMTPS id 00721157ae682-78821e324cdsm9368917b3.12.2025.11.19.01.41.00 (version=TLS1_2 cipher=ECDHE-ECDSA-AES128-GCM-SHA256 bits=128/128); Wed, 19 Nov 2025 01:41:00 -0800 (PST) X-Relaying-Domain: iol.unh.edu Date: Wed, 19 Nov 2025 01:41:00 -0800 (PST) Message-ID: <691d90ac.050a0220.c9fdb.ec37SMTPIN_ADDED_MISSING@mx.google.com> Received: from [172.21.0.6] (unknown [172.18.0.240]) by postal.iol.unh.edu (Postfix) with ESMTP id D088B6051830; Wed, 19 Nov 2025 04:40:59 -0500 (EST) Subject: |SUCCESS| [GIT MASTER] d297bb24650efb7040a66a3270e01c94fc8ee4f5 From: dpdklab@iol.unh.edu To: Test Report Cc: dpdk-test-reports@iol.unh.edu, Xueming Li , Kevin Traynor , Luca Boccassi Content-Type: text/plain X-BeenThere: test-report@dpdk.org X-Mailman-Version: 2.1.29 Precedence: list List-Id: automatic DPDK test reports List-Unsubscribe: , List-Archive: List-Post: List-Help: List-Subscribe: , Errors-To: test-report-bounces@dpdk.org _Testing PASS_ Branch: tags/v22.11 d297bb24650efb7040a66a3270e01c94fc8ee4f5 --> testing pass Upstream job id: Generic-DPDK-Compile-Meson#445929 Test environment and result as below: +------------------------------+--------------------+ | Environment | dpdk_meson_compile | +==============================+====================+ | Ubuntu 20.04 | PASS | +------------------------------+--------------------+ | Debian GNU/Linux 12 | PASS | +------------------------------+--------------------+ | Red Hat Enterprise Linux 9.5 | PASS | +------------------------------+--------------------+ | Ubuntu 24.04 | PASS | +------------------------------+--------------------+ | Ubuntu 22.04 | PASS | +------------------------------+--------------------+ | Fedora Linux 42 | PASS | +------------------------------+--------------------+ | CentOS Stream 10 | PASS | +------------------------------+--------------------+ | CentOS Stream 9 | PASS | +------------------------------+--------------------+ Ubuntu 20.04 Kernel: 5.4 Compiler: gcc gcc (Ubuntu 9.4.0-1ubuntu1~20.04.2) 9.4.0 Debian GNU/Linux 12 Kernel: 5.4 Compiler: gcc gcc (Debian 12.2.0-14+deb12u1) 12.2.0 Red Hat Enterprise Linux 9.5 Kernel: 5.4 Compiler: gcc gcc (GCC) 11.5.0 20240719 (Red Hat 11.5.0-2) Ubuntu 24.04 Kernel: 5.4 Compiler: gcc gcc (Ubuntu 13.3.0-6ubuntu2~24.04) 13.3.0 Ubuntu 22.04 Kernel: 5.4 Compiler: gcc gcc (Ubuntu 11.4.0-1ubuntu1~22.04) 11.4.0 Fedora Linux 42 Kernel: 5.4 Compiler: gcc gcc (GCC) 15.2.1 20250808 (Red Hat 15.2.1-1) CentOS Stream 10 Kernel: 5.4 Compiler: gcc gcc (GCC) 14.2.1 20250110 (Red Hat 14.2.1-8) CentOS Stream 9 Kernel: 5.4 Compiler: gcc gcc (GCC) 11.5.0 20240719 (Red Hat 11.5.0-11) To view detailed results, visit: https://lab.dpdk.org/results/dashboard/tarballs/35649/ UNH-IOL DPDK Community Lab To manage your email subscriptions, visit: https://lab.dpdk.org/results/dashboard/preferences/subscriptions/