From mboxrd@z Thu Jan 1 00:00:00 1970 Return-Path: Received: from mails.dpdk.org (mails.dpdk.org [217.70.189.124]) by inbox.dpdk.org (Postfix) with ESMTP id 0B12448B4C for ; Wed, 19 Nov 2025 10:41:13 +0100 (CET) Received: from mails.dpdk.org (localhost [127.0.0.1]) by mails.dpdk.org (Postfix) with ESMTP id 02E4140265; Wed, 19 Nov 2025 10:41:13 +0100 (CET) Received: from mail-qv1-f100.google.com (mail-qv1-f100.google.com [209.85.219.100]) by mails.dpdk.org (Postfix) with ESMTP id 929D440265 for ; Wed, 19 Nov 2025 10:41:11 +0100 (CET) Received: by mail-qv1-f100.google.com with SMTP id 6a1803df08f44-88051279e87so69162356d6.3 for ; Wed, 19 Nov 2025 01:41:11 -0800 (PST) DKIM-Signature: v=1; a=rsa-sha256; c=relaxed/relaxed; d=iol.unh.edu; s=unh-iol; t=1763545271; x=1764150071; darn=dpdk.org; h=cc:to:from:subject:message-id:date:from:to:cc:subject:date :message-id:reply-to; bh=dA6S5kOneQNYeSxCh2OiW9qQo5dE1cql+lojnmIXFl8=; b=Gv6mlqnPAIBWt8mCo1MuyCsp9zBNpK7J3MdtAIuk904YOeu/fBQTmkBKLB6GPdkKCZ v5CY7KLr2Kd7RU0kMtmkYdoOlPMR2P+8IlrfAkGuATYd0Do3v+7LWoFckwUXPtHvZb2W N8776EojDiUn8bo4zXtvsHpQ7VI7N73h8rvx0= X-Google-DKIM-Signature: v=1; a=rsa-sha256; c=relaxed/relaxed; d=1e100.net; s=20230601; t=1763545271; x=1764150071; h=cc:to:from:subject:message-id:date:x-gm-gg:x-gm-message-state:from :to:cc:subject:date:message-id:reply-to; bh=dA6S5kOneQNYeSxCh2OiW9qQo5dE1cql+lojnmIXFl8=; b=ZQaSr6UMaB8doT2puKM0tu62jorrs7+RwNVzduu/pb6lPsRSOPC/f8Eyell3FPSuNT lFvm1/8qMbVzCdEmQaXcCX4F5i7Zb/vJcjG4VsTMnXv3Jj7R3s0LfpBmghpEfuVXjXVD emZ1uE9YK2vdIdeRXnpyflq/z1ddM3SRFy1MNqL8IipRe7XTJkIC69MPCON7iRUrica+ ZrbhtX4OYQhEqWq+dp1RYDkIEe1NwNJr851M+mpNf3ne0l6lPDFjzL7mSbbyDED9Vh2R ZRg/iUdMkD+a1DcycTOpwYUk1u4zt4Om2a3haPxrPv0K9WpWijx8rxCktdb4EUfTabEe FTeA== X-Gm-Message-State: AOJu0Yw13upqV4t2swLDQhC0r4EEdQoYxoRCIcM4u3lVvut+iJdlTIHw ZlQ/opBlkFWtQTL7LwireQuVblGl/tuc4SIzGtgi1V/TsRFB7XVBUEKBrc4pGSagaw3k9ThyugJ +KjqaH8fJdzQreuD+jj+2xV4r0fB6vPn7j1XRXRD7g/2Zh7yJaaD+ X-Gm-Gg: ASbGncvUToIIc4zBpDeUzgppq0U/ZKOox/y5xjtn/SirKsDHx+mqDHRfW5mRaz0C7Bw PvkQAWkAtN3iNj5m+zg28bum285zPj0cVTEaVDiSRxPP+ZdctookFptjloVlCLw5SyIHsOaWsgl kKsNZOE9G9zal9ENQ4u2l2QN/VOazNbEfgv3UBEfj6KfgTOvbx0SL/91E0HULoTbCEn/2ZBNp7m WTw7qajpr9X8B666bkxo00Br4QkTjhVoNOe329HHSFCEUErrGDojlbcBYNUoQRuqJcFB0SgWeja GOtrf1p9WTv9UK80yZhoDwE+Lal/lBPO/yQJHDo5dUQckz2b0+rUt7v4Khmcc7KHDNcnBt7TdsP LDCTzXbm2Ys7jK/pTbOg= X-Google-Smtp-Source: AGHT+IHZOg0lk0ko4ElAcyv2KxyH1ELkqIMhec6raB7NoRIJtHAQWwafub8mUnj8RCJoGigtkIbQhC9abZOj X-Received: by 2002:a05:6214:20c6:b0:71a:e4c5:72c7 with SMTP id 6a1803df08f44-882925ba52amr295193236d6.7.1763545270826; Wed, 19 Nov 2025 01:41:10 -0800 (PST) Received: from postal.iol.unh.edu (postal.iol.unh.edu. [2606:4100:3880:1234::84]) by smtp-relay.gmail.com with ESMTPS id 6a1803df08f44-88286572221sm22365386d6.28.2025.11.19.01.41.10 (version=TLS1_2 cipher=ECDHE-ECDSA-AES128-GCM-SHA256 bits=128/128); Wed, 19 Nov 2025 01:41:10 -0800 (PST) X-Relaying-Domain: iol.unh.edu Date: Wed, 19 Nov 2025 01:41:10 -0800 (PST) Message-ID: <691d90b6.050a0220.1c73a7.fdc4SMTPIN_ADDED_MISSING@mx.google.com> Received: from [172.21.0.7] (unknown [172.18.0.240]) by postal.iol.unh.edu (Postfix) with ESMTP id 900AE6051830; Wed, 19 Nov 2025 04:41:10 -0500 (EST) Subject: |SUCCESS| [GIT MASTER] d297bb24650efb7040a66a3270e01c94fc8ee4f5 From: dpdklab@iol.unh.edu To: Test Report Cc: dpdk-test-reports@iol.unh.edu, Xueming Li , Kevin Traynor , Luca Boccassi Content-Type: text/plain X-BeenThere: test-report@dpdk.org X-Mailman-Version: 2.1.29 Precedence: list List-Id: automatic DPDK test reports List-Unsubscribe: , List-Archive: List-Post: List-Help: List-Subscribe: , Errors-To: test-report-bounces@dpdk.org _Testing PASS_ Branch: tags/v22.11 d297bb24650efb7040a66a3270e01c94fc8ee4f5 --> testing pass Upstream job id: Generic-DPDK-Compile-Meson#445925 Test environment and result as below: +------------------------------+--------------------+ | Environment | dpdk_meson_compile | +==============================+====================+ | Ubuntu 20.04 | PASS | +------------------------------+--------------------+ | Debian GNU/Linux 12 | PASS | +------------------------------+--------------------+ | Red Hat Enterprise Linux 9.5 | PASS | +------------------------------+--------------------+ | Ubuntu 24.04 | PASS | +------------------------------+--------------------+ | Ubuntu 22.04 | PASS | +------------------------------+--------------------+ | Fedora Linux 42 | PASS | +------------------------------+--------------------+ | CentOS Stream 10 | PASS | +------------------------------+--------------------+ | CentOS Stream 9 | PASS | +------------------------------+--------------------+ Ubuntu 20.04 Kernel: 5.4 Compiler: gcc gcc (Ubuntu 9.4.0-1ubuntu1~20.04.2) 9.4.0 Debian GNU/Linux 12 Kernel: 5.4 Compiler: gcc gcc (Debian 12.2.0-14+deb12u1) 12.2.0 Red Hat Enterprise Linux 9.5 Kernel: 5.4 Compiler: gcc gcc (GCC) 11.5.0 20240719 (Red Hat 11.5.0-2) Ubuntu 24.04 Kernel: 5.4 Compiler: gcc gcc (Ubuntu 13.3.0-6ubuntu2~24.04) 13.3.0 Ubuntu 22.04 Kernel: 5.4 Compiler: gcc gcc (Ubuntu 11.4.0-1ubuntu1~22.04) 11.4.0 Fedora Linux 42 Kernel: 5.4 Compiler: gcc gcc (GCC) 15.2.1 20250808 (Red Hat 15.2.1-1) CentOS Stream 10 Kernel: 5.4 Compiler: gcc gcc (GCC) 14.2.1 20250110 (Red Hat 14.2.1-8) CentOS Stream 9 Kernel: 5.4 Compiler: gcc gcc (GCC) 11.5.0 20240719 (Red Hat 11.5.0-11) To view detailed results, visit: https://lab.dpdk.org/results/dashboard/tarballs/35649/ UNH-IOL DPDK Community Lab To manage your email subscriptions, visit: https://lab.dpdk.org/results/dashboard/preferences/subscriptions/