From mboxrd@z Thu Jan 1 00:00:00 1970 Return-Path: Received: from mails.dpdk.org (mails.dpdk.org [217.70.189.124]) by inbox.dpdk.org (Postfix) with ESMTP id 1629C48B4C for ; Wed, 19 Nov 2025 10:41:20 +0100 (CET) Received: from mails.dpdk.org (localhost [127.0.0.1]) by mails.dpdk.org (Postfix) with ESMTP id 1140340265; Wed, 19 Nov 2025 10:41:20 +0100 (CET) Received: from mail-pl1-f226.google.com (mail-pl1-f226.google.com [209.85.214.226]) by mails.dpdk.org (Postfix) with ESMTP id C3D1440265 for ; Wed, 19 Nov 2025 10:41:18 +0100 (CET) Received: by mail-pl1-f226.google.com with SMTP id d9443c01a7336-298456bb53aso73498285ad.0 for ; Wed, 19 Nov 2025 01:41:18 -0800 (PST) DKIM-Signature: v=1; a=rsa-sha256; c=relaxed/relaxed; d=iol.unh.edu; s=unh-iol; t=1763545278; x=1764150078; darn=dpdk.org; h=cc:to:from:subject:message-id:date:from:to:cc:subject:date :message-id:reply-to; bh=RJ1PsOLhx+bkUbfMrmwT93FZjkhUWL3sarU7nTTnhw4=; b=LSm8bJLcS85AszczfQIxmRhsESSnCi4Q3RomPZbtHFQpzTrrianKu6ApOLBEo+DJGx U5pZebnLwn73ecEpsNiZu3nCElpyt4fpTS/MFBxifxTynEvllect3LCCGBhXfZzIl1Y4 /eOph1uEUBg02eI15lfyCi5ffJ2/Mu+k/ifTg= X-Google-DKIM-Signature: v=1; a=rsa-sha256; c=relaxed/relaxed; d=1e100.net; s=20230601; t=1763545278; x=1764150078; h=cc:to:from:subject:message-id:date:x-gm-gg:x-gm-message-state:from :to:cc:subject:date:message-id:reply-to; bh=RJ1PsOLhx+bkUbfMrmwT93FZjkhUWL3sarU7nTTnhw4=; b=FaLkvFJ4lXag8z/N/Yfw/IQL9LWQWRFTbrdzAzkgaxub921GfgKuzwBULFsQ3BhhwS j7p2mP4Yidoh99Je/EDCNL8FtjCyrzfgtocawEtjt+CDX6On8bin/SsvM0fcLh/z/Fvh oxSjkGQ37YBTaQbNSsiOoakacHIB1Hq/+KL/BFqhEYqQ8DeHp0qUKr6rMuHFda0gGgTw VKUxUXMpMZr44hK84p4ByK+DNcLeWy44gkBRIFAg1PeC9LsEXKpSDzBs9zQmgvHRfsNS mli2EaNF0CZdY5VX+LDCkwsiwNFmmih64Bmo/vglMeKhDvxc+TFirbITbBgsMUrbdqVx vKdA== X-Gm-Message-State: AOJu0Yz5N6WKX9721RaJIW6tf3vPwS2ccl72GBxf/r4/SWiNfG6sxASt fckPYkjASFLvRQEpjlDb+FYY7O6XeGrQ1brCNccexumlZHTQ31ir4rHsdDwz060W5qdwh97Ub6W bPQCpy8u4V9dWhzEnJ7VbhVwNBsupFQI8NcXgmaFuicjNbx0a2iLn X-Gm-Gg: ASbGncs3s3/c0vXLXN8B0+oAPFWVLCNG7pzLUaXd6sv6oTQnvEMfT+PUrIdtcnfDQHH kka/DZ7FwfIhsPH5DapkXVtVoyROJgiBdlt7gRLxX0AaoMC6dzKp33tImgmLBzBMb9PM9CK68E0 cd/+Iyfcgg7vnEytJNQ+PeOD51+gQJrf+CEki/w8kZ2R87AXtP1N0JAhNNlrfzdrkaNzIc4ag5k 5mWIyxuoIKQQMuczQzow5XUVtAMN9pPpzfQhj51WNSQnsoBzyxYzCmVZCDogTSEQFJqWnnVgRWl HyV1vbzjhWvSWVHD7SZUV6IR8tO1zjjt22DBfG32ZRMELURquoxlZNVjidC0KvzSS2g/yZpGIIZ nzzgxKvCGQjd2fx9GEXI= X-Google-Smtp-Source: AGHT+IFet+CZURoHEAKOPCSI8BdOwSCKNpNjTJQxs7Rs++LvmiyVm9t3L9QSBpymPzq2ycC6L1lXCMNw9xk3 X-Received: by 2002:a17:903:19e7:b0:299:bdaa:a886 with SMTP id d9443c01a7336-299bdaaaa07mr198567375ad.12.1763545277929; Wed, 19 Nov 2025 01:41:17 -0800 (PST) Received: from postal.iol.unh.edu (postal.iol.unh.edu. [2606:4100:3880:1234::84]) by smtp-relay.gmail.com with ESMTPS id d9443c01a7336-2985c234650sm20614265ad.3.2025.11.19.01.41.17 (version=TLS1_2 cipher=ECDHE-ECDSA-AES128-GCM-SHA256 bits=128/128); Wed, 19 Nov 2025 01:41:17 -0800 (PST) X-Relaying-Domain: iol.unh.edu Date: Wed, 19 Nov 2025 01:41:17 -0800 (PST) Message-ID: <691d90bd.170a0220.3293e6.7f4bSMTPIN_ADDED_MISSING@mx.google.com> Received: from [172.21.0.8] (unknown [172.18.0.240]) by postal.iol.unh.edu (Postfix) with ESMTP id 359096051830; Wed, 19 Nov 2025 04:41:17 -0500 (EST) Subject: |SUCCESS| [GIT MASTER] d297bb24650efb7040a66a3270e01c94fc8ee4f5 From: dpdklab@iol.unh.edu To: Test Report Cc: dpdk-test-reports@iol.unh.edu, Xueming Li , Kevin Traynor , Luca Boccassi Content-Type: text/plain X-BeenThere: test-report@dpdk.org X-Mailman-Version: 2.1.29 Precedence: list List-Id: automatic DPDK test reports List-Unsubscribe: , List-Archive: List-Post: List-Help: List-Subscribe: , Errors-To: test-report-bounces@dpdk.org _Testing PASS_ Branch: tags/v22.11 d297bb24650efb7040a66a3270e01c94fc8ee4f5 --> testing pass Upstream job id: Generic-DPDK-Compile-Meson#445930 Test environment and result as below: +------------------------------+--------------------+ | Environment | dpdk_meson_compile | +==============================+====================+ | Ubuntu 20.04 | PASS | +------------------------------+--------------------+ | Debian GNU/Linux 12 | PASS | +------------------------------+--------------------+ | Red Hat Enterprise Linux 9.5 | PASS | +------------------------------+--------------------+ | Ubuntu 24.04 | PASS | +------------------------------+--------------------+ | Ubuntu 22.04 | PASS | +------------------------------+--------------------+ | Fedora Linux 42 | PASS | +------------------------------+--------------------+ | CentOS Stream 10 | PASS | +------------------------------+--------------------+ | CentOS Stream 9 | PASS | +------------------------------+--------------------+ Ubuntu 20.04 Kernel: 5.4 Compiler: gcc gcc (Ubuntu 9.4.0-1ubuntu1~20.04.2) 9.4.0 Debian GNU/Linux 12 Kernel: 5.4 Compiler: gcc gcc (Debian 12.2.0-14+deb12u1) 12.2.0 Red Hat Enterprise Linux 9.5 Kernel: 5.4 Compiler: gcc gcc (GCC) 11.5.0 20240719 (Red Hat 11.5.0-2) Ubuntu 24.04 Kernel: 5.4 Compiler: gcc gcc (Ubuntu 13.3.0-6ubuntu2~24.04) 13.3.0 Ubuntu 22.04 Kernel: 5.4 Compiler: gcc gcc (Ubuntu 11.4.0-1ubuntu1~22.04) 11.4.0 Fedora Linux 42 Kernel: 5.4 Compiler: gcc gcc (GCC) 15.2.1 20250808 (Red Hat 15.2.1-1) CentOS Stream 10 Kernel: 5.4 Compiler: gcc gcc (GCC) 14.2.1 20250110 (Red Hat 14.2.1-8) CentOS Stream 9 Kernel: 5.4 Compiler: gcc gcc (GCC) 11.5.0 20240719 (Red Hat 11.5.0-11) To view detailed results, visit: https://lab.dpdk.org/results/dashboard/tarballs/35649/ UNH-IOL DPDK Community Lab To manage your email subscriptions, visit: https://lab.dpdk.org/results/dashboard/preferences/subscriptions/