From mboxrd@z Thu Jan 1 00:00:00 1970 Return-Path: Received: from mails.dpdk.org (mails.dpdk.org [217.70.189.124]) by inbox.dpdk.org (Postfix) with ESMTP id 2230F48B4C for ; Wed, 19 Nov 2025 10:41:27 +0100 (CET) Received: from mails.dpdk.org (localhost [127.0.0.1]) by mails.dpdk.org (Postfix) with ESMTP id 1DA1140265; Wed, 19 Nov 2025 10:41:27 +0100 (CET) Received: from mail-oa1-f99.google.com (mail-oa1-f99.google.com [209.85.160.99]) by mails.dpdk.org (Postfix) with ESMTP id B673640265 for ; Wed, 19 Nov 2025 10:41:25 +0100 (CET) Received: by mail-oa1-f99.google.com with SMTP id 586e51a60fabf-3ec4d494383so1638680fac.3 for ; Wed, 19 Nov 2025 01:41:25 -0800 (PST) DKIM-Signature: v=1; a=rsa-sha256; c=relaxed/relaxed; d=iol.unh.edu; s=unh-iol; t=1763545285; x=1764150085; darn=dpdk.org; h=cc:to:from:subject:message-id:date:from:to:cc:subject:date :message-id:reply-to; bh=5/0/83jMPcmmnpuiAs9xYQ+nVZKoyvmF9di3KdLUQpg=; b=AxnZjAdz6iWx98oKwI+HMawHZrVUtrKNqjNe17IHwEzZ4DCW0ppqwzqzDrkateVbmN zDSzvcAjamEhrU24ZoGuCqrFh3DJptxEdKDXtUQ7o7LbxJqhXP+XFZ9+aJjS10WKNQ1i EF2yyOrA6/Ie6gQcdAD8C7gfVAAVg+FEOxCJ4= X-Google-DKIM-Signature: v=1; a=rsa-sha256; c=relaxed/relaxed; d=1e100.net; s=20230601; t=1763545285; x=1764150085; h=cc:to:from:subject:message-id:date:x-gm-gg:x-gm-message-state:from :to:cc:subject:date:message-id:reply-to; bh=5/0/83jMPcmmnpuiAs9xYQ+nVZKoyvmF9di3KdLUQpg=; b=YUinCOQ2GHBZFljjaXKnjU4CtKN7SRPLprw0Wibg5cE8aVef0SVTpUHoq/Au0+l7nV RorjS8PI5eG7nKvYY3Rr5DI9E/mwMGVDHYimHRe6JzwFfwfNfPZfmtJe5lOXw8o1Zrg8 8hLy+0/amJEcm8bNXG91Nu8xTZN9SuWZiJDsF/BMlDkz+vuPZCZV/+VhfbG4MTtvKyEE qswnc7cVzfOCfgPtvDGMtB6ko0yfeJ9CwylSWFwlZT+344A07aWbf9o6YT2JtbDmkmjk kKHXP1WIjusicR6n41KSvVgw8fDdREqjQ/6exC8nvtg38hR461Z1KZkz9ErIbfr4MWNQ cgrQ== X-Gm-Message-State: AOJu0Yx9Kv58CaAwcqG0ML0eB1dfCVgXOo9NzzVuWsxepAzoFhTlcLZO Tsr42IKpxl5PetsQqVpO5eNAQAkYGH72eFiO141hAz7Xxl0aYpDQMXYIlrUp3mmksF/ft2eHt5x WBdztQUqjo2ynZDSvAdvrMZ3CyYrZtcwllyZw X-Gm-Gg: ASbGncvH3R6p5NmSQwjKwd5Kts33Q2brEDWKaoZu722l4cAZ721OifsXsSHUZjCXIUO 1+hj6u5edW9JAeAdpKI6X0NELF5VucrZ9+7hZy6YFhEXQLAoUtK0iwA1NaA3B2r8MVmMOE/d8v1 0VhY4qTZZ1m7A6w4R3S2hw7dD9kUhWEI8yIcbQ5kDiykWwT3AUWegYROvrqMO97HoChtTBO2/4D QAbv70RlTCgT9a97d4YJL4b6mbbc3GWyFuSKDwIbzvN5hBwn5wdNlor6ehznPH7ftQaZSnux+OL jEORjlljDLQF6Wxwqrgu6t6WPAKDDNyOfJbzGvdUD7TAjteYFdXyR07GqfwOozXin5tBk0Com+5 e/3z24SRzs3gmNv9mbRvBaMKgHtKHGbxDp1JRjvcpQg== X-Google-Smtp-Source: AGHT+IEjjG+7Cwh6QuwT+KT49AnIDUXm3v6p0hZ9aNp+dQPcTVfJNF2J3l0KO58xL261zTnAF/VpvyHHdfTx X-Received: by 2002:a05:6871:3428:b0:3ec:3365:7070 with SMTP id 586e51a60fabf-3ec3365a19dmr5673659fac.24.1763545284919; Wed, 19 Nov 2025 01:41:24 -0800 (PST) Received: from postal.iol.unh.edu (postal.iol.unh.edu. [132.177.123.84]) by smtp-relay.gmail.com with ESMTPS id 586e51a60fabf-3e8522706d9sm1712903fac.14.2025.11.19.01.41.24 (version=TLS1_2 cipher=ECDHE-ECDSA-AES128-GCM-SHA256 bits=128/128); Wed, 19 Nov 2025 01:41:24 -0800 (PST) X-Relaying-Domain: iol.unh.edu Date: Wed, 19 Nov 2025 01:41:24 -0800 (PST) Message-ID: <691d90c4.050a0220.25fd18.51e8SMTPIN_ADDED_MISSING@mx.google.com> Received: from [172.21.0.5] (unknown [172.18.0.240]) by postal.iol.unh.edu (Postfix) with ESMTP id 741BB6051830; Wed, 19 Nov 2025 04:41:24 -0500 (EST) Subject: |SUCCESS| [GIT MASTER] d297bb24650efb7040a66a3270e01c94fc8ee4f5 From: dpdklab@iol.unh.edu To: Test Report Cc: dpdk-test-reports@iol.unh.edu, Xueming Li , Kevin Traynor , Luca Boccassi Content-Type: text/plain X-BeenThere: test-report@dpdk.org X-Mailman-Version: 2.1.29 Precedence: list List-Id: automatic DPDK test reports List-Unsubscribe: , List-Archive: List-Post: List-Help: List-Subscribe: , Errors-To: test-report-bounces@dpdk.org _Testing PASS_ Branch: tags/v22.11 d297bb24650efb7040a66a3270e01c94fc8ee4f5 --> testing pass Upstream job id: Generic-DPDK-Compile-Meson#445931 Test environment and result as below: +------------------------------+--------------------+ | Environment | dpdk_meson_compile | +==============================+====================+ | Ubuntu 20.04 | PASS | +------------------------------+--------------------+ | Debian GNU/Linux 12 | PASS | +------------------------------+--------------------+ | Red Hat Enterprise Linux 9.5 | PASS | +------------------------------+--------------------+ | Ubuntu 24.04 | PASS | +------------------------------+--------------------+ | Ubuntu 22.04 | PASS | +------------------------------+--------------------+ | Fedora Linux 42 | PASS | +------------------------------+--------------------+ | CentOS Stream 10 | PASS | +------------------------------+--------------------+ | CentOS Stream 9 | PASS | +------------------------------+--------------------+ Ubuntu 20.04 Kernel: 5.4 Compiler: gcc gcc (Ubuntu 9.4.0-1ubuntu1~20.04.2) 9.4.0 Debian GNU/Linux 12 Kernel: 5.4 Compiler: gcc gcc (Debian 12.2.0-14+deb12u1) 12.2.0 Red Hat Enterprise Linux 9.5 Kernel: 5.4 Compiler: gcc gcc (GCC) 11.5.0 20240719 (Red Hat 11.5.0-2) Ubuntu 24.04 Kernel: 5.4 Compiler: gcc gcc (Ubuntu 13.3.0-6ubuntu2~24.04) 13.3.0 Ubuntu 22.04 Kernel: 5.4 Compiler: gcc gcc (Ubuntu 11.4.0-1ubuntu1~22.04) 11.4.0 Fedora Linux 42 Kernel: 5.4 Compiler: gcc gcc (GCC) 15.2.1 20250808 (Red Hat 15.2.1-1) CentOS Stream 10 Kernel: 5.4 Compiler: gcc gcc (GCC) 14.2.1 20250110 (Red Hat 14.2.1-8) CentOS Stream 9 Kernel: 5.4 Compiler: gcc gcc (GCC) 11.5.0 20240719 (Red Hat 11.5.0-11) To view detailed results, visit: https://lab.dpdk.org/results/dashboard/tarballs/35649/ UNH-IOL DPDK Community Lab To manage your email subscriptions, visit: https://lab.dpdk.org/results/dashboard/preferences/subscriptions/