From mboxrd@z Thu Jan 1 00:00:00 1970 Return-Path: Received: from mails.dpdk.org (mails.dpdk.org [217.70.189.124]) by inbox.dpdk.org (Postfix) with ESMTP id 2ED7748B4C for ; Wed, 19 Nov 2025 10:41:34 +0100 (CET) Received: from mails.dpdk.org (localhost [127.0.0.1]) by mails.dpdk.org (Postfix) with ESMTP id 293AF40262; Wed, 19 Nov 2025 10:41:34 +0100 (CET) Received: from mail-il1-f226.google.com (mail-il1-f226.google.com [209.85.166.226]) by mails.dpdk.org (Postfix) with ESMTP id B11ED40265 for ; Wed, 19 Nov 2025 10:41:32 +0100 (CET) Received: by mail-il1-f226.google.com with SMTP id e9e14a558f8ab-4330e912c51so28089505ab.3 for ; Wed, 19 Nov 2025 01:41:32 -0800 (PST) DKIM-Signature: v=1; a=rsa-sha256; c=relaxed/relaxed; d=iol.unh.edu; s=unh-iol; t=1763545292; x=1764150092; darn=dpdk.org; h=cc:to:from:subject:message-id:date:from:to:cc:subject:date :message-id:reply-to; bh=6yfpx+s56YfthIwHk0SF2b6qcltL75g2mz4uBozDu9E=; b=fHfwDXPD6lRDXi9I5czIiG4yrwidsPIQ8Pphu9DoDun80jCWxWsWmBSZ3bN4OXor0T LPZZ8PXVwboBjTahEi8YZ86Ia16JxztBB2k2BgcnzFILnQE+bNm36DsN8U9vX0xMHHCz dqaw1l31jsM5XYuscESCzCgYyyftJGx5m4JtQ= X-Google-DKIM-Signature: v=1; a=rsa-sha256; c=relaxed/relaxed; d=1e100.net; s=20230601; t=1763545292; x=1764150092; h=cc:to:from:subject:message-id:date:x-gm-gg:x-gm-message-state:from :to:cc:subject:date:message-id:reply-to; bh=6yfpx+s56YfthIwHk0SF2b6qcltL75g2mz4uBozDu9E=; b=ibySaXEHhnu2NhkP66yO3q7wo/oZwbptd4DR8pN8xwfN5uPIbeyAzKOUhciFULuRyb nD32CeaLv1+1HWg/GdwKR3OVvA6352GF2//H6NxcZiTgkxdgB5b8FSzSfYVbAGSx6IHE wtY65uaF83ghRn6rStgB+7LLmmdIDlZEdnT+fbtaxh3mshj7B0cGxhk8BjUo+UoeJHVr XBu9f1QP94VkRKVvyGDdvGiXdsy8ZCjUE/Jq2T8eoi+Ql1oxFeK21R3jFkiYNvuzxjRj cjnc2XDZgsA649k+zXE+7KNQB2cdkIQ0uubq/E7qWrVUNddMexqxHycDs6SJ+JXIwy+Z h9Cw== X-Gm-Message-State: AOJu0Ywz0o/0MrnpnbGvDNFNsIR4IF7S0PBt3EBPUhxBsQPluiVu9pA4 YtkTbmaU+/RmUGid6AJuZ6oRgH6cUdZwjU7Gaz1zm7wFOgYcBYA0FTvxAJynU+vTNrAD/NS+qAa rbDMp7plw0sVBDk5Lzciw1Vvs47veAdzzSXVWm1bfmPrXhSFyF5jW X-Gm-Gg: ASbGncvxtoxij2hOrZP1ArIyRd5EnZUBSPj2hmeLq5f//uZq1Md7WPCTjCOKByNN5R3 VCms6q73UZjbt0tZQMaH2uwFeY6T2IaC7l5c8xQYGVko7LYNHNlgWjght23QQ1+D5DTGwwtqGCT FqYC+CjRTbsQPV+H8xiybs8Cm458Dgh9DfCJIzcUU0XPobY2cvQdQrNmxdHa2DrnQaRl4iEJJBz wIHLszpAmZ030RVZYoi/ax07p9rwTdFVsiREdKiWw7lFr6BZZ9b8A7SVTltqDADKSvHgUHzGbVB 0XpAp/ybUQueAtZYYkuj6M7OqBqlIm8xwTjHVsDqQ1ZcFmnALKMU5tV32K9C5qhXujb8fd1Fs5b vXWbtAUd7gl7M3YUY1T0= X-Google-Smtp-Source: AGHT+IHoVue/unEk5BJPnXxuZbwa+BImXPJcW7NEsEdOp7dPLAc3Op4tJixjeChVa1dx3GOSbdVUtOiIfnmf X-Received: by 2002:a92:c6c7:0:b0:434:96ea:ff75 with SMTP id e9e14a558f8ab-43496eb02d0mr137442895ab.37.1763545292040; Wed, 19 Nov 2025 01:41:32 -0800 (PST) Received: from postal.iol.unh.edu (postal.iol.unh.edu. [2606:4100:3880:1234::84]) by smtp-relay.gmail.com with ESMTPS id ca18e2360f4ac-94903a9fbcdsm51812839f.3.2025.11.19.01.41.31 (version=TLS1_2 cipher=ECDHE-ECDSA-AES128-GCM-SHA256 bits=128/128); Wed, 19 Nov 2025 01:41:32 -0800 (PST) X-Relaying-Domain: iol.unh.edu Date: Wed, 19 Nov 2025 01:41:32 -0800 (PST) Message-ID: <691d90cc.050a0220.2f9d1e.b28eSMTPIN_ADDED_MISSING@mx.google.com> Received: from [172.21.0.9] (unknown [172.18.0.240]) by postal.iol.unh.edu (Postfix) with ESMTP id 9A1956051830; Wed, 19 Nov 2025 04:41:31 -0500 (EST) Subject: |SUCCESS| [GIT MASTER] d297bb24650efb7040a66a3270e01c94fc8ee4f5 From: dpdklab@iol.unh.edu To: Test Report Cc: dpdk-test-reports@iol.unh.edu, Xueming Li , Kevin Traynor , Luca Boccassi Content-Type: text/plain X-BeenThere: test-report@dpdk.org X-Mailman-Version: 2.1.29 Precedence: list List-Id: automatic DPDK test reports List-Unsubscribe: , List-Archive: List-Post: List-Help: List-Subscribe: , Errors-To: test-report-bounces@dpdk.org _Testing PASS_ Branch: tags/v22.11 d297bb24650efb7040a66a3270e01c94fc8ee4f5 --> testing pass Upstream job id: Generic-DPDK-Compile-Meson#445932 Test environment and result as below: +------------------------------+--------------------+ | Environment | dpdk_meson_compile | +==============================+====================+ | Ubuntu 20.04 | PASS | +------------------------------+--------------------+ | Debian GNU/Linux 12 | PASS | +------------------------------+--------------------+ | Red Hat Enterprise Linux 9.5 | PASS | +------------------------------+--------------------+ | Ubuntu 24.04 | PASS | +------------------------------+--------------------+ | Ubuntu 22.04 | PASS | +------------------------------+--------------------+ | Fedora Linux 42 | PASS | +------------------------------+--------------------+ | CentOS Stream 10 | PASS | +------------------------------+--------------------+ | CentOS Stream 9 | PASS | +------------------------------+--------------------+ Ubuntu 20.04 Kernel: 5.4 Compiler: gcc gcc (Ubuntu 9.4.0-1ubuntu1~20.04.2) 9.4.0 Debian GNU/Linux 12 Kernel: 5.4 Compiler: gcc gcc (Debian 12.2.0-14+deb12u1) 12.2.0 Red Hat Enterprise Linux 9.5 Kernel: 5.4 Compiler: gcc gcc (GCC) 11.5.0 20240719 (Red Hat 11.5.0-2) Ubuntu 24.04 Kernel: 5.4 Compiler: gcc gcc (Ubuntu 13.3.0-6ubuntu2~24.04) 13.3.0 Ubuntu 22.04 Kernel: 5.4 Compiler: gcc gcc (Ubuntu 11.4.0-1ubuntu1~22.04) 11.4.0 Fedora Linux 42 Kernel: 5.4 Compiler: gcc gcc (GCC) 15.2.1 20250808 (Red Hat 15.2.1-1) CentOS Stream 10 Kernel: 5.4 Compiler: gcc gcc (GCC) 14.2.1 20250110 (Red Hat 14.2.1-8) CentOS Stream 9 Kernel: 5.4 Compiler: gcc gcc (GCC) 11.5.0 20240719 (Red Hat 11.5.0-11) To view detailed results, visit: https://lab.dpdk.org/results/dashboard/tarballs/35649/ UNH-IOL DPDK Community Lab To manage your email subscriptions, visit: https://lab.dpdk.org/results/dashboard/preferences/subscriptions/