From mboxrd@z Thu Jan 1 00:00:00 1970 Return-Path: Received: from mails.dpdk.org (mails.dpdk.org [217.70.189.124]) by inbox.dpdk.org (Postfix) with ESMTP id 78A6748B4E for ; Wed, 19 Nov 2025 14:38:12 +0100 (CET) Received: from mails.dpdk.org (localhost [127.0.0.1]) by mails.dpdk.org (Postfix) with ESMTP id 70F5B40262; Wed, 19 Nov 2025 14:38:12 +0100 (CET) Received: from mail-qt1-f226.google.com (mail-qt1-f226.google.com [209.85.160.226]) by mails.dpdk.org (Postfix) with ESMTP id 66D9940262 for ; Wed, 19 Nov 2025 14:38:11 +0100 (CET) Received: by mail-qt1-f226.google.com with SMTP id d75a77b69052e-4eda26a04bfso75898681cf.2 for ; Wed, 19 Nov 2025 05:38:11 -0800 (PST) DKIM-Signature: v=1; a=rsa-sha256; c=relaxed/relaxed; d=iol.unh.edu; s=unh-iol; t=1763559491; x=1764164291; darn=dpdk.org; h=references:in-reply-to:cc:to:from:subject:message-id:date:from:to :cc:subject:date:message-id:reply-to; bh=/PIjaQyT2RAbJLAxDuVpqlbsxS4JRZfRF98f86v0Auw=; b=DRhLP+Ip84Ylv4T/YoKqegijmsY62m+gQLj6IHji1WFRMWK+ffjwEhhqzcaLBTtYSn j2uNd6GCBjU3WZm+iqlXHvwdk/xVqfL2QLtY0qGZy1Vk9uu02u+wfbDdifaAhVhP4Lz9 xCr2Vkh9E4Wdpu67jZkElSRYO2sco4cYz0QcY= X-Google-DKIM-Signature: v=1; a=rsa-sha256; c=relaxed/relaxed; d=1e100.net; s=20230601; t=1763559491; x=1764164291; h=references:in-reply-to:cc:to:from:subject:message-id:date:x-gm-gg :x-gm-message-state:from:to:cc:subject:date:message-id:reply-to; bh=/PIjaQyT2RAbJLAxDuVpqlbsxS4JRZfRF98f86v0Auw=; b=kE2Iwyj1IJsrJv/QaQOrizbzHIShATCArQq/0oeFIsfMwnxDjefzgi3sDOhrTkX/pE CnfAaVh9HMoPY2x5H3Hf1Fktd/dEsiUQ6fpelJa7E4s0V+BbG9Y/IclX74xywisPdngX ExL52qSYw6c+Nj3dYUPv7EAps6kbaNV8vgQTewySqvJSsT9N4YVU0wfMiPj3wRKhTQUD Pwx7oaOHfJK+X83ZcSowd/r8d4pU94fNiYqEQaB11FLs9/SJZAPStT6y7nsJNCmGbNI2 d13H9AI0raz+RCMZ+Vv7SmaIm/a6rwkGHe72q0ROCs0oOvTdoEjb1KbyCzaXAl5URf/u gdqg== X-Gm-Message-State: AOJu0YyxLi4Nfm5iGJx4aUY+F6YSy+EFv061YBu/foPa8p5QGNay7bMA ZmF2A1GqNcpvd1F5xThNVZK+9TqgTFHTwbZQRynfRzFn//r35/oVpjIeHemP/jKj5kQ9Rv/fi4Z Yop1uiWyq9BfCOfUne47frI9DgHqF3DyHmSJiFAPQGoAM X-Gm-Gg: ASbGncsnsUNT0RXLVoQWLbkFWA51fp6jIjPdJ4WhqKISfrCznwh1anwrtbbJHeK6zcA 6o5JVTIQ3Z2XdseedmB5I7rIZOLUXnv8fGmRUHg6DUKbY/hxkyLyqBTAtEy0frjpLUup2U9BrbP Un/xI5CCfvp1Z+K3gnE+rYv54PYOe2yn2soPg6ueZEYWz6doMu8i7WrPmiHiKRqrfqMaeUj2/M2 f7zrJd8o8EcPa8wt9l9CLTrSf6kewf0aoBy3wLOP82wovRinQ7rm2kPXpd9m+Z38GzeEHKDezK4 AMA72m2Gp2fyN1iwPOn0iVIzPb3TeRZMBtChq/NBkbBDrJmB4kJmmKcdEEmRX8QVYzFHXuUzM+h OElBZofJMzMfGfMJiH8QYIc4+ZVr1yc69EhT7mCmIYA== X-Google-Smtp-Source: AGHT+IG7kgLcZJqibtzsXevllt8Xfmog1fABUzxBKKSyit6QDy9LQgYn2fgX5yqiBrhX8YmdTDbHQKK9PHIE X-Received: by 2002:a05:622a:2444:b0:4ee:11bc:bc98 with SMTP id d75a77b69052e-4ee11bcc0d0mr167137181cf.56.1763559490685; Wed, 19 Nov 2025 05:38:10 -0800 (PST) Received: from postal.iol.unh.edu (postal.iol.unh.edu. [132.177.123.84]) by smtp-relay.gmail.com with ESMTPS id d75a77b69052e-4ede85a1bd5sm11665841cf.0.2025.11.19.05.38.10 (version=TLS1_2 cipher=ECDHE-ECDSA-AES128-GCM-SHA256 bits=128/128); Wed, 19 Nov 2025 05:38:10 -0800 (PST) X-Relaying-Domain: iol.unh.edu Date: Wed, 19 Nov 2025 05:38:10 -0800 (PST) Message-ID: <691dc842.c80a0220.85494.be12SMTPIN_ADDED_MISSING@mx.google.com> Received: from [172.21.0.5] (unknown [172.18.0.240]) by postal.iol.unh.edu (Postfix) with ESMTP id 2DB686051830; Wed, 19 Nov 2025 08:38:10 -0500 (EST) Subject: |SUCCESS| pw158931 [PATCH] [v2] crypto/openssl: support AES-XTS oper From: dpdklab@iol.unh.edu To: Test Report Cc: dpdk-test-reports@iol.unh.edu, Akhil Goyal In-Reply-To: <20251119120231.1399-1-felix.zhang@jaguarmicro.com> References: <20251119120231.1399-1-felix.zhang@jaguarmicro.com> Content-Type: text/plain X-BeenThere: test-report@dpdk.org X-Mailman-Version: 2.1.29 Precedence: list List-Id: automatic DPDK test reports List-Unsubscribe: , List-Archive: List-Post: List-Help: List-Subscribe: , Errors-To: test-report-bounces@dpdk.org Test-Label: iol-unit-amd64-testing Test-Status: SUCCESS http://dpdk.org/patch/158931 _Testing PASS_ Submitter: Shaokai Zhang Date: Wednesday, November 19 2025 12:02:30 DPDK git baseline: Repo:dpdk-next-crypto Branch: master CommitID:d163f9787ca6c43392d8d39c370428dbfa20cf90 158931 --> testing pass Upstream job id: Generic-VM-Unit-Test-DPDK#32694 Test environment and result as below: +-------------------------------+----------------+ | Environment | dpdk_unit_test | +===============================+================+ | CentOS Stream 10 | PASS | +-------------------------------+----------------+ | Debian GNU/Linux 12 | PASS | +-------------------------------+----------------+ | Fedora Linux 42 | PASS | +-------------------------------+----------------+ | CentOS Stream 9 | PASS | +-------------------------------+----------------+ | Red Hat Enterprise Linux 8.10 | PASS | +-------------------------------+----------------+ | Fedora Linux 40 | PASS | +-------------------------------+----------------+ | Fedora Linux 41 | PASS | +-------------------------------+----------------+ | Red Hat Enterprise Linux 9.5 | PASS | +-------------------------------+----------------+ | Ubuntu 24.04 | PASS | +-------------------------------+----------------+ | Ubuntu 20.04 | PASS | +-------------------------------+----------------+ | Ubuntu 22.04 | PASS | +-------------------------------+----------------+ | Windows Server 2022 | PASS | +-------------------------------+----------------+ CentOS Stream 10 Kernel: 5.15 Compiler: gcc gcc (GCC) 14.2.1 20250110 (Red Hat 14.2.1-8) Debian GNU/Linux 12 Kernel: 5.15 Compiler: gcc gcc (Debian 12.2.0-14+deb12u1) 12.2.0 Fedora Linux 42 Kernel: 5.15 Compiler: clang gcc (GCC) 15.2.1 20250808 (Red Hat 15.2.1-1) CentOS Stream 9 Kernel: 5.15 Compiler: gcc gcc (GCC) 11.5.0 20240719 (Red Hat 11.5.0-11) Red Hat Enterprise Linux 8.10 Kernel: 5.15 Compiler: gcc gcc (GCC) 8.5.0 20210514 (Red Hat 8.5.0-22) Fedora Linux 40 Kernel: 5.15 Compiler: gcc gcc (GCC) 14.2.1 20240912 (Red Hat 14.2.1-3) Fedora Linux 41 Kernel: 5.15 Compiler: clang gcc (GCC) 14.3.1 20250523 (Red Hat 14.3.1-1) Red Hat Enterprise Linux 9.5 Kernel: 5.15 Compiler: gcc gcc (GCC) 11.5.0 20240719 (Red Hat 11.5.0-2) Ubuntu 24.04 Kernel: 5.15 Compiler: gcc gcc (Ubuntu 13.3.0-6ubuntu2~24.04) 13.3.0 Ubuntu 20.04 Kernel: 5.15 Compiler: gcc gcc (Ubuntu 9.4.0-1ubuntu1~20.04.2) 9.4.0 Ubuntu 22.04 Kernel: 5.15 Compiler: gcc gcc (Ubuntu 11.4.0-1ubuntu1~22.04) 11.4.0 Windows Server 2022 Kernel: 10.0.20348.2031 Compiler: clang 15.0.7, gcc 14.1.0 (MinGW), and MSVC VS 19.39.33521 To view detailed results, visit: https://lab.dpdk.org/results/dashboard/patchsets/34640/ UNH-IOL DPDK Community Lab To manage your email subscriptions, visit: https://lab.dpdk.org/results/dashboard/preferences/subscriptions/