From mboxrd@z Thu Jan 1 00:00:00 1970 Return-Path: Received: from mails.dpdk.org (mails.dpdk.org [217.70.189.124]) by inbox.dpdk.org (Postfix) with ESMTP id 71DD348B4E for ; Wed, 19 Nov 2025 14:55:10 +0100 (CET) Received: from mails.dpdk.org (localhost [127.0.0.1]) by mails.dpdk.org (Postfix) with ESMTP id 5168640270; Wed, 19 Nov 2025 14:55:10 +0100 (CET) Received: from mail-qk1-f226.google.com (mail-qk1-f226.google.com [209.85.222.226]) by mails.dpdk.org (Postfix) with ESMTP id BF09340270 for ; Wed, 19 Nov 2025 14:55:09 +0100 (CET) Received: by mail-qk1-f226.google.com with SMTP id af79cd13be357-8b2dec4d115so419013185a.0 for ; Wed, 19 Nov 2025 05:55:09 -0800 (PST) DKIM-Signature: v=1; a=rsa-sha256; c=relaxed/relaxed; d=iol.unh.edu; s=unh-iol; t=1763560509; x=1764165309; darn=dpdk.org; h=references:in-reply-to:cc:to:from:subject:message-id:date:from:to :cc:subject:date:message-id:reply-to; bh=7rMbYt+9TCY4nKdoqWVYL2dIjWWtJZDC+0gtkwJfOb0=; b=IYLgx0VUd9l2nv5YYT7fbt6iSY6NV5air4Y/Lf4g+KI6o8hmqXoQtONytYNSpAXTMv gzFibKux4OxlTalY1e1PGSwtuZ6J047U8BF6rd3kRVvxXEvV7D6dOnGSN5nMkV6g7ZjH 7fNJPstQLhZiaxmtaVsYJdp0zZA7AlZf+YyWY= X-Google-DKIM-Signature: v=1; a=rsa-sha256; c=relaxed/relaxed; d=1e100.net; s=20230601; t=1763560509; x=1764165309; h=references:in-reply-to:cc:to:from:subject:message-id:date:x-gm-gg :x-gm-message-state:from:to:cc:subject:date:message-id:reply-to; bh=7rMbYt+9TCY4nKdoqWVYL2dIjWWtJZDC+0gtkwJfOb0=; b=Or4W5h74hwSyQbHbFI1CAyY1Ve+7jnJR4jJIkyCpoMvGQs0DNHovOhpS2g3WuFXAp6 fbnAAwAVsGkMe7Po0vu3hMS3Oq/SKT8BD+Qbg2KYM9KduZjLQDPoaU0UeGPjuEVFRYyr q4Ht3Md4fUmU5ro157tRxZSh0EPCBkZ5UV6U95ZxTZpVOWDorkhw+Rv4yncWziMAeJmY 49AIfBNYagdMWUyTJ+smEKXwlsjzHZkdTgAyTn8m7KMb7OsPRnigUOpk+s4Xd1jY1Spr w0D5q3prubKBBbjVpKVng2CeDcERM0hDvwv/O/msIIgTF7Witdk4Lyo+0p1xIBwZ3vFJ s+dA== X-Gm-Message-State: AOJu0YzkPFlSLa0ULVg+eATAG+N51C7vCne1GAOOkrxXxatNSMpeheQU zH9Hefay+pa9zzgim2h1MlwojW4sJW6jtSTe9rqx8oEHLqTqmHvIOpBtAiI6EM2oyMhu42RIYcX Bvi3xYsTBpudUgYxhi8SDTVzU30GwbEA+AVJGcXyxTX7Y99YM3ZZO0Be1QRUK X-Gm-Gg: ASbGncvP0fb4jzdkADkntABOQJFwnBapiGp/z14bjBvfvCuRsY15UETR//YpEaj1Y+T gx7SuNoQeciIfLPu2sBk/DHHX+3CJUGiP2wsoFwYv2YB/WWwUF3EPg6uramfb0X9QNiv2MqHOuX fleOuZcp9SHOfmvFkuEUf5I7KmKzuEQfyD2vuYTa3wi0mjINHPsBAvktdU6LCFYwHaqm86QBnHj m9EZep2QWF28ZgxVB8x4TgbjZ/sPbFKwUH5D770PMH6qVJwWKBf0HQZV9tnB3ic7YWvAavUxXSG 6hIaEGuuPaejT05fDlQUEoJvGXYroI2bq0zyxkR7cV3g8ggUMTHNrF+egXjngfMyAZycOjrN/hI 7X5Ml8SpSbLnFwuTiu9g= X-Google-Smtp-Source: AGHT+IG2f9pkFd7yaT2nv/mwFxiVtjrga3tmnWOYIajdHqfDH8bBbONR6H7go9vQ8JqHuQ/pn3V/kYY4VFYB X-Received: by 2002:a05:620a:198e:b0:8b2:f8c6:7ce6 with SMTP id af79cd13be357-8b2f8c67fcemr1207951385a.79.1763560508908; Wed, 19 Nov 2025 05:55:08 -0800 (PST) Received: from postal.iol.unh.edu (postal.iol.unh.edu. [2606:4100:3880:1234::84]) by smtp-relay.gmail.com with ESMTPS id af79cd13be357-8b2aef0ce51sm169200285a.5.2025.11.19.05.55.08 (version=TLS1_2 cipher=ECDHE-ECDSA-AES128-GCM-SHA256 bits=128/128); Wed, 19 Nov 2025 05:55:08 -0800 (PST) X-Relaying-Domain: iol.unh.edu Date: Wed, 19 Nov 2025 05:55:08 -0800 (PST) Message-ID: <691dcc3c.050a0220.3b1750.345dSMTPIN_ADDED_MISSING@mx.google.com> Received: from [172.21.0.4] (unknown [172.18.0.240]) by postal.iol.unh.edu (Postfix) with ESMTP id 7EDB06051830; Wed, 19 Nov 2025 08:55:08 -0500 (EST) Subject: |SUCCESS| pw158913-158930 [PATCH] [v5,18/18] vfio: introduce cdev mo From: dpdklab@iol.unh.edu To: Test Report Cc: dpdk-test-reports@iol.unh.edu In-Reply-To: <684f963686006c46a9b568b29c56494db9449148.1763550470.git.anatoly.burakov@intel.com> References: <684f963686006c46a9b568b29c56494db9449148.1763550470.git.anatoly.burakov@intel.com> Content-Type: text/plain X-BeenThere: test-report@dpdk.org X-Mailman-Version: 2.1.29 Precedence: list List-Id: automatic DPDK test reports List-Unsubscribe: , List-Archive: List-Post: List-Help: List-Subscribe: , Errors-To: test-report-bounces@dpdk.org Test-Label: iol-compile-amd64-testing Test-Status: SUCCESS http://dpdk.org/patch/158930 _Testing PASS_ Submitter: Anatoly Burakov Date: Wednesday, November 19 2025 11:08:16 DPDK git baseline: Repo:dpdk Branch: master CommitID:ef98b88455bf4a7c8b7aa3106a761c9e9270d6a3 158913-158930 --> testing pass Upstream job id: Windows-Compile-DPDK-Native#32524 Test environment and result as below: +---------------------+--------------------+-------------------+-------------------------+ | Environment | dpdk_meson_compile | dpdk_msvc_compile | dpdk_llvm_clang_compile | +=====================+====================+===================+=========================+ | Ubuntu 20.04 | PASS | SKIPPED | SKIPPED | +---------------------+--------------------+-------------------+-------------------------+ | FreeBSD 14.2 | PASS | SKIPPED | SKIPPED | +---------------------+--------------------+-------------------+-------------------------+ | Windows Server 2022 | SKIPPED | PASS | PASS | +---------------------+--------------------+-------------------+-------------------------+ Ubuntu 20.04 Kernel: 4.19 Compiler: gcc gcc (Ubuntu 9.4.0-1ubuntu1~20.04.2) 9.4.0 FreeBSD 14.2 Kernel: 14.2-RELEASE Compiler: clang 18.1.6 Windows Server 2022 Kernel: 10.0.20348.2031 Compiler: clang 15.0.7, gcc 14.1.0 (MinGW), and MSVC VS 19.39.33521 To view detailed results, visit: https://lab.dpdk.org/results/dashboard/patchsets/34641/ UNH-IOL DPDK Community Lab To manage your email subscriptions, visit: https://lab.dpdk.org/results/dashboard/preferences/subscriptions/