From mboxrd@z Thu Jan 1 00:00:00 1970 Return-Path: Received: from mails.dpdk.org (mails.dpdk.org [217.70.189.124]) by inbox.dpdk.org (Postfix) with ESMTP id 3362D48B4E for ; Wed, 19 Nov 2025 15:11:22 +0100 (CET) Received: from mails.dpdk.org (localhost [127.0.0.1]) by mails.dpdk.org (Postfix) with ESMTP id 2C16240262; Wed, 19 Nov 2025 15:11:22 +0100 (CET) Received: from mail-pl1-f226.google.com (mail-pl1-f226.google.com [209.85.214.226]) by mails.dpdk.org (Postfix) with ESMTP id 7E7EE40262 for ; Wed, 19 Nov 2025 15:11:20 +0100 (CET) Received: by mail-pl1-f226.google.com with SMTP id d9443c01a7336-298287a26c3so81931695ad.0 for ; Wed, 19 Nov 2025 06:11:20 -0800 (PST) DKIM-Signature: v=1; a=rsa-sha256; c=relaxed/relaxed; d=iol.unh.edu; s=unh-iol; t=1763561479; x=1764166279; darn=dpdk.org; h=cc:to:from:subject:message-id:date:from:to:cc:subject:date :message-id:reply-to; bh=CJ+90+srMnQHd63eG+Vi3NfHalQIX4pNIo1uqK7W+PM=; b=UXq5oIadDH97dC9nIPNDRJe0nPWXfYaubkNRsrHsbgY4kDqXMRHV7HgLuT1yO0hjuE TNRTye2wXqFVQ/nG2Wrrrv5ggTfo0Zk1FTIjg3l4FxswaaJOULLidzUrBCiJurGId4pq lGiZitvrgHX6xGkqtReo0q7s65YbfMJDZpegY= X-Google-DKIM-Signature: v=1; a=rsa-sha256; c=relaxed/relaxed; d=1e100.net; s=20230601; t=1763561479; x=1764166279; h=cc:to:from:subject:message-id:date:x-gm-gg:x-gm-message-state:from :to:cc:subject:date:message-id:reply-to; bh=CJ+90+srMnQHd63eG+Vi3NfHalQIX4pNIo1uqK7W+PM=; b=EjGDGJd9Cvf5AsmIK2dOTtuJdOzGSE6ufUMWo9fcd8pX7Jw7IQdm+yzNho5Nkbg4o4 qVyzgDn82FMm6IcDLiqWGb/Ox6AYGtWyj/r210yPDgj2OMNmudYMn3N0dFAWz5oX1SCj E9ofDRm8RzatOJ36ckJM8l0v02cLYNwsjTaFivc91YHdfno2m74x7nqSxQ5Tc0KACIyw bhKhO4aYQ3pN9REN645HsUt7/crOic5k8acVVVuj4XMOBaKlEtRR6jJWRabOz6tySXr/ tyU6Nch+bpYaOL4cdRyQAHYk4eWHMziiHvKY1EDb3pDDS7XbooMUkau6wLCsuthYv0tY UZ4Q== X-Gm-Message-State: AOJu0YzURkIGZTeiwjhFGcTbWql8VZQDBPrsVFeIJv34CisCFefNQGvr R/iYLM2zJJAwk7yuMf2Cy/HbrluUBxCVQSnt0TKnAGueIOa2XfDBdt4tA7Gs1JZlJmma0fpwNP4 pMwIsnMBZRUHN+L14qBd+PD98iySDEq2nXDFB X-Gm-Gg: ASbGnctB0L/tXcYXfLzoWz6rZc+vdrkITJGpHJ596voVJZH2/3IEZjy5PqlpshexvfT p7J2bcqNBTRC4MkcR+RcEuBkh14iLSpJumzUP+ye9sbPDBAl5cCRG1GMnhRVJm3dsudbUmuWMKT Xgg8p/ABkbdnH6qSaDaEIKMzT+MHM4WZ2IT3I3lS+E6++su/mEQlwVQGYljk/BIHh1B1tlPoOgp ohbPxBWSSm/54u58Sz2gTeYm0kDK7eUUrI9dFi76ir5FdpMqMmw1KwOmBCCs8dI9mrxCnRygcla GompTx3hsnN+h/EpIXJJ+cfmGbu/8qzmerSv1qjRxLZWLaMDwqIjkGpziu4a2tTzTVjswAfWRB6 IhTdhIEndMg4Vw/aetAaM6No0965Mg3qSzFOrjZyMRQ== X-Google-Smtp-Source: AGHT+IERHUiMasE3+J2zLsp04Oci4IYPlHKkhPD4fCmspjbDgUVaw1drQd3cG3i4w/pyMZwIefzO/7oGU8Ts X-Received: by 2002:a17:902:e88d:b0:295:82d0:9ba2 with SMTP id d9443c01a7336-2986a6bd1a8mr234241455ad.1.1763561479655; Wed, 19 Nov 2025 06:11:19 -0800 (PST) Received: from postal.iol.unh.edu (postal.iol.unh.edu. [132.177.123.84]) by smtp-relay.gmail.com with ESMTPS id d9443c01a7336-2985c2c47d4sm20468255ad.61.2025.11.19.06.11.19 (version=TLS1_2 cipher=ECDHE-ECDSA-AES128-GCM-SHA256 bits=128/128); Wed, 19 Nov 2025 06:11:19 -0800 (PST) X-Relaying-Domain: iol.unh.edu Date: Wed, 19 Nov 2025 06:11:19 -0800 (PST) Message-ID: <691dd007.170a0220.98a81.74b0SMTPIN_ADDED_MISSING@mx.google.com> Received: from [172.21.0.7] (unknown [172.18.0.240]) by postal.iol.unh.edu (Postfix) with ESMTP id 192086051830; Wed, 19 Nov 2025 09:11:19 -0500 (EST) Subject: |SUCCESS| [GIT MASTER] 0bd935abcb823f581ce53986986aa54eaf6f8140 From: dpdklab@iol.unh.edu To: Test Report Cc: dpdk-test-reports@iol.unh.edu, Xueming Li , Kevin Traynor , Luca Boccassi Content-Type: text/plain X-BeenThere: test-report@dpdk.org X-Mailman-Version: 2.1.29 Precedence: list List-Id: automatic DPDK test reports List-Unsubscribe: , List-Archive: List-Post: List-Help: List-Subscribe: , Errors-To: test-report-bounces@dpdk.org _Testing PASS_ Branch: tags/v24.11 0bd935abcb823f581ce53986986aa54eaf6f8140 --> testing pass Upstream job id: Generic-DPDK-Compile-Meson#445906 Test environment and result as below: +------------------------------+--------------------+ | Environment | dpdk_meson_compile | +==============================+====================+ | Ubuntu 20.04 | PASS | +------------------------------+--------------------+ | Fedora Linux 42 | PASS | +------------------------------+--------------------+ | Ubuntu 24.04 | PASS | +------------------------------+--------------------+ | Debian GNU/Linux 12 | PASS | +------------------------------+--------------------+ | Red Hat Enterprise Linux 9.5 | PASS | +------------------------------+--------------------+ | CentOS Stream 9 | PASS | +------------------------------+--------------------+ | CentOS Stream 10 | PASS | +------------------------------+--------------------+ | Ubuntu 22.04 | PASS | +------------------------------+--------------------+ Ubuntu 20.04 Kernel: 5.15 Compiler: aarch64-linux-gnu-gcc gcc (Ubuntu 9.4.0-1ubuntu1~20.04.2) 9.4.0 Fedora Linux 42 Kernel: 5.4 Compiler: clang gcc (GCC) 15.2.1 20250808 (Red Hat 15.2.1-1) Ubuntu 24.04 Kernel: 5.4 Compiler: gcc gcc (Ubuntu 13.3.0-6ubuntu2~24.04) 13.3.0 Debian GNU/Linux 12 Kernel: 5.4 Compiler: gcc gcc (Debian 12.2.0-14+deb12u1) 12.2.0 Red Hat Enterprise Linux 9.5 Kernel: 5.4 Compiler: gcc gcc (GCC) 11.5.0 20240719 (Red Hat 11.5.0-2) CentOS Stream 9 Kernel: 5.4 Compiler: gcc gcc (GCC) 11.5.0 20240719 (Red Hat 11.5.0-11) CentOS Stream 10 Kernel: 5.4 Compiler: gcc gcc (GCC) 14.2.1 20250110 (Red Hat 14.2.1-8) Ubuntu 22.04 Kernel: 5.4 Compiler: gcc gcc (Ubuntu 11.4.0-1ubuntu1~22.04) 11.4.0 To view detailed results, visit: https://lab.dpdk.org/results/dashboard/tarballs/35651/ UNH-IOL DPDK Community Lab To manage your email subscriptions, visit: https://lab.dpdk.org/results/dashboard/preferences/subscriptions/