From mboxrd@z Thu Jan 1 00:00:00 1970 Return-Path: Received: from mails.dpdk.org (mails.dpdk.org [217.70.189.124]) by inbox.dpdk.org (Postfix) with ESMTP id A7F7548ACE for ; Wed, 19 Nov 2025 15:24:53 +0100 (CET) Received: from mails.dpdk.org (localhost [127.0.0.1]) by mails.dpdk.org (Postfix) with ESMTP id 85C7340262; Wed, 19 Nov 2025 15:24:53 +0100 (CET) Received: from mail-pf1-f226.google.com (mail-pf1-f226.google.com [209.85.210.226]) by mails.dpdk.org (Postfix) with ESMTP id 3B8F040262 for ; Wed, 19 Nov 2025 15:24:52 +0100 (CET) Received: by mail-pf1-f226.google.com with SMTP id d2e1a72fcca58-7b89c1ce9easo6953586b3a.2 for ; Wed, 19 Nov 2025 06:24:52 -0800 (PST) DKIM-Signature: v=1; a=rsa-sha256; c=relaxed/relaxed; d=iol.unh.edu; s=unh-iol; t=1763562291; x=1764167091; darn=dpdk.org; h=references:in-reply-to:cc:to:from:subject:message-id:date:from:to :cc:subject:date:message-id:reply-to; bh=WUGoPG+GBVSmV6fVRdlXWVPqnlTUN0ySEOqcZSWgWpw=; b=XbbVly9ElTiOKzp0LzfqdLO1C2lUpq9PT/AQrj1ygyJ8wa2Fti6KH1SyYH4Y7wAyp+ g4bHJbpfYSuOpyaR04OCzMzKzFA8UlahN364otkS30/nryBYdsc/cZ1kO1oYmyCrzHEP PmnD3cZKnZDsNMypN2lstVBcc4tistu8cRl0Q= X-Google-DKIM-Signature: v=1; a=rsa-sha256; c=relaxed/relaxed; d=1e100.net; s=20230601; t=1763562291; x=1764167091; h=references:in-reply-to:cc:to:from:subject:message-id:date:x-gm-gg :x-gm-message-state:from:to:cc:subject:date:message-id:reply-to; bh=WUGoPG+GBVSmV6fVRdlXWVPqnlTUN0ySEOqcZSWgWpw=; b=o9xKKMjn1x6spgbMRfXZpd0dbUP09CR7/u6RsiX2x+wNC+hOKCebeaF0+wxWgmmScB iSs0CDGEVazq5lU00L82dPJqGEulgPZgxoU0c4KcuCcaCyPNYglafvzDofQpGCUJp9Uq JuLjvWbRlK7KlgD+aLtq6QnHnr/IyKNErQxJKgcrNWXhCkQEVBH9X4m7p1LwZ3eHGPdB yLempo4w8wCDJXdnwk1B4Wrk/DIspdSED3GuguqRw3vXEGmzi9vImZPy3DtR5z9xvpK4 2LeVOqpnfWQKEF5Z5HxG108YLLfpiNkH7XQMatmZYhUJ+WegciJSKTfF7LL3vQNwyyfi 6E2A== X-Gm-Message-State: AOJu0YwmBkMPej9xvAOzf5YEEc2dfYngAfNYZe3VHeFLaviP8tw4ReR1 shIpf4ZAvIJpKYQTr93k05+mLc8Cqly9ALYOWPtgFeog8VnxIN394655oGHwKuUoCOzS7HezoX5 EsaYPra72mrF2tCueSNaScPDK66eOawcuBDriS2ArCH4dsKR7vGQgszDyKzRJ X-Gm-Gg: ASbGncshdIZjUfknLROpT4ThyhYdTVpdAKRn61PQcoi5mZObq/qGrltkbBdZQq1rwfe OQ6DAPbjdlWo8wmfxojfSMIVLN6MYLGw8G1VKH1Qg9jxVdNpYEmZijcCZZOqmi8heGcJiBOnI+s y4WVN8Dc87AJh/Z8btESmS+L3CopoVgtGM8A3BUNQwVLw36swe1FONPVvsWQR+lh2Noiev/f4e7 yfID3JXQ4XSqRju1xYX2nsu517bJ45fy8VQdAsm3t1cxCiAjIPSy4iSOpVI21BPia/cuv61JYPc FwIOSPXr+d9r20IDHkEjL2kMV+h0NFo+9DL48ihtFG+FmefZvfs6RWDlanhMGgB/a8Mhcv7kuw4 bzip9OPffIGTJ7BgrgJQ= X-Google-Smtp-Source: AGHT+IEBCj2EU+3vlanYi1xZf79Dn5M+Zv5OTjhlSPkYFvWSQogDoiV28fU+VSKm/9H3/Qln8pkk83mC5bh0 X-Received: by 2002:a05:7023:b05:b0:11b:d4a8:d24d with SMTP id a92af1059eb24-11bd4a8dc15mr6272119c88.12.1763562291081; Wed, 19 Nov 2025 06:24:51 -0800 (PST) Received: from postal.iol.unh.edu (postal.iol.unh.edu. [2606:4100:3880:1234::84]) by smtp-relay.gmail.com with ESMTPS id 5a478bee46e88-2a49dad2627sm2050707eec.2.2025.11.19.06.24.50 (version=TLS1_2 cipher=ECDHE-ECDSA-AES128-GCM-SHA256 bits=128/128); Wed, 19 Nov 2025 06:24:51 -0800 (PST) X-Relaying-Domain: iol.unh.edu Date: Wed, 19 Nov 2025 06:24:51 -0800 (PST) Message-ID: <691dd333.050a0220.259e27.9c83SMTPIN_ADDED_MISSING@mx.google.com> Received: from [172.21.0.4] (unknown [172.18.0.240]) by postal.iol.unh.edu (Postfix) with ESMTP id 317F76051830; Wed, 19 Nov 2025 09:24:50 -0500 (EST) Subject: |SUCCESS| pw158913-158930 [PATCH] [v5,18/18] vfio: introduce cdev mo From: dpdklab@iol.unh.edu To: Test Report Cc: dpdk-test-reports@iol.unh.edu In-Reply-To: <684f963686006c46a9b568b29c56494db9449148.1763550470.git.anatoly.burakov@intel.com> References: <684f963686006c46a9b568b29c56494db9449148.1763550470.git.anatoly.burakov@intel.com> Content-Type: text/plain X-BeenThere: test-report@dpdk.org X-Mailman-Version: 2.1.29 Precedence: list List-Id: automatic DPDK test reports List-Unsubscribe: , List-Archive: List-Post: List-Help: List-Subscribe: , Errors-To: test-report-bounces@dpdk.org Test-Label: iol-unit-amd64-testing Test-Status: SUCCESS http://dpdk.org/patch/158930 _Testing PASS_ Submitter: Anatoly Burakov Date: Wednesday, November 19 2025 11:08:16 DPDK git baseline: Repo:dpdk Branch: master CommitID:ef98b88455bf4a7c8b7aa3106a761c9e9270d6a3 158913-158930 --> testing pass Upstream job id: Generic-Unit-Test-DPDK#394474 Test environment and result as below: +-------------------------------+----------------+ | Environment | dpdk_unit_test | +===============================+================+ | Debian GNU/Linux 12 | PASS | +-------------------------------+----------------+ | Ubuntu 20.04 | PASS | +-------------------------------+----------------+ | Fedora Linux 41 | PASS | +-------------------------------+----------------+ | Fedora Linux 40 | PASS | +-------------------------------+----------------+ | CentOS Stream 10 | PASS | +-------------------------------+----------------+ | Red Hat Enterprise Linux 9.5 | PASS | +-------------------------------+----------------+ | CentOS Stream 9 | PASS | +-------------------------------+----------------+ | Ubuntu 24.04 | PASS | +-------------------------------+----------------+ | Fedora Linux 42 | PASS | +-------------------------------+----------------+ | Ubuntu 22.04 | PASS | +-------------------------------+----------------+ | Red Hat Enterprise Linux 8.10 | PASS | +-------------------------------+----------------+ | Windows Server 2022 | PASS | +-------------------------------+----------------+ Debian GNU/Linux 12 Kernel: 5.15 Compiler: gcc gcc (Debian 12.2.0-14+deb12u1) 12.2.0 Ubuntu 20.04 Kernel: 5.15 Compiler: gcc gcc (Ubuntu 9.4.0-1ubuntu1~20.04.2) 9.4.0 Fedora Linux 41 Kernel: 5.15 Compiler: gcc gcc (GCC) 14.3.1 20250523 (Red Hat 14.3.1-1) Fedora Linux 40 Kernel: 5.15 Compiler: clang gcc (GCC) 14.2.1 20240912 (Red Hat 14.2.1-3) CentOS Stream 10 Kernel: 5.15 Compiler: gcc gcc (GCC) 14.2.1 20250110 (Red Hat 14.2.1-8) Red Hat Enterprise Linux 9.5 Kernel: 5.15 Compiler: gcc gcc (GCC) 11.5.0 20240719 (Red Hat 11.5.0-2) CentOS Stream 9 Kernel: 5.15 Compiler: gcc gcc (GCC) 11.5.0 20240719 (Red Hat 11.5.0-11) Ubuntu 24.04 Kernel: 5.15 Compiler: gcc gcc (Ubuntu 13.3.0-6ubuntu2~24.04) 13.3.0 Fedora Linux 42 Kernel: 5.15 Compiler: gcc gcc (GCC) 15.2.1 20250808 (Red Hat 15.2.1-1) Ubuntu 22.04 Kernel: 5.15 Compiler: gcc gcc (Ubuntu 11.4.0-1ubuntu1~22.04) 11.4.0 Red Hat Enterprise Linux 8.10 Kernel: 5.15 Compiler: gcc gcc (GCC) 8.5.0 20210514 (Red Hat 8.5.0-22) Windows Server 2022 Kernel: 10.0.20348.2031 Compiler: clang 15.0.7, gcc 14.1.0 (MinGW), and MSVC VS 19.39.33521 To view detailed results, visit: https://lab.dpdk.org/results/dashboard/patchsets/34641/ UNH-IOL DPDK Community Lab To manage your email subscriptions, visit: https://lab.dpdk.org/results/dashboard/preferences/subscriptions/