From mboxrd@z Thu Jan 1 00:00:00 1970 Return-Path: Received: from mails.dpdk.org (mails.dpdk.org [217.70.189.124]) by inbox.dpdk.org (Postfix) with ESMTP id A800148ACE for ; Wed, 19 Nov 2025 15:25:55 +0100 (CET) Received: from mails.dpdk.org (localhost [127.0.0.1]) by mails.dpdk.org (Postfix) with ESMTP id A312740262; Wed, 19 Nov 2025 15:25:55 +0100 (CET) Received: from mail-il1-f228.google.com (mail-il1-f228.google.com [209.85.166.228]) by mails.dpdk.org (Postfix) with ESMTP id 24CAA40262 for ; Wed, 19 Nov 2025 15:25:54 +0100 (CET) Received: by mail-il1-f228.google.com with SMTP id e9e14a558f8ab-433692bbe4fso29883205ab.0 for ; Wed, 19 Nov 2025 06:25:54 -0800 (PST) DKIM-Signature: v=1; a=rsa-sha256; c=relaxed/relaxed; d=iol.unh.edu; s=unh-iol; t=1763562353; x=1764167153; darn=dpdk.org; h=references:in-reply-to:cc:to:from:subject:message-id:date:from:to :cc:subject:date:message-id:reply-to; bh=ThE1J1rIMt5voKqP7YAugOHL8U4Zf10MIxNjFZByh3o=; b=Tw5uga+eDckMraOSMOUkh+S7Siicyow6XcohIgu3Y19lGOazDjQm0KbZc5g6f+l9w3 rDFJCsgbjG9l5ngv0qBD3xmRDkqlRgCjDfSiTnH9zEZc5UF6c4bVguHV1kAsAqRiwbw7 jh+248IyMt5ZsVilI1IM8A245Es2Kq8ySsZec= X-Google-DKIM-Signature: v=1; a=rsa-sha256; c=relaxed/relaxed; d=1e100.net; s=20230601; t=1763562353; x=1764167153; h=references:in-reply-to:cc:to:from:subject:message-id:date:x-gm-gg :x-gm-message-state:from:to:cc:subject:date:message-id:reply-to; bh=ThE1J1rIMt5voKqP7YAugOHL8U4Zf10MIxNjFZByh3o=; b=rThUkAZQRDQDGfhGg1Co+NqF/uiZ8+/M/DdHL+trzfXB1isEGg7CiXVsbo3njit9cm xqdtOwkz1/XjIs2cG1oEQegOMgOOYlI19WLcz+ARnGVQM6oIQKPlkqnPPTfyL+s/6Iam b5oKgxauSO6R/LJI0ErrRh4l71Ff3A8+C9k8N3gNu1Fyd/R2pcJIr63yYc/oF1t6/0Q3 0SVk92u3BRJW4k6KPlZV2I9H7Giq4GWq+aKrhFi34NYS7b44wBCfHu6JGa4MwE/SV6XM YxDTrgOSMyeGvG2l2jcsTJxx4iBQKEEj3VFzTfhfwXHOpDPQJgjRjPkZS1UISP/Tax7B JoTA== X-Gm-Message-State: AOJu0Yy7OLFWFEjtiHNnnhkFJ0Rw5fHWGoYoDd1Y1IOK78Vv3dbTMZBL G+KTlFCuozfoiUOZ0Ih7sNMGXBHYEZ+UbtNI0ifTFhaEWh6WtKsPxH7HrxlmPRG78i8a8ftRKgz bEuzBAkW23dQ4zFnfXrxcl2R+Q+a8ZblCCjVEwkQvqyXE X-Gm-Gg: ASbGncv2ue+tnEYBBQxPjkOYNryKrram7bk3/TEUNpRM5I6k7Jz/AtYLNsOcsQOvoml +UJYlhoduJb9tL2wdj6eOB4JBqo6VmFlUBzL0QAhr1qzAbD6x4sxqCdMEJyzt3876lam2n5uaJ4 b3TAlXXsHwxe0FzqqCDRZCVkp2+BquFXXj0deFWmIqHPKBNnGL6uKZPS69wt7QOsKeX8S+qpWPI DkB9v+49Ue1TJkmA8s3MQn3dhEjaQk+ui/CyJl934Oz3eDO+bXOTUh56t6fBD6c6aRgZQ1DFrue RrRWuRscylU3njAmTEkIva1JjgN/H/P7c42kLQqIXG8lufAG95kSns7IAVDbt0RdtVTKuHHHBS1 Kpg39U4I9BkIj8N/8AUUcT2jf4bO9+QNICYgrNS93Rw== X-Google-Smtp-Source: AGHT+IFJdqugaSYKgF9N5dUSQi6rMuhr1ss2CHX2esau9q7ZCHn6RNvn3SHmvUk/qvFFdx2x8pEAUDYFrzU6 X-Received: by 2002:a05:6e02:2613:b0:433:31b5:573a with SMTP id e9e14a558f8ab-4348c942adfmr228200365ab.18.1763562353349; Wed, 19 Nov 2025 06:25:53 -0800 (PST) Received: from postal.iol.unh.edu (postal.iol.unh.edu. [132.177.123.84]) by smtp-relay.gmail.com with ESMTPS id e9e14a558f8ab-43482bd5d66sm17202965ab.0.2025.11.19.06.25.53 (version=TLS1_2 cipher=ECDHE-ECDSA-AES128-GCM-SHA256 bits=128/128); Wed, 19 Nov 2025 06:25:53 -0800 (PST) X-Relaying-Domain: iol.unh.edu Date: Wed, 19 Nov 2025 06:25:53 -0800 (PST) Message-ID: <691dd371.050a0220.147db7.62c7SMTPIN_ADDED_MISSING@mx.google.com> Received: from [172.21.0.4] (unknown [172.18.0.240]) by postal.iol.unh.edu (Postfix) with ESMTP id F20FA6051830; Wed, 19 Nov 2025 09:25:52 -0500 (EST) Subject: |SUCCESS| pw158890 [PATCH] [v3,1/1] net/mlx5: fix port down in link From: dpdklab@iol.unh.edu To: Test Report Cc: dpdk-test-reports@iol.unh.edu In-Reply-To: <20251119060222.2814478-1-xu.yang3@zte.com.cn> References: <20251119060222.2814478-1-xu.yang3@zte.com.cn> Content-Type: text/plain X-BeenThere: test-report@dpdk.org X-Mailman-Version: 2.1.29 Precedence: list List-Id: automatic DPDK test reports List-Unsubscribe: , List-Archive: List-Post: List-Help: List-Subscribe: , Errors-To: test-report-bounces@dpdk.org Test-Label: iol-unit-arm64-testing Test-Status: SUCCESS http://dpdk.org/patch/158890 _Testing PASS_ Submitter: Yang Xu Date: Wednesday, November 19 2025 06:02:22 DPDK git baseline: Repo:dpdk-next-net-mlx Branch: master CommitID:9cf35632839ee84aad5a4baade86ea1dc8ba3d1b 158890 --> testing pass Upstream job id: Generic-Unit-Test-DPDK#394333 Test environment and result as below: +------------------------------+----------------+--------------+------------------------------+---------------------------+ | Environment | dpdk_unit_test | lpm_autotest | cryptodev_sw_snow3g_autotest | cryptodev_sw_zuc_autotest | +==============================+================+==============+==============================+===========================+ | Fedora Linux 42 | PASS | SKIPPED | SKIPPED | SKIPPED | +------------------------------+----------------+--------------+------------------------------+---------------------------+ | Red Hat Enterprise Linux 9.5 | PASS | SKIPPED | SKIPPED | SKIPPED | +------------------------------+----------------+--------------+------------------------------+---------------------------+ | CentOS Stream 9 | PASS | SKIPPED | SKIPPED | SKIPPED | +------------------------------+----------------+--------------+------------------------------+---------------------------+ | Debian GNU/Linux 12 | PASS | SKIPPED | SKIPPED | SKIPPED | +------------------------------+----------------+--------------+------------------------------+---------------------------+ | Fedora Linux 40 | PASS | SKIPPED | SKIPPED | SKIPPED | +------------------------------+----------------+--------------+------------------------------+---------------------------+ | Ubuntu 24.04 | PASS | SKIPPED | SKIPPED | SKIPPED | +------------------------------+----------------+--------------+------------------------------+---------------------------+ | Fedora Linux 41 | PASS | SKIPPED | SKIPPED | SKIPPED | +------------------------------+----------------+--------------+------------------------------+---------------------------+ | Ubuntu 22.04 | PASS | SKIPPED | SKIPPED | SKIPPED | +------------------------------+----------------+--------------+------------------------------+---------------------------+ | Ubuntu 20.04 | PASS | PASS | SKIPPED | SKIPPED | +------------------------------+----------------+--------------+------------------------------+---------------------------+ | CentOS Stream 10 | PASS | SKIPPED | SKIPPED | SKIPPED | +------------------------------+----------------+--------------+------------------------------+---------------------------+ | Debian 12 (arm) | SKIPPED | SKIPPED | PASS | PASS | +------------------------------+----------------+--------------+------------------------------+---------------------------+ Fedora Linux 42 Kernel: 5.4 Compiler: clang gcc (GCC) 15.2.1 20250808 (Red Hat 15.2.1-1) Red Hat Enterprise Linux 9.5 Kernel: 5.4 Compiler: gcc gcc (GCC) 11.5.0 20240719 (Red Hat 11.5.0-2) CentOS Stream 9 Kernel: 5.4 Compiler: gcc gcc (GCC) 11.5.0 20240719 (Red Hat 11.5.0-11) Debian GNU/Linux 12 Kernel: 5.4 Compiler: gcc gcc (Debian 12.2.0-14+deb12u1) 12.2.0 Fedora Linux 40 Kernel: 5.4 Compiler: gcc gcc (GCC) 14.2.1 20240912 (Red Hat 14.2.1-3) Ubuntu 24.04 Kernel: 5.4 Compiler: gcc gcc (Ubuntu 13.3.0-6ubuntu2~24.04) 13.3.0 Fedora Linux 41 Kernel: 5.4 Compiler: gcc gcc (GCC) 14.3.1 20250523 (Red Hat 14.3.1-1) Ubuntu 22.04 Kernel: 5.4 Compiler: gcc gcc (Ubuntu 11.4.0-1ubuntu1~22.04) 11.4.0 Ubuntu 20.04 Kernel: 5.4 Compiler: gcc gcc (Ubuntu 9.4.0-1ubuntu1~20.04.2) 9.4.0 CentOS Stream 10 Kernel: 5.4 Compiler: gcc gcc (GCC) 14.2.1 20250110 (Red Hat 14.2.1-8) Debian 12 (arm) Kernel: Depends on container host Compiler: gcc (Debian 12.2.0-14) 12.2.0 To view detailed results, visit: https://lab.dpdk.org/results/dashboard/patchsets/34634/ UNH-IOL DPDK Community Lab To manage your email subscriptions, visit: https://lab.dpdk.org/results/dashboard/preferences/subscriptions/