From mboxrd@z Thu Jan 1 00:00:00 1970 Return-Path: Received: from mails.dpdk.org (mails.dpdk.org [217.70.189.124]) by inbox.dpdk.org (Postfix) with ESMTP id 4CE7348ACF for ; Wed, 19 Nov 2025 15:32:49 +0100 (CET) Received: from mails.dpdk.org (localhost [127.0.0.1]) by mails.dpdk.org (Postfix) with ESMTP id 3542640262; Wed, 19 Nov 2025 15:32:49 +0100 (CET) Received: from mail-qv1-f98.google.com (mail-qv1-f98.google.com [209.85.219.98]) by mails.dpdk.org (Postfix) with ESMTP id E09D040262 for ; Wed, 19 Nov 2025 15:32:47 +0100 (CET) Received: by mail-qv1-f98.google.com with SMTP id 6a1803df08f44-8823cde292eso76699196d6.2 for ; Wed, 19 Nov 2025 06:32:47 -0800 (PST) DKIM-Signature: v=1; a=rsa-sha256; c=relaxed/relaxed; d=iol.unh.edu; s=unh-iol; t=1763562767; x=1764167567; darn=dpdk.org; h=references:in-reply-to:cc:to:from:subject:message-id:date:from:to :cc:subject:date:message-id:reply-to; bh=8/EBDubUyBxDdBaKpXmwKYBqxq18YpsyUbeI4mge6uc=; b=i1WPbUH7v3GDlHdguhlhGk6rHcLQp03HQLk340vG+FbxT0M8k1t5XMm+WV1CVyPBD/ LIFG2xh7EufdUmqjT/vA9wizgB8KxEvf+dQsleULnig1TQOQBLNhE1JzkMoWsD2E7TCD hKhKeRxInd0SA4V7HMUiXfc2mpnpl8FP8FOxY= X-Google-DKIM-Signature: v=1; a=rsa-sha256; c=relaxed/relaxed; d=1e100.net; s=20230601; t=1763562767; x=1764167567; h=references:in-reply-to:cc:to:from:subject:message-id:date:x-gm-gg :x-gm-message-state:from:to:cc:subject:date:message-id:reply-to; bh=8/EBDubUyBxDdBaKpXmwKYBqxq18YpsyUbeI4mge6uc=; b=m5/Tn0zFn0w0eeCF5wB57zhAW7QSJ2ApmyeHyR7Bf/foffi7iGhrbmKucHruN6OaET AA0wyfEj1f+PxVaBwh+4jiAV5oOrAhIDS1lik7f7c6rGnMPHDf3Eu7vMK97z53AHJo6o Zbr1jjY3gUrk9vx7xilq3eB7paqCkcJBD3XmhJgAsQ1E/pKcsiv9D86/o6FDWvifIH2F gBrEPHsP7Gx47km4gTPZAVwEVxRsNCkWDbo+ZzvbKzOCBb6B7GU2QooF5bBV92FLStLC dGP1DDTGcY/Pw0He0TqpRCF+8Vc77DQAaMK9dnZ7u/Yit3g6DANtYbdP9ggQU3gEQ0A8 mcYg== X-Gm-Message-State: AOJu0Yy8RSvDjjLXmkiiIKEYVWDxnv6Xyn+qbM3tDJSxFuLXGzEy2Zyq 8Di42hDJEljjpBKLnu8N9dzZLgTDpGU0PvwAscF77XqsQbAeWeyyGwiLizIONE5U0RiLH7aKkdD Y+pdKjmNZZFvwJr/3VNFTxnIvqDOza0GsyUkHtmLKF0/PUbopkWvo/QB2vllv X-Gm-Gg: ASbGncsT2K8RUA67SJbMiEeQc6LgcDDyWlJb0Fv1X8tRicPQ6S226o8J/M6CHiFCHOI UzUQfuLYtdhTGGv1ye737fHsLfH/xwkWD1nTF2AGlv28K1Bkyn4B+AzW+Vc1B2bWwiWC0lhQVBc /f6qzXWfgFeoE7fd3di8gs53GdMXBG45E8yTiCMOB40UtLkTyhxupGKS86DwOZ79VIKrdYkoo0S zfODIEIhTX3SlDfeh9M3rleuEJJrhNAqxSBAJ6KnGTAjboRKh/p/WrpibEOuDT9RhW9hPCHllzQ m7sboCKxpbCgBHyCzaRFAYNDWnlaSpgT8AlxhnhdvGAjjSc5ETjxxceTB01GNbKuzbHWZ/XCJ9D kZCIQblbsUif+PnoZ7mg= X-Google-Smtp-Source: AGHT+IGTv1fH4TJ339L5o7pNBOFwsSEY8+BDn5x1B+UnCqbNzmm6FDpKGe+35BkdQHtWgikSc1VqxgwzyW9E X-Received: by 2002:ad4:5aa6:0:b0:882:3ca2:f11f with SMTP id 6a1803df08f44-882926093c0mr231833226d6.25.1763562767014; Wed, 19 Nov 2025 06:32:47 -0800 (PST) Received: from postal.iol.unh.edu (postal.iol.unh.edu. [2606:4100:3880:1234::84]) by smtp-relay.gmail.com with ESMTPS id 6a1803df08f44-8828656bc0dsm22713556d6.24.2025.11.19.06.32.46 (version=TLS1_2 cipher=ECDHE-ECDSA-AES128-GCM-SHA256 bits=128/128); Wed, 19 Nov 2025 06:32:47 -0800 (PST) X-Relaying-Domain: iol.unh.edu Date: Wed, 19 Nov 2025 06:32:47 -0800 (PST) Message-ID: <691dd50f.050a0220.1cabc0.155aSMTPIN_ADDED_MISSING@mx.google.com> Received: from [172.21.0.3] (unknown [172.18.0.240]) by postal.iol.unh.edu (Postfix) with ESMTP id BCBA060003EA; Wed, 19 Nov 2025 09:32:46 -0500 (EST) Subject: |SUCCESS| pw158932 [PATCH] mbuf: fix packet copy From: dpdklab@iol.unh.edu To: Test Report Cc: dpdk-test-reports@iol.unh.edu In-Reply-To: <20251119120403.907511-1-mb@smartsharesystems.com> References: <20251119120403.907511-1-mb@smartsharesystems.com> Content-Type: text/plain X-BeenThere: test-report@dpdk.org X-Mailman-Version: 2.1.29 Precedence: list List-Id: automatic DPDK test reports List-Unsubscribe: , List-Archive: List-Post: List-Help: List-Subscribe: , Errors-To: test-report-bounces@dpdk.org Test-Label: iol-compile-amd64-testing Test-Status: SUCCESS http://dpdk.org/patch/158932 _Testing PASS_ Submitter: Morten Brorup Date: Wednesday, November 19 2025 12:04:03 DPDK git baseline: Repo:dpdk Branch: master CommitID:ef98b88455bf4a7c8b7aa3106a761c9e9270d6a3 158932 --> testing pass Upstream job id: Windows-Compile-DPDK-VS#7612 Test environment and result as below: +---------------------+--------------------+-------------------+ | Environment | dpdk_meson_compile | dpdk_msvc_compile | +=====================+====================+===================+ | Ubuntu 20.04 | PASS | SKIPPED | +---------------------+--------------------+-------------------+ | FreeBSD 14.2 | PASS | SKIPPED | +---------------------+--------------------+-------------------+ | Windows Server 2022 | SKIPPED | PASS | +---------------------+--------------------+-------------------+ Ubuntu 20.04 Kernel: 4.19 Compiler: gcc gcc (Ubuntu 9.4.0-1ubuntu1~20.04.2) 9.4.0 FreeBSD 14.2 Kernel: 14.2-RELEASE Compiler: clang 18.1.6 Windows Server 2022 Kernel: 10.0.20348.2031 Compiler: clang 15.0.7, gcc 14.1.0 (MinGW), and MSVC VS 19.39.33521 To view detailed results, visit: https://lab.dpdk.org/results/dashboard/patchsets/34642/ UNH-IOL DPDK Community Lab To manage your email subscriptions, visit: https://lab.dpdk.org/results/dashboard/preferences/subscriptions/