From mboxrd@z Thu Jan 1 00:00:00 1970 Return-Path: Received: from mails.dpdk.org (mails.dpdk.org [217.70.189.124]) by inbox.dpdk.org (Postfix) with ESMTP id A575348ACF for ; Wed, 19 Nov 2025 15:52:41 +0100 (CET) Received: from mails.dpdk.org (localhost [127.0.0.1]) by mails.dpdk.org (Postfix) with ESMTP id 7D95140262; Wed, 19 Nov 2025 15:52:41 +0100 (CET) Received: from mail-yw1-f225.google.com (mail-yw1-f225.google.com [209.85.128.225]) by mails.dpdk.org (Postfix) with ESMTP id 722CD40262 for ; Wed, 19 Nov 2025 15:52:40 +0100 (CET) Received: by mail-yw1-f225.google.com with SMTP id 00721157ae682-78a76afeff6so1717877b3.0 for ; Wed, 19 Nov 2025 06:52:40 -0800 (PST) DKIM-Signature: v=1; a=rsa-sha256; c=relaxed/relaxed; d=iol.unh.edu; s=unh-iol; t=1763563960; x=1764168760; darn=dpdk.org; h=references:in-reply-to:cc:to:from:subject:message-id:date:from:to :cc:subject:date:message-id:reply-to; bh=k7QNQA710jGLBYsM93eOahrRMZJRamjG4CpMEW7fehc=; b=BnESpxUwZZnqUspww9o3C65tzizzHSi2mrjnQubUQiI11C5V4vcR+r5ItpQgxMDh9n 6NVvbHk4PO97si+r6FdcLQQbuHOgDvxD5HidlsQD20lIxrr4FJtmPmi7Fsz11TT9cBlh pOV+W06Q0oHaHdIJLJs39sz6zjt06wlqkXats= X-Google-DKIM-Signature: v=1; a=rsa-sha256; c=relaxed/relaxed; d=1e100.net; s=20230601; t=1763563960; x=1764168760; h=references:in-reply-to:cc:to:from:subject:message-id:date:x-gm-gg :x-gm-message-state:from:to:cc:subject:date:message-id:reply-to; bh=k7QNQA710jGLBYsM93eOahrRMZJRamjG4CpMEW7fehc=; b=Q1q60ZIz8Wh6pWQpXjByYnVl55/zNKYuCSOJvG4FTsYrtenLsztKA+bQ/pZVji70e1 RXwNn+3IUVPKtAtRwbnv8ThB1abUX+CdbhT2vQZmQnTf099XGkkZjW0zrIZps9kKJWxv rQ19swvDXj7u9C6E6h87XaLWBli1UH42tLwau3f7dRzUfqRVybULQ0ZKpoVsepErQvp4 Bt7Rdvy07uEoxYVraDOpnnP0bCXLTmpzY0b/1yijS9n/Zd7Yh7Dyy/KZCUXOSoKABQyh 5JCifPNWdvgw794vl4ZgKISBGkpxHQ07OgGVmEI14Jl8XRuhO2IfU9uKzgh3XdBt8FVe AH6A== X-Gm-Message-State: AOJu0Yx/5iLD8nzGLm/SDPsf/rrUDhNtPGWGHNBBv6t5A8vH0KZrdToh siiVSEsfNVDZXJ7o64Kc4ASVEDJcJGaM1H3+KzwoKoUBdG1guqZEo4gdAuJs43MpF4HMmI2aK8Z OQYC+2PpKWrpAkX5YaYOu91LVfmMnqpx/VRpDUkp3od2i X-Gm-Gg: ASbGncudmgQuhonsGGoE8NiOR4WxAJrs0/XC0ykbybKxKjxFG78W1B4Oidd/Ude0qIM TSaA9UqFpZH9fruE3vnAnPjCXHhOBCYqHkr75yNUwu10RbrPdLY/OuXsXLeU8EdKUT5kQ5BRpYD t9RWkMjYBwUGeuexPo4wWIoJqncmmM6silGON05QyK/+yclPaaTcIZRNjzlTc5T9rzBmo99HLN1 gShLXXfWNunZBSOs+A5EuQELKrHOCFEVSuMeAf62x+IyYRMKGLclX8NHVs1MrAqcPtNJUpXRSfK C960iif2aMUheAwwPBEdAlBZ3c7OgtnUtkwAx1LCbSkIeAZyroBhMFvo7s1CQ4/tw0GGUThknqB J8/irmNL7KaZSaCoADV+IGECm1T/o4NKnjE9KFdOs4A== X-Google-Smtp-Source: AGHT+IGylg1sqUiSi1r7dwJlgqiL5O7l+RRXK2KpRUjekVLnvm13Jdv6Dv4Gan/vVDAbuzfMyWxhJvbZWhd6 X-Received: by 2002:a05:690c:45c9:b0:786:2f74:2f33 with SMTP id 00721157ae682-78a6c8e0fc0mr24548427b3.10.1763563959754; Wed, 19 Nov 2025 06:52:39 -0800 (PST) Received: from postal.iol.unh.edu (postal.iol.unh.edu. [132.177.123.84]) by smtp-relay.gmail.com with ESMTPS id 00721157ae682-78821deafb1sm11704487b3.3.2025.11.19.06.52.39 (version=TLS1_2 cipher=ECDHE-ECDSA-AES128-GCM-SHA256 bits=128/128); Wed, 19 Nov 2025 06:52:39 -0800 (PST) X-Relaying-Domain: iol.unh.edu Date: Wed, 19 Nov 2025 06:52:39 -0800 (PST) Message-ID: <691dd9b7.050a0220.165049.d07aSMTPIN_ADDED_MISSING@mx.google.com> Received: from [172.21.0.3] (unknown [172.18.0.240]) by postal.iol.unh.edu (Postfix) with ESMTP id 3B2456051830; Wed, 19 Nov 2025 09:52:39 -0500 (EST) Subject: |SUCCESS| pw158932 [PATCH] mbuf: fix packet copy From: dpdklab@iol.unh.edu To: Test Report Cc: dpdk-test-reports@iol.unh.edu In-Reply-To: <20251119120403.907511-1-mb@smartsharesystems.com> References: <20251119120403.907511-1-mb@smartsharesystems.com> Content-Type: text/plain X-BeenThere: test-report@dpdk.org X-Mailman-Version: 2.1.29 Precedence: list List-Id: automatic DPDK test reports List-Unsubscribe: , List-Archive: List-Post: List-Help: List-Subscribe: , Errors-To: test-report-bounces@dpdk.org Test-Label: iol-compile-amd64-testing Test-Status: SUCCESS http://dpdk.org/patch/158932 _Testing PASS_ Submitter: Morten Brorup Date: Wednesday, November 19 2025 12:04:03 DPDK git baseline: Repo:dpdk Branch: master CommitID:ef98b88455bf4a7c8b7aa3106a761c9e9270d6a3 158932 --> testing pass Upstream job id: Windows-Compile-DPDK-Native#32526 Test environment and result as below: +---------------------+--------------------+-------------------+-------------------------+ | Environment | dpdk_meson_compile | dpdk_msvc_compile | dpdk_llvm_clang_compile | +=====================+====================+===================+=========================+ | Ubuntu 20.04 | PASS | SKIPPED | SKIPPED | +---------------------+--------------------+-------------------+-------------------------+ | FreeBSD 14.2 | PASS | SKIPPED | SKIPPED | +---------------------+--------------------+-------------------+-------------------------+ | Windows Server 2022 | SKIPPED | PASS | PASS | +---------------------+--------------------+-------------------+-------------------------+ Ubuntu 20.04 Kernel: 4.19 Compiler: gcc gcc (Ubuntu 9.4.0-1ubuntu1~20.04.2) 9.4.0 FreeBSD 14.2 Kernel: 14.2-RELEASE Compiler: clang 18.1.6 Windows Server 2022 Kernel: 10.0.20348.2031 Compiler: clang 15.0.7, gcc 14.1.0 (MinGW), and MSVC VS 19.39.33521 To view detailed results, visit: https://lab.dpdk.org/results/dashboard/patchsets/34642/ UNH-IOL DPDK Community Lab To manage your email subscriptions, visit: https://lab.dpdk.org/results/dashboard/preferences/subscriptions/