From mboxrd@z Thu Jan 1 00:00:00 1970 Return-Path: Received: from mails.dpdk.org (mails.dpdk.org [217.70.189.124]) by inbox.dpdk.org (Postfix) with ESMTP id CA01948ACF for ; Wed, 19 Nov 2025 15:54:32 +0100 (CET) Received: from mails.dpdk.org (localhost [127.0.0.1]) by mails.dpdk.org (Postfix) with ESMTP id AD45440262; Wed, 19 Nov 2025 15:54:32 +0100 (CET) Received: from mail-io1-f100.google.com (mail-io1-f100.google.com [209.85.166.100]) by mails.dpdk.org (Postfix) with ESMTP id B05B940262 for ; Wed, 19 Nov 2025 15:54:31 +0100 (CET) Received: by mail-io1-f100.google.com with SMTP id ca18e2360f4ac-949042bca69so139675039f.1 for ; Wed, 19 Nov 2025 06:54:31 -0800 (PST) DKIM-Signature: v=1; a=rsa-sha256; c=relaxed/relaxed; d=iol.unh.edu; s=unh-iol; t=1763564071; x=1764168871; darn=dpdk.org; h=references:in-reply-to:cc:to:from:subject:message-id:date:from:to :cc:subject:date:message-id:reply-to; bh=VA0XLu7Z3yr3dQCYZGzCv/5H4lHzPHHi5UGUX0GH5D0=; b=fmK7v1F2k7WEhTu8kVUJbxu+FEFqs2IYqg+CxNcmV8sgI7iXvXGLu/gSs+sDHVrj08 QEICRE7KqmO1V6O5xrjGY8CCvTBxNJCJkDPyCPAi0DgMhoYeGyhWkjaOurIs7EhYuSqI RozMgwzf6sWDdnLkSPbxr5fWiBi+jLdrax2Gs= X-Google-DKIM-Signature: v=1; a=rsa-sha256; c=relaxed/relaxed; d=1e100.net; s=20230601; t=1763564071; x=1764168871; h=references:in-reply-to:cc:to:from:subject:message-id:date:x-gm-gg :x-gm-message-state:from:to:cc:subject:date:message-id:reply-to; bh=VA0XLu7Z3yr3dQCYZGzCv/5H4lHzPHHi5UGUX0GH5D0=; b=mGP8OOyLYFck6cNT0TztQeWwl6HZD1/C5aKh4ZjBl6/9ZZ17R33zHF16Z5F7P6li/S YTOVqXUXxgJHDCGcpFFpCwGr1ojAs0xM5G4yYgaqmXulV6TiN8E8VhJt6m3QPnapd4Vj A7JLjmybxIliXOov87bsohLaOzEM1Z80YiWXlW6IETLbTFC4qheEWkNbmNGBnDVXvash pLQkpHR1qhgrUZEWDSnQfamPzwvPGMm+wuWcFMVyCRLRx/tdZU0BJ945wkif14/ceeD1 eTVewhb5haAVl0cQtdPWjulpkmokxyWw3N2lFLEuD1bbRopqDHu6QMTSZYauuuKQ27ug 0N/w== X-Gm-Message-State: AOJu0Ywq5NptjGwqbBW562cG0ZNKuHbF1gI1jsKPIJ31q1g27F7VI1Aa SrofuYHNCzoOKdVLKpZbn9b/dO9Gs/sRA8+mH63eZ8ASOp0dVCaEGA2aj41YKTMdh5k9g+pMsdz ByOZN7A8l/LBH1RSDt9eW53CZ3k16qNSyYH2Jg51iGFOw X-Gm-Gg: ASbGncvUhxlj3R6c8HumyPbh19X9czf6b5pjU+BFRA7xJ2zaCbthjJ4NyRbT1igRLZL vh3PP12SgNWcHGN77xTbi72aeHEz2dLW+4MaL87Q+oy1zpY2aGhWFCDQxmQpEnFowuHm6j1KnFs AuNE+IHwVlDdkk8zFlu5ftNRep4VBSIUNY2tnGcTFoXiDJ6PHzXGmCL5z0Lhxzo//3zXVL9qg34 4GpyqZ5qwWt1eRK4m1WxFcO2W9SXphCBA2DFDSzWnf79qtq0xUW0JEtrDWLMu/+MHkdZKP/AJHO N9AOTmUhCuxDmgpmr13+T4YjgAKpZCBhsURcGDzE6joyqCT5D7Kdu4Un2iXg3Uxy0xxJVx5awfl hwx/4YW0wTNGWo4kYXGzVQeblZ/vjpeUUTMRG+HPx+Q== X-Google-Smtp-Source: AGHT+IF8fkvDmlv9yztuPLu1QbYCxhn8Wd7fqtSmSHUt3AqTyDqiVb6PzNIxOIrXNOLWa1h2dkjyOXDAFLf2 X-Received: by 2002:a05:6638:8884:b0:5b7:1753:3abc with SMTP id 8926c6da1cb9f-5b7c9d8bcb4mr16289137173.11.1763564070910; Wed, 19 Nov 2025 06:54:30 -0800 (PST) Received: from postal.iol.unh.edu (postal.iol.unh.edu. [132.177.123.84]) by smtp-relay.gmail.com with ESMTPS id 8926c6da1cb9f-5b7bd33586csm1372911173.34.2025.11.19.06.54.30 (version=TLS1_2 cipher=ECDHE-ECDSA-AES128-GCM-SHA256 bits=128/128); Wed, 19 Nov 2025 06:54:30 -0800 (PST) X-Relaying-Domain: iol.unh.edu Date: Wed, 19 Nov 2025 06:54:30 -0800 (PST) Message-ID: <691dda26.020a0220.38cef1.593cSMTPIN_ADDED_MISSING@mx.google.com> Received: from [172.21.0.6] (unknown [172.18.0.240]) by postal.iol.unh.edu (Postfix) with ESMTP id 3C01D6051830; Wed, 19 Nov 2025 09:54:30 -0500 (EST) Subject: |SUCCESS| pw158932 [PATCH] mbuf: fix packet copy From: dpdklab@iol.unh.edu To: Test Report Cc: dpdk-test-reports@iol.unh.edu In-Reply-To: <20251119120403.907511-1-mb@smartsharesystems.com> References: <20251119120403.907511-1-mb@smartsharesystems.com> Content-Type: text/plain X-BeenThere: test-report@dpdk.org X-Mailman-Version: 2.1.29 Precedence: list List-Id: automatic DPDK test reports List-Unsubscribe: , List-Archive: List-Post: List-Help: List-Subscribe: , Errors-To: test-report-bounces@dpdk.org Test-Label: iol-compile-amd64-testing Test-Status: SUCCESS http://dpdk.org/patch/158932 _Testing PASS_ Submitter: Morten Brorup Date: Wednesday, November 19 2025 12:04:03 DPDK git baseline: Repo:dpdk Branch: master CommitID:ef98b88455bf4a7c8b7aa3106a761c9e9270d6a3 158932 --> testing pass Upstream job id: Windows-Compile-DPDK-Native#32527 Test environment and result as below: +---------------------+--------------------+-------------------+-------------------------+----------------------+ | Environment | dpdk_meson_compile | dpdk_msvc_compile | dpdk_llvm_clang_compile | dpdk_mingw64_compile | +=====================+====================+===================+=========================+======================+ | Ubuntu 20.04 | PASS | SKIPPED | SKIPPED | SKIPPED | +---------------------+--------------------+-------------------+-------------------------+----------------------+ | FreeBSD 14.2 | PASS | SKIPPED | SKIPPED | SKIPPED | +---------------------+--------------------+-------------------+-------------------------+----------------------+ | Windows Server 2022 | SKIPPED | PASS | PASS | PASS | +---------------------+--------------------+-------------------+-------------------------+----------------------+ Ubuntu 20.04 Kernel: 4.19 Compiler: gcc gcc (Ubuntu 9.4.0-1ubuntu1~20.04.2) 9.4.0 FreeBSD 14.2 Kernel: 14.2-RELEASE Compiler: clang 18.1.6 Windows Server 2022 Kernel: 10.0.20348.2031 Compiler: clang 15.0.7, gcc 14.1.0 (MinGW), and MSVC VS 19.39.33521 To view detailed results, visit: https://lab.dpdk.org/results/dashboard/patchsets/34642/ UNH-IOL DPDK Community Lab To manage your email subscriptions, visit: https://lab.dpdk.org/results/dashboard/preferences/subscriptions/