From mboxrd@z Thu Jan 1 00:00:00 1970 Return-Path: Received: from mails.dpdk.org (mails.dpdk.org [217.70.189.124]) by inbox.dpdk.org (Postfix) with ESMTP id 1354D48B08 for ; Wed, 19 Nov 2025 16:08:02 +0100 (CET) Received: from mails.dpdk.org (localhost [127.0.0.1]) by mails.dpdk.org (Postfix) with ESMTP id 0C8F340262; Wed, 19 Nov 2025 16:08:02 +0100 (CET) Received: from mail-yw1-f227.google.com (mail-yw1-f227.google.com [209.85.128.227]) by mails.dpdk.org (Postfix) with ESMTP id 123C140262 for ; Wed, 19 Nov 2025 16:08:01 +0100 (CET) Received: by mail-yw1-f227.google.com with SMTP id 00721157ae682-78a6c7ac38fso12192937b3.0 for ; Wed, 19 Nov 2025 07:08:01 -0800 (PST) DKIM-Signature: v=1; a=rsa-sha256; c=relaxed/relaxed; d=iol.unh.edu; s=unh-iol; t=1763564880; x=1764169680; darn=dpdk.org; h=references:in-reply-to:cc:to:from:subject:message-id:date:from:to :cc:subject:date:message-id:reply-to; bh=S05zVe0Qhbo0kADcJBy3Oa9GfxwevzooZGsJWU7Qfrg=; b=PY6SvxSTrV+Fb0eTPvl8Bb24qkKWy/46S3QG1HzfGTy5e6q1KJuM9bBF5HFJWF1+1c UtUWJ3yxoYiEeYnB/P/+DjgwF9IzVkaqhhYKMm7nwF9J89AF86OJ5ayiWV029csipvUL 7uBR2sZUzHpZahiexVK1Rk0dOn0Wn4lALMD88= X-Google-DKIM-Signature: v=1; a=rsa-sha256; c=relaxed/relaxed; d=1e100.net; s=20230601; t=1763564880; x=1764169680; h=references:in-reply-to:cc:to:from:subject:message-id:date:x-gm-gg :x-gm-message-state:from:to:cc:subject:date:message-id:reply-to; bh=S05zVe0Qhbo0kADcJBy3Oa9GfxwevzooZGsJWU7Qfrg=; b=n05KnpmQBU+I28V3r1y+GOVciVC2mtb5QVbbb5gv0UZlc6mt7DxywN4p/YgCUbJ0M2 gLIIQt3cVGFWHWbwVl1uIIUci9K6RJppeNh+A2eQ4TLXw8DKYutWpSmtd+XJnuq3LTzv eBFrNCq6bd5K9lDMc3SyldO4MlmW/hL2PlZUFCvZx6sdY+Fwhna6jSrHsl0sQcGPdKbV pkQS5RAe9YlRRNZWTFmYmCZ+ckMkwHc7zvEPHFXAcgR4SNJFWwBV0UnpdrgeOaIEwmqY 7e3lJE26JSYL6IqWDPZ9e+p9lTD2mffV/Hh2zeanAWb2OMX3ng5a+FUdbLVBu7b1p72J VfGg== X-Gm-Message-State: AOJu0Ywj7GZlCdcLxNPRqKBAZ8mL1OFysu4mCWbtLK1FubYR6mbsUijl WsZxR/j00PcEnLoeeCYZrUpk0+sHDTsZDd2Mldcjx7RzxGoHmUsNIpdHKgp9iWBSv+vTWtMtx3J IPt5lmqp1Tx4yCHLya98LKCEtJrx5B9r8FhNbCItCTsZj X-Gm-Gg: ASbGncskzdE1iWEn5umP9nv3ss3mn+OGK5DLsP/ZDVVbpKdfDlbr5Z6A9bTTbyDQeKp B/cx/zw2Hh55zQ3iSRHseKJSSvuiBq0A4ds8SSBczSyFpBfM/Yk+pcq8H+SD7QBm4oy4MptbzLS oTbMzXraSUzRRiQaYKIX+TbTkL0ZhDb6YS5ypuyCcnrs/TbyeV4tQNSXxGacF08V7xu4s9puSR4 FvHcuJy47MVFFyM0wah2iSw35wuRGrKeiVWmpFKj3YFZ7aSq6ZnajAKaMUEnX9VLQgVc6vEbJpK 8FRtT3MF5rsnRMr/gKsb38xfrGFrYx2ZCKdCZwsNu2fq64lhXbYTiTbF/zcwrY/tfuGbTk9jAnF 2vaaNl4nILYX81p4FRzralilJ6tgjFM6Pzl+/7YAwXg== X-Google-Smtp-Source: AGHT+IHVmWex5i7Xe4pCDmDiwSf6la5LOXBwCCUIZT+XlsCn3QQEWwsuTPxibcQPlZZneVDx87ezgzQJgxst X-Received: by 2002:a05:690c:888:b0:789:4f19:7fb3 with SMTP id 00721157ae682-7894f19b967mr101616617b3.68.1763564880336; Wed, 19 Nov 2025 07:08:00 -0800 (PST) Received: from postal.iol.unh.edu (postal.iol.unh.edu. [132.177.123.84]) by smtp-relay.gmail.com with ESMTPS id 00721157ae682-78821fe84a6sm11747947b3.31.2025.11.19.07.08.00 (version=TLS1_2 cipher=ECDHE-ECDSA-AES128-GCM-SHA256 bits=128/128); Wed, 19 Nov 2025 07:08:00 -0800 (PST) X-Relaying-Domain: iol.unh.edu Date: Wed, 19 Nov 2025 07:08:00 -0800 (PST) Message-ID: <691ddd50.050a0220.12ebdc.d440SMTPIN_ADDED_MISSING@mx.google.com> Received: from [172.21.0.2] (unknown [172.18.0.240]) by postal.iol.unh.edu (Postfix) with ESMTP id 05DF66051830; Wed, 19 Nov 2025 10:08:00 -0500 (EST) Subject: |SUCCESS| pw158932 [PATCH] mbuf: fix packet copy From: dpdklab@iol.unh.edu To: Test Report Cc: dpdk-test-reports@iol.unh.edu In-Reply-To: <20251119120403.907511-1-mb@smartsharesystems.com> References: <20251119120403.907511-1-mb@smartsharesystems.com> Content-Type: text/plain X-BeenThere: test-report@dpdk.org X-Mailman-Version: 2.1.29 Precedence: list List-Id: automatic DPDK test reports List-Unsubscribe: , List-Archive: List-Post: List-Help: List-Subscribe: , Errors-To: test-report-bounces@dpdk.org Test-Label: iol-unit-amd64-testing Test-Status: SUCCESS http://dpdk.org/patch/158932 _Testing PASS_ Submitter: Morten Brorup Date: Wednesday, November 19 2025 12:04:03 DPDK git baseline: Repo:dpdk Branch: master CommitID:ef98b88455bf4a7c8b7aa3106a761c9e9270d6a3 158932 --> testing pass Upstream job id: Generic-Unit-Test-DPDK#394504 Test environment and result as below: +-------------------------------+----------------+ | Environment | dpdk_unit_test | +===============================+================+ | CentOS Stream 10 | PASS | +-------------------------------+----------------+ | Fedora Linux 40 | PASS | +-------------------------------+----------------+ | Debian GNU/Linux 12 | PASS | +-------------------------------+----------------+ | CentOS Stream 9 | PASS | +-------------------------------+----------------+ | Fedora Linux 42 | PASS | +-------------------------------+----------------+ | Red Hat Enterprise Linux 9.5 | PASS | +-------------------------------+----------------+ | Fedora Linux 41 | PASS | +-------------------------------+----------------+ | Ubuntu 22.04 | PASS | +-------------------------------+----------------+ | Ubuntu 20.04 | PASS | +-------------------------------+----------------+ | Ubuntu 24.04 | PASS | +-------------------------------+----------------+ | Red Hat Enterprise Linux 8.10 | PASS | +-------------------------------+----------------+ | Windows Server 2022 | PASS | +-------------------------------+----------------+ CentOS Stream 10 Kernel: 5.15 Compiler: gcc gcc (GCC) 14.2.1 20250110 (Red Hat 14.2.1-8) Fedora Linux 40 Kernel: 5.15 Compiler: gcc gcc (GCC) 14.2.1 20240912 (Red Hat 14.2.1-3) Debian GNU/Linux 12 Kernel: 5.15 Compiler: gcc gcc (Debian 12.2.0-14+deb12u1) 12.2.0 CentOS Stream 9 Kernel: 5.15 Compiler: gcc gcc (GCC) 11.5.0 20240719 (Red Hat 11.5.0-11) Fedora Linux 42 Kernel: 5.15 Compiler: gcc gcc (GCC) 15.2.1 20250808 (Red Hat 15.2.1-1) Red Hat Enterprise Linux 9.5 Kernel: 5.15 Compiler: gcc gcc (GCC) 11.5.0 20240719 (Red Hat 11.5.0-2) Fedora Linux 41 Kernel: 5.15 Compiler: clang gcc (GCC) 14.3.1 20250523 (Red Hat 14.3.1-1) Ubuntu 22.04 Kernel: 5.15 Compiler: gcc gcc (Ubuntu 11.4.0-1ubuntu1~22.04) 11.4.0 Ubuntu 20.04 Kernel: 5.15 Compiler: gcc gcc (Ubuntu 9.4.0-1ubuntu1~20.04.2) 9.4.0 Ubuntu 24.04 Kernel: 5.15 Compiler: gcc gcc (Ubuntu 13.3.0-6ubuntu2~24.04) 13.3.0 Red Hat Enterprise Linux 8.10 Kernel: 5.15 Compiler: gcc gcc (GCC) 8.5.0 20210514 (Red Hat 8.5.0-22) Windows Server 2022 Kernel: 10.0.20348.2031 Compiler: clang 15.0.7, gcc 14.1.0 (MinGW), and MSVC VS 19.39.33521 To view detailed results, visit: https://lab.dpdk.org/results/dashboard/patchsets/34642/ UNH-IOL DPDK Community Lab To manage your email subscriptions, visit: https://lab.dpdk.org/results/dashboard/preferences/subscriptions/