From mboxrd@z Thu Jan 1 00:00:00 1970 Return-Path: Received: from mails.dpdk.org (mails.dpdk.org [217.70.189.124]) by inbox.dpdk.org (Postfix) with ESMTP id CE96948B08 for ; Wed, 19 Nov 2025 16:15:24 +0100 (CET) Received: from mails.dpdk.org (localhost [127.0.0.1]) by mails.dpdk.org (Postfix) with ESMTP id A554140262; Wed, 19 Nov 2025 16:15:24 +0100 (CET) Received: from mail-qk1-f225.google.com (mail-qk1-f225.google.com [209.85.222.225]) by mails.dpdk.org (Postfix) with ESMTP id 75A1940262 for ; Wed, 19 Nov 2025 16:15:23 +0100 (CET) Received: by mail-qk1-f225.google.com with SMTP id af79cd13be357-8b2d56eaaceso447979685a.0 for ; Wed, 19 Nov 2025 07:15:23 -0800 (PST) DKIM-Signature: v=1; a=rsa-sha256; c=relaxed/relaxed; d=iol.unh.edu; s=unh-iol; t=1763565322; x=1764170122; darn=dpdk.org; h=references:in-reply-to:cc:to:from:subject:message-id:date:from:to :cc:subject:date:message-id:reply-to; bh=0U/WlsEWsFONZNREhsBLj5zyLnoX2zuyc2adN9fWTFQ=; b=I6SN5LJydVc4k4iDdw2+bZ7yBtxT6k4boTzxGmm5jIFMNLvyxx6aeVCp5p6AtHlFtk sg29dpSh6B8kM+Pjt13JPsbeas1MxfreA1ie5v5q9pNqdQvvRmrYlSXnjVbxzU50jly0 cmPV+VHJLhYTpnVpOumwXeUQcC7Y+BG6Z9/EY= X-Google-DKIM-Signature: v=1; a=rsa-sha256; c=relaxed/relaxed; d=1e100.net; s=20230601; t=1763565322; x=1764170122; h=references:in-reply-to:cc:to:from:subject:message-id:date:x-gm-gg :x-gm-message-state:from:to:cc:subject:date:message-id:reply-to; bh=0U/WlsEWsFONZNREhsBLj5zyLnoX2zuyc2adN9fWTFQ=; b=F75aRhJHTdVlpw8ixGDfpzyU6Y8Y+XkvkqbVnlAnR2tdA6GodqK/+B/ZtOHuplyrQc fcQWCLcODspxsKL//0N69gsTsh6fSS/YDqyBUpZqwy9uxlVosfNRrJJfvdseCL6lDXq/ 9C2dvxuRbXC3hQqtXtmcpZnTvttyA96qLifLu1RfN6kzwLpLD54A4XKWv1OYzdYHUoWH rZpYwU++BwMT08qL5kXLZ4pTkapAS9zj7dUQUJ8xQTLuuiRZlMfAsDfxkPSR+buEVhIT a4va1YEUbYpkMbZLezdYpQu5Jt4M3ug8iy6wrUI1RlSKpjgsJc/6hgKlUD+k36B9IRb4 +MFg== X-Gm-Message-State: AOJu0YwQaiWHbzkDU7gS/420qwDIrPmP2THNQrfkAhffKIQaP4XgZO2D wFiur7J7y8q6F9uNzeyxe06wAB/6G5UPFpdOuX3k5Z/KbOTBZx4MagsX4aHwPrDa3x04pJZywzr TXMyEK4f5xcYNB3jKTG32ydY3DIzja+IrtNNLxEVAtgvX X-Gm-Gg: ASbGncsXRKAyKhUou0oHgjB9kca7MvtXZvheqcY+dXl5wfsk4M7ImuxyP68UORaTBLj OQCuf8GGtw37pMYty2nLKHosspWHKajo1jlduBRVoui+32WnYEG8GSQ5u6J8xF+BnMZmGK/pBVG RUIaWeBvpKAGp1BMnovvYKAAkJOKp00ObI5sfYxnGOhmV+bbnYJ0ACFfVyxPUENxYUuwQmE42sR ECY0ycT1GLYXYxjNBCt0tnGvMXQLTjkmxTIZrbidZuIzDK/0UeZE03S3Mup0ZmEOaJbgSCDAkDV ITQFuSNZkHwWrooaRLUYPMi4gQx8dYTV/jWV+WIZyGPNy359Ks0UEhmZ7/8GZeUrSzgUf41n7rI 4uy2b7WitLUxLDmULbdl06LPSrff0NxhgZ3BKwAc9Zw== X-Google-Smtp-Source: AGHT+IGx6YE2DqBgAMOLouNplYJqgoSIbUgR1T1tfmFwIdzpEFUuEK3hdqhx3donJ0m55xP+R9GTwPgMkhVQ X-Received: by 2002:a05:620a:7106:b0:8a1:21a6:e04f with SMTP id af79cd13be357-8b317007138mr362956885a.28.1763565322383; Wed, 19 Nov 2025 07:15:22 -0800 (PST) Received: from postal.iol.unh.edu (postal.iol.unh.edu. [132.177.123.84]) by smtp-relay.gmail.com with ESMTPS id af79cd13be357-8b2aef25083sm161760185a.7.2025.11.19.07.15.22 (version=TLS1_2 cipher=ECDHE-ECDSA-AES128-GCM-SHA256 bits=128/128); Wed, 19 Nov 2025 07:15:22 -0800 (PST) X-Relaying-Domain: iol.unh.edu Date: Wed, 19 Nov 2025 07:15:22 -0800 (PST) Message-ID: <691ddf0a.050a0220.374929.ff4fSMTPIN_ADDED_MISSING@mx.google.com> Received: from [172.21.0.3] (unknown [172.18.0.240]) by postal.iol.unh.edu (Postfix) with ESMTP id 0AB1D60003EA; Wed, 19 Nov 2025 10:15:22 -0500 (EST) Subject: |SUCCESS| pw158931 [PATCH] [v2] crypto/openssl: support AES-XTS oper From: dpdklab@iol.unh.edu To: Test Report Cc: dpdk-test-reports@iol.unh.edu, Akhil Goyal In-Reply-To: <20251119120231.1399-1-felix.zhang@jaguarmicro.com> References: <20251119120231.1399-1-felix.zhang@jaguarmicro.com> Content-Type: text/plain X-BeenThere: test-report@dpdk.org X-Mailman-Version: 2.1.29 Precedence: list List-Id: automatic DPDK test reports List-Unsubscribe: , List-Archive: List-Post: List-Help: List-Subscribe: , Errors-To: test-report-bounces@dpdk.org Test-Label: iol-compile-amd64-testing Test-Status: SUCCESS http://dpdk.org/patch/158931 _Testing PASS_ Submitter: Shaokai Zhang Date: Wednesday, November 19 2025 12:02:30 DPDK git baseline: Repo:dpdk-next-crypto Branch: master CommitID:d163f9787ca6c43392d8d39c370428dbfa20cf90 158931 --> testing pass Upstream job id: Generic-DPDK-Compile-Meson#446068 Test environment and result as below: +-------------------------------+--------------------+-------------------------+-------------------+----------------------+------------------+ | Environment | dpdk_meson_compile | dpdk_llvm_clang_compile | dpdk_msvc_compile | dpdk_mingw64_compile | dpdk_compile_ovs | +===============================+====================+=========================+===================+======================+==================+ | FreeBSD 14.2 | PASS | SKIPPED | SKIPPED | SKIPPED | SKIPPED | +-------------------------------+--------------------+-------------------------+-------------------+----------------------+------------------+ | Ubuntu 20.04 | PASS | SKIPPED | SKIPPED | SKIPPED | SKIPPED | +-------------------------------+--------------------+-------------------------+-------------------+----------------------+------------------+ | CentOS Stream 9 | PASS | SKIPPED | SKIPPED | SKIPPED | SKIPPED | +-------------------------------+--------------------+-------------------------+-------------------+----------------------+------------------+ | CentOS Stream 10 | PASS | SKIPPED | SKIPPED | SKIPPED | SKIPPED | +-------------------------------+--------------------+-------------------------+-------------------+----------------------+------------------+ | Debian GNU/Linux 12 | PASS | SKIPPED | SKIPPED | SKIPPED | SKIPPED | +-------------------------------+--------------------+-------------------------+-------------------+----------------------+------------------+ | Fedora Linux 42 | PASS | SKIPPED | SKIPPED | SKIPPED | PASS | +-------------------------------+--------------------+-------------------------+-------------------+----------------------+------------------+ | openSUSE Leap 15.6 | PASS | SKIPPED | SKIPPED | SKIPPED | SKIPPED | +-------------------------------+--------------------+-------------------------+-------------------+----------------------+------------------+ | Red Hat Enterprise Linux 8.10 | PASS | SKIPPED | SKIPPED | SKIPPED | SKIPPED | +-------------------------------+--------------------+-------------------------+-------------------+----------------------+------------------+ | Red Hat Enterprise Linux 9.5 | PASS | SKIPPED | SKIPPED | SKIPPED | SKIPPED | +-------------------------------+--------------------+-------------------------+-------------------+----------------------+------------------+ | Ubuntu 22.04 | PASS | SKIPPED | SKIPPED | SKIPPED | SKIPPED | +-------------------------------+--------------------+-------------------------+-------------------+----------------------+------------------+ | Ubuntu 24.04 | PASS | SKIPPED | SKIPPED | SKIPPED | PASS | +-------------------------------+--------------------+-------------------------+-------------------+----------------------+------------------+ | Alpine Linux 3.22.0 | PASS | SKIPPED | SKIPPED | SKIPPED | SKIPPED | +-------------------------------+--------------------+-------------------------+-------------------+----------------------+------------------+ | Windows Server 2022 | SKIPPED | PASS | PASS | PASS | SKIPPED | +-------------------------------+--------------------+-------------------------+-------------------+----------------------+------------------+ FreeBSD 14.2 Kernel: 14.2-RELEASE Compiler: clang 18.1.6 Ubuntu 20.04 Kernel: 4.19 Compiler: gcc gcc (Ubuntu 9.4.0-1ubuntu1~20.04.2) 9.4.0 CentOS Stream 9 Kernel: 5.15 Compiler: gcc gcc (GCC) 11.5.0 20240719 (Red Hat 11.5.0-11) CentOS Stream 10 Kernel: 5.15 Compiler: gcc gcc (GCC) 14.2.1 20250110 (Red Hat 14.2.1-8) Debian GNU/Linux 12 Kernel: 5.15 Compiler: gcc gcc (Debian 12.2.0-14+deb12u1) 12.2.0 Fedora Linux 42 Kernel: 5.15 Compiler: clang gcc (GCC) 15.2.1 20250808 (Red Hat 15.2.1-1) openSUSE Leap 15.6 Kernel: 5.15 Compiler: gcc gcc (SUSE Linux) 7.5.0 Red Hat Enterprise Linux 8.10 Kernel: 5.15 Compiler: gcc gcc (GCC) 8.5.0 20210514 (Red Hat 8.5.0-22) Red Hat Enterprise Linux 9.5 Kernel: 5.15 Compiler: gcc gcc (GCC) 11.5.0 20240719 (Red Hat 11.5.0-2) Ubuntu 22.04 Kernel: 5.15 Compiler: gcc gcc (Ubuntu 11.4.0-1ubuntu1~22.04) 11.4.0 Ubuntu 24.04 Kernel: 5.15 Compiler: gcc gcc (Ubuntu 13.3.0-6ubuntu2~24.04) 13.3.0 Alpine Linux 3.22.0 Kernel: 5.15 Compiler: gcc gcc (Alpine 14.2.0) 14.2.0 Windows Server 2022 Kernel: 10.0.20348.2031 Compiler: clang 15.0.7, gcc 14.1.0 (MinGW), and MSVC VS 19.39.33521 To view detailed results, visit: https://lab.dpdk.org/results/dashboard/patchsets/34640/ UNH-IOL DPDK Community Lab To manage your email subscriptions, visit: https://lab.dpdk.org/results/dashboard/preferences/subscriptions/