From mboxrd@z Thu Jan 1 00:00:00 1970 Return-Path: Received: from mails.dpdk.org (mails.dpdk.org [217.70.189.124]) by inbox.dpdk.org (Postfix) with ESMTP id 6F27F48B08 for ; Wed, 19 Nov 2025 17:26:11 +0100 (CET) Received: from mails.dpdk.org (localhost [127.0.0.1]) by mails.dpdk.org (Postfix) with ESMTP id 4857A40262; Wed, 19 Nov 2025 17:26:11 +0100 (CET) Received: from mail-oa1-f100.google.com (mail-oa1-f100.google.com [209.85.160.100]) by mails.dpdk.org (Postfix) with ESMTP id 17FAA40262 for ; Wed, 19 Nov 2025 17:26:10 +0100 (CET) Received: by mail-oa1-f100.google.com with SMTP id 586e51a60fabf-3ec3e769759so938945fac.3 for ; Wed, 19 Nov 2025 08:26:10 -0800 (PST) DKIM-Signature: v=1; a=rsa-sha256; c=relaxed/relaxed; d=iol.unh.edu; s=unh-iol; t=1763569569; x=1764174369; darn=dpdk.org; h=references:in-reply-to:cc:to:from:subject:message-id:date:from:to :cc:subject:date:message-id:reply-to; bh=K5vwzKInAyFgPz37P0K7xtgkoiwCtW8sytn8UTHpyAY=; b=F7/wjTzAMUYDyCnIgHxVJdjTr++ZF+owSiK4NMBmoQyDu1WVrzJtISZxL2bL7wUFxM rQXUg8/3qocps7rkzxOfPdzoRXYxCyIvWGJl7oLTy5bGpU1uWeQdW9Cl3k54AALMIVub ulBVR5UewwS82PPfS8b1HGEaHh/AZIqcH+TIU= X-Google-DKIM-Signature: v=1; a=rsa-sha256; c=relaxed/relaxed; d=1e100.net; s=20230601; t=1763569569; x=1764174369; h=references:in-reply-to:cc:to:from:subject:message-id:date:x-gm-gg :x-gm-message-state:from:to:cc:subject:date:message-id:reply-to; bh=K5vwzKInAyFgPz37P0K7xtgkoiwCtW8sytn8UTHpyAY=; b=mBpEe/bPmui+bUaMwPvqmjzqrxDjrfELB7azgutMQlN8nOe9jNsWFAFrjO6z2LV76T z2op+f1M5f/SS+AHVuofT3aV6uAYTJB1AnxQ8JYVGVKV+LVnU8oYt6sSfv1uXHmnuBkA L/BbGF+1bvUl2qFB2+T5Kt4RTHlgcDtpQgIJ9EejS2OcpmF2USIAeH3w4/h/hQqSKMKl 8ztAqADzregPf7IfiYZDPFjx5LtJp4EIWRdWlxTFp97P2oFADHM5cdtDyb7/nW6HbXIK 6HyR8y+ziypMBYRvB9dJ7o+0pMEwf0OQ4eLJ64fUyRfk200sy0cpCah5fImeshNV+9Wj SfzQ== X-Gm-Message-State: AOJu0Yzy5E+vpPAbwW4xe1kyTJQTVN+/jTa0ohDS+4PFf5ZT2qcW/FLI sL8+tETKFD4Fl5NNomvwgABo0mDoeNgMdsYOpp+UZjDJ1oNkoYXaW2BbN9fQ4x8vOnQo5uS7OVX Bsy0/Z0EnU0eAURMboKAo3pKJ5KH7BWaHgOtrqjSk4/80DUfNi936Ufqoir2d X-Gm-Gg: ASbGncsf5+CL7pFzI/aS04hhFcqP3GHqKBaAT4K+yGECeG8BP81r5iHwZbt+lIYD4fW 6HH97Fq++P78WiZp04ouIJauzdPXKqhdjsDbOfxzZg1JBOshbZF7p+D9oHoTgYAZftKWGEpAjia TZ7YgDRwCNCu20fuBAzS5uCvJtlaUYlsea2vGDqV5iH5/t4eiJ5u15CjJyEsckQRkT0nIImiaCq V6CA8lPlgkE1IINx+Q6Fu6MdBadmyqJm2AivFZ5mqYfzAY/uJ89B3Z+b21mTLHWjf1R4XSnjpF5 hzZ5pnrPI1lkowDzyJdAJ3D1oB4KN/vLCL83+6uAGgzf4Cn8Yw62FPPau6VTXl4HVzd+cBYgpJ4 FNGh/yTcFGBCliwXWXb4= X-Google-Smtp-Source: AGHT+IGjely42XIrUxsV+G0nCBdFlo5Bixt2IUB4/jjfW4cnBFQcluoYFJm8+dpAg7ctcqfYaEpdy6/1411t X-Received: by 2002:a05:6871:5524:b0:3e0:ee0f:f4e1 with SMTP id 586e51a60fabf-3e868f72891mr9333319fac.21.1763569569258; Wed, 19 Nov 2025 08:26:09 -0800 (PST) Received: from postal.iol.unh.edu (postal.iol.unh.edu. [2606:4100:3880:1234::84]) by smtp-relay.gmail.com with ESMTPS id 586e51a60fabf-3e8522adbb3sm1569849fac.17.2025.11.19.08.26.09 (version=TLS1_2 cipher=ECDHE-ECDSA-AES128-GCM-SHA256 bits=128/128); Wed, 19 Nov 2025 08:26:09 -0800 (PST) X-Relaying-Domain: iol.unh.edu Date: Wed, 19 Nov 2025 08:26:09 -0800 (PST) Message-ID: <691defa1.050a0220.26405d.ee04SMTPIN_ADDED_MISSING@mx.google.com> Received: from [172.21.0.3] (unknown [172.18.0.240]) by postal.iol.unh.edu (Postfix) with ESMTP id B15AC6051830; Wed, 19 Nov 2025 11:26:08 -0500 (EST) Subject: |SUCCESS| pw158913-158930 [PATCH] [v5,18/18] vfio: introduce cdev mo From: dpdklab@iol.unh.edu To: Test Report Cc: dpdk-test-reports@iol.unh.edu In-Reply-To: <684f963686006c46a9b568b29c56494db9449148.1763550470.git.anatoly.burakov@intel.com> References: <684f963686006c46a9b568b29c56494db9449148.1763550470.git.anatoly.burakov@intel.com> Content-Type: text/plain X-BeenThere: test-report@dpdk.org X-Mailman-Version: 2.1.29 Precedence: list List-Id: automatic DPDK test reports List-Unsubscribe: , List-Archive: List-Post: List-Help: List-Subscribe: , Errors-To: test-report-bounces@dpdk.org Test-Label: iol-compile-amd64-testing Test-Status: SUCCESS http://dpdk.org/patch/158930 _Testing PASS_ Submitter: Anatoly Burakov Date: Wednesday, November 19 2025 11:08:16 DPDK git baseline: Repo:dpdk Branch: master CommitID:ef98b88455bf4a7c8b7aa3106a761c9e9270d6a3 158913-158930 --> testing pass Upstream job id: Generic-DPDK-Compile-Meson#446106 Test environment and result as below: +---------------------+--------------------+-------------------+-------------------------+----------------------+ | Environment | dpdk_meson_compile | dpdk_msvc_compile | dpdk_llvm_clang_compile | dpdk_mingw64_compile | +=====================+====================+===================+=========================+======================+ | Ubuntu 20.04 | PASS | SKIPPED | SKIPPED | SKIPPED | +---------------------+--------------------+-------------------+-------------------------+----------------------+ | FreeBSD 14.2 | PASS | SKIPPED | SKIPPED | SKIPPED | +---------------------+--------------------+-------------------+-------------------------+----------------------+ | CentOS Stream 9 | PASS | SKIPPED | SKIPPED | SKIPPED | +---------------------+--------------------+-------------------+-------------------------+----------------------+ | Windows Server 2022 | SKIPPED | PASS | PASS | PASS | +---------------------+--------------------+-------------------+-------------------------+----------------------+ Ubuntu 20.04 Kernel: 4.19 Compiler: gcc gcc (Ubuntu 9.4.0-1ubuntu1~20.04.2) 9.4.0 FreeBSD 14.2 Kernel: 14.2-RELEASE Compiler: clang 18.1.6 CentOS Stream 9 Kernel: 5.15 Compiler: gcc gcc (GCC) 11.5.0 20240719 (Red Hat 11.5.0-11) Windows Server 2022 Kernel: 10.0.20348.2031 Compiler: clang 15.0.7, gcc 14.1.0 (MinGW), and MSVC VS 19.39.33521 To view detailed results, visit: https://lab.dpdk.org/results/dashboard/patchsets/34641/ UNH-IOL DPDK Community Lab To manage your email subscriptions, visit: https://lab.dpdk.org/results/dashboard/preferences/subscriptions/