From mboxrd@z Thu Jan 1 00:00:00 1970 Return-Path: Received: from mails.dpdk.org (mails.dpdk.org [217.70.189.124]) by inbox.dpdk.org (Postfix) with ESMTP id 75D3248B08 for ; Wed, 19 Nov 2025 17:50:52 +0100 (CET) Received: from mails.dpdk.org (localhost [127.0.0.1]) by mails.dpdk.org (Postfix) with ESMTP id 3691640262; Wed, 19 Nov 2025 17:50:52 +0100 (CET) Received: from mail-io1-f100.google.com (mail-io1-f100.google.com [209.85.166.100]) by mails.dpdk.org (Postfix) with ESMTP id 9194240262 for ; Wed, 19 Nov 2025 17:50:50 +0100 (CET) Received: by mail-io1-f100.google.com with SMTP id ca18e2360f4ac-94880a46f3fso220305939f.2 for ; Wed, 19 Nov 2025 08:50:50 -0800 (PST) DKIM-Signature: v=1; a=rsa-sha256; c=relaxed/relaxed; d=iol.unh.edu; s=unh-iol; t=1763571050; x=1764175850; darn=dpdk.org; h=references:in-reply-to:cc:to:from:subject:message-id:date:from:to :cc:subject:date:message-id:reply-to; bh=WMgBsT7mVD6eydbjx9rITVRiN/5dIJuVI2FLuXlU+bI=; b=RhjdRuM4Te5V9XutzhVx7QctTFoYbYiOS2XXKYxEaoIrw2XrBr2dXzjyXnrm0J1yZh 25L95XdUHji+xa4C4YxqjC9BYSv28AmZjmt+IqFwdYvXoXvWEcQ09b0MmFQ8jjsMW26n Q6IBeDSbka/dy6A0Rh/+NizsT4Pv6JfwaU2Rs= X-Google-DKIM-Signature: v=1; a=rsa-sha256; c=relaxed/relaxed; d=1e100.net; s=20230601; t=1763571050; x=1764175850; h=references:in-reply-to:cc:to:from:subject:message-id:date:x-gm-gg :x-gm-message-state:from:to:cc:subject:date:message-id:reply-to; bh=WMgBsT7mVD6eydbjx9rITVRiN/5dIJuVI2FLuXlU+bI=; b=Jt2QjBfxZRRkKSkOQOLZ7yYdGF/+su09h1/jq3xpugkMW5vLWdT6g/v9w28JqfMM4v b8i0JF2BD99Apiu2iRIJUaqWAr3iW6hISda0bSlxxmoJWI1p7wEdP2Y0udckAp6AXcU4 fPfe/0Lo5EestdFAEp4ARmFwuTZIl6B3Dr1yW047Nk6jmlYGjBbEmDP8dnnfRyegLEh7 kMI4lEmiFOIRv8xC/HEmFIKvL0nJpsYiundxi4asitXuHoaqMxr/DRHXOqS6HgqAYEeh U1HdSIGCeNewuaZ2mXwBbl6hFS2rUpNNfTk+n1PRkwCAmWbLhHs4a9zJAyDOSvWINyBx mheA== X-Gm-Message-State: AOJu0Yxvw9rFgm/KtlQLpt3i+IeLPZwiYp+D8A987Axe0vYDqRUlX6y4 jJG0SJYqORPnpCTt7QskcKH8AqVxWaQTchOvITHon0MnTPoFBhcxphBmLBG6+NrIXZjl/O+yA0v s962JiaYhFsl86o2pIkaVp7n1c6+NewnnVrsHMG7l/yUPaJ9QaEcX9e+RdMVg X-Gm-Gg: ASbGncsrgu/qn875QhmqhAQw0+mg/+uztITs6PN53kUORToRF/y/ETvSpkXQprdnQkM JO813O+XtE0gpJ8es1VVHP80abS+5fKM6MUAeRp8WP7KSzyaDXW3TDRSA4adoOO/fv4qp60sSXZ S6oW2t1wSwLiw4OSL3qve7O3bsa+WAaZHdjVZeP/DzTtoE0wWY7Ai+6XHspPLOIuulSVpx4ny0F XU4nDp0SYpK1i2M5+mxSTXESxwCgFN2SPz7sp8mbOc0kmjjh/6p7IZe+P39qPPLfyJote2rQh69 mWCxY/TDhge5PrV0QBcrupq6+1ZaZ3XX/Bu21OzV/HM3rGBYqjbhMXsJwMt4gc6LDg//YxngpOy 21P4nqFFE8FTOY6F4aYQ= X-Google-Smtp-Source: AGHT+IGYL70YKpG09D9p+7KygVdI+J0W9x05KoIQFz/ZTjQbtQztS3DYBi/G6o1FUcVcd4wrqOfUP48JVPyA X-Received: by 2002:a05:6638:a801:b0:5b7:1415:6305 with SMTP id 8926c6da1cb9f-5b7c9e594b9mr11336529173.11.1763571049652; Wed, 19 Nov 2025 08:50:49 -0800 (PST) Received: from postal.iol.unh.edu (postal.iol.unh.edu. [2606:4100:3880:1234::84]) by smtp-relay.gmail.com with ESMTPS id 8926c6da1cb9f-5b7bd33586csm1390957173.34.2025.11.19.08.50.49 (version=TLS1_2 cipher=ECDHE-ECDSA-AES128-GCM-SHA256 bits=128/128); Wed, 19 Nov 2025 08:50:49 -0800 (PST) X-Relaying-Domain: iol.unh.edu Date: Wed, 19 Nov 2025 08:50:49 -0800 (PST) Message-ID: <691df569.020a0220.38cef1.6bf0SMTPIN_ADDED_MISSING@mx.google.com> Received: from [172.21.0.3] (unknown [172.18.0.240]) by postal.iol.unh.edu (Postfix) with ESMTP id 33CBF6051830; Wed, 19 Nov 2025 11:50:49 -0500 (EST) Subject: |SUCCESS| pw158890 [PATCH] [v3,1/1] net/mlx5: fix port down in link From: dpdklab@iol.unh.edu To: Test Report Cc: dpdk-test-reports@iol.unh.edu In-Reply-To: <20251119060222.2814478-1-xu.yang3@zte.com.cn> References: <20251119060222.2814478-1-xu.yang3@zte.com.cn> Content-Type: text/plain X-BeenThere: test-report@dpdk.org X-Mailman-Version: 2.1.29 Precedence: list List-Id: automatic DPDK test reports List-Unsubscribe: , List-Archive: List-Post: List-Help: List-Subscribe: , Errors-To: test-report-bounces@dpdk.org Test-Label: iol-compile-arm64-testing Test-Status: SUCCESS http://dpdk.org/patch/158890 _Testing PASS_ Submitter: Yang Xu Date: Wednesday, November 19 2025 06:02:22 DPDK git baseline: Repo:dpdk-next-net-mlx Branch: master CommitID:9cf35632839ee84aad5a4baade86ea1dc8ba3d1b 158890 --> testing pass Upstream job id: Generic-DPDK-Compile-Meson#445961 Test environment and result as below: +------------------------------+--------------------+ | Environment | dpdk_meson_compile | +==============================+====================+ | Debian GNU/Linux 12 | PASS | +------------------------------+--------------------+ | Ubuntu 22.04 | PASS | +------------------------------+--------------------+ | Ubuntu 20.04 | PASS | +------------------------------+--------------------+ | Red Hat Enterprise Linux 9.5 | PASS | +------------------------------+--------------------+ | Fedora Linux 42 | PASS | +------------------------------+--------------------+ | Ubuntu 24.04 | PASS | +------------------------------+--------------------+ | CentOS Stream 10 | PASS | +------------------------------+--------------------+ | CentOS Stream 9 | PASS | +------------------------------+--------------------+ Debian GNU/Linux 12 Kernel: 5.4 Compiler: gcc gcc (Debian 12.2.0-14+deb12u1) 12.2.0 Ubuntu 22.04 Kernel: 5.4 Compiler: gcc gcc (Ubuntu 11.4.0-1ubuntu1~22.04) 11.4.0 Ubuntu 20.04 Kernel: 5.15 Compiler: aarch64-linux-gnu-gcc gcc (Ubuntu 9.4.0-1ubuntu1~20.04.2) 9.4.0 Red Hat Enterprise Linux 9.5 Kernel: 5.4 Compiler: gcc gcc (GCC) 11.5.0 20240719 (Red Hat 11.5.0-2) Fedora Linux 42 Kernel: 5.4 Compiler: gcc gcc (GCC) 15.2.1 20250808 (Red Hat 15.2.1-1) Ubuntu 24.04 Kernel: 5.4 Compiler: gcc gcc (Ubuntu 13.3.0-6ubuntu2~24.04) 13.3.0 CentOS Stream 10 Kernel: 5.4 Compiler: gcc gcc (GCC) 14.2.1 20250110 (Red Hat 14.2.1-8) CentOS Stream 9 Kernel: 5.4 Compiler: gcc gcc (GCC) 11.5.0 20240719 (Red Hat 11.5.0-11) To view detailed results, visit: https://lab.dpdk.org/results/dashboard/patchsets/34634/ UNH-IOL DPDK Community Lab To manage your email subscriptions, visit: https://lab.dpdk.org/results/dashboard/preferences/subscriptions/