From mboxrd@z Thu Jan 1 00:00:00 1970 Return-Path: Received: from mails.dpdk.org (mails.dpdk.org [217.70.189.124]) by inbox.dpdk.org (Postfix) with ESMTP id 49C5148B08 for ; Wed, 19 Nov 2025 17:51:04 +0100 (CET) Received: from mails.dpdk.org (localhost [127.0.0.1]) by mails.dpdk.org (Postfix) with ESMTP id 4570940262; Wed, 19 Nov 2025 17:51:04 +0100 (CET) Received: from mail-oo1-f98.google.com (mail-oo1-f98.google.com [209.85.161.98]) by mails.dpdk.org (Postfix) with ESMTP id 9132040262 for ; Wed, 19 Nov 2025 17:51:02 +0100 (CET) Received: by mail-oo1-f98.google.com with SMTP id 006d021491bc7-65760bbd866so544264eaf.3 for ; Wed, 19 Nov 2025 08:51:02 -0800 (PST) DKIM-Signature: v=1; a=rsa-sha256; c=relaxed/relaxed; d=iol.unh.edu; s=unh-iol; t=1763571062; x=1764175862; darn=dpdk.org; h=references:in-reply-to:cc:to:from:subject:message-id:date:from:to :cc:subject:date:message-id:reply-to; bh=LiagQ6ghHmtgQznuISPpEgQRDg9czAvfUCR6gWbsU6Y=; b=U4pLacx7xlGsYpCgp2e2NhStx+6hqUgfR+6w9SjNQsVpdpwDIEcFF6njlSEKheJic1 4vpWzVaGa18t6nrDCGvgKe7G/YhQ7M+oT0j/gsNgXkqeAPA2CCNzwY0kJ+2V+4x75xIQ Wy553Gvi/Lwkkbm73gDGP2VePid1M0+KuRocQ= X-Google-DKIM-Signature: v=1; a=rsa-sha256; c=relaxed/relaxed; d=1e100.net; s=20230601; t=1763571062; x=1764175862; h=references:in-reply-to:cc:to:from:subject:message-id:date:x-gm-gg :x-gm-message-state:from:to:cc:subject:date:message-id:reply-to; bh=LiagQ6ghHmtgQznuISPpEgQRDg9czAvfUCR6gWbsU6Y=; b=V1uwCWmd7vB/WoMvf//MP20mLOQnGpYfB+NyMDmVDVvUIwM9bwUrC/VSYKTkbWpw31 U0Y9qbSGIOaOm1OBQnTB1nUUbLLsHVTdNX3oJOLgCFzlI0hXNRzPvYovc3n4N2hF2fF3 ADzpI4XNhJOh+evkjUiBexSYlUgat32tsqTwJ9WaGwQjLU661Lke8n+DM23liDanqtk5 5QCrXemdqhc5VElwdeXKTvxRTA0mnmOV8uFGFcYzACwhGyu34yAv4ipEDW5ZT8wSriEb TPFHEZ0BoU4BUq7732mD0WSbzRE5li1kXR9BMo4cjvaBJUG4w3LSTGCyY8hgfq2FojO1 XAKw== X-Gm-Message-State: AOJu0YyKkkcwOEhZ6aqCZFiJN+CWxYEpzJvHxXNMD2AS5YwOrgzk5+XS UxlrPKLXu8edshyLl4PmUvSm9/wQzR2ezlJS0gqHkDJxE9w7mnqXlOwdR0Q1y7awD+857b8akA9 Y22iUORAH8quU5xdrNyQf0jyD1JafrgzwEFnzegS+N6s4 X-Gm-Gg: ASbGncsNn7j42dr5+dk5yvULlCKv82D8Apk8d/HUAZRkGs3WG+bJAUYzwq3PxCC9l3I gD4Bdd3Y882fu3g8qzqWv8592ngMcTXwLCS45YMj5QqKDtG13dyzPvl+LxAZFJHq5egtWlbDTw+ C5VJ90J4eJzhuXTz7zI4HUrk7T8rPXTurBLcBTcq46lmwSnRv+Ojk+sAEprj1TCpmL+ki2XJKA8 uJtoXLtHHwFu4MOoWbtdEhVKg5n5J+Y1eDImZxX8zJVliBLxLvlfMQnjinz6JhByyYL5JHa8KSp Ga9DAyMwW587l9gbAzNXFa5NQRhETt+VkGAmMR3zfKrJGr6TSKsHHvl8dvOLqc3cq0MWGAY9Gz2 cyLdh3XjeYVf0qyY9FQZJhVxM+JKejbYLzKJ6UZVb8w== X-Google-Smtp-Source: AGHT+IFJ/Yp5/gvApnfM9Rz9kdFgqVFxgKshgFuur8ITA7nC+7YQveLRjbekxy5j87bupao+Do6QEN0ZSYna X-Received: by 2002:a05:6870:fba1:b0:3ec:45d7:4e72 with SMTP id 586e51a60fabf-3ec9a441703mr6232fac.12.1763571061710; Wed, 19 Nov 2025 08:51:01 -0800 (PST) Received: from postal.iol.unh.edu (postal.iol.unh.edu. [132.177.123.84]) by smtp-relay.gmail.com with ESMTPS id 586e51a60fabf-3e851fc79f0sm1688947fac.1.2025.11.19.08.51.01 (version=TLS1_2 cipher=ECDHE-ECDSA-AES128-GCM-SHA256 bits=128/128); Wed, 19 Nov 2025 08:51:01 -0800 (PST) X-Relaying-Domain: iol.unh.edu Date: Wed, 19 Nov 2025 08:51:01 -0800 (PST) Message-ID: <691df575.050a0220.cda76.51bdSMTPIN_ADDED_MISSING@mx.google.com> Received: from [172.21.0.4] (unknown [172.18.0.240]) by postal.iol.unh.edu (Postfix) with ESMTP id 3A9CA6051830; Wed, 19 Nov 2025 11:51:01 -0500 (EST) Subject: |SUCCESS| pw158890 [PATCH] [v3,1/1] net/mlx5: fix port down in link From: dpdklab@iol.unh.edu To: Test Report Cc: dpdk-test-reports@iol.unh.edu In-Reply-To: <20251119060222.2814478-1-xu.yang3@zte.com.cn> References: <20251119060222.2814478-1-xu.yang3@zte.com.cn> Content-Type: text/plain X-BeenThere: test-report@dpdk.org X-Mailman-Version: 2.1.29 Precedence: list List-Id: automatic DPDK test reports List-Unsubscribe: , List-Archive: List-Post: List-Help: List-Subscribe: , Errors-To: test-report-bounces@dpdk.org Test-Label: iol-compile-arm64-testing Test-Status: SUCCESS http://dpdk.org/patch/158890 _Testing PASS_ Submitter: Yang Xu Date: Wednesday, November 19 2025 06:02:22 DPDK git baseline: Repo:dpdk-next-net-mlx Branch: master CommitID:9cf35632839ee84aad5a4baade86ea1dc8ba3d1b 158890 --> testing pass Upstream job id: Generic-DPDK-Compile-Meson#445967 Test environment and result as below: +------------------------------+--------------------+ | Environment | dpdk_meson_compile | +==============================+====================+ | Debian GNU/Linux 12 | PASS | +------------------------------+--------------------+ | Ubuntu 22.04 | PASS | +------------------------------+--------------------+ | Ubuntu 20.04 | PASS | +------------------------------+--------------------+ | Red Hat Enterprise Linux 9.5 | PASS | +------------------------------+--------------------+ | Fedora Linux 42 | PASS | +------------------------------+--------------------+ | Ubuntu 24.04 | PASS | +------------------------------+--------------------+ | CentOS Stream 10 | PASS | +------------------------------+--------------------+ | CentOS Stream 9 | PASS | +------------------------------+--------------------+ Debian GNU/Linux 12 Kernel: 5.4 Compiler: gcc gcc (Debian 12.2.0-14+deb12u1) 12.2.0 Ubuntu 22.04 Kernel: 5.4 Compiler: gcc gcc (Ubuntu 11.4.0-1ubuntu1~22.04) 11.4.0 Ubuntu 20.04 Kernel: 5.15 Compiler: aarch64-linux-gnu-gcc gcc (Ubuntu 9.4.0-1ubuntu1~20.04.2) 9.4.0 Red Hat Enterprise Linux 9.5 Kernel: 5.4 Compiler: gcc gcc (GCC) 11.5.0 20240719 (Red Hat 11.5.0-2) Fedora Linux 42 Kernel: 5.4 Compiler: gcc gcc (GCC) 15.2.1 20250808 (Red Hat 15.2.1-1) Ubuntu 24.04 Kernel: 5.4 Compiler: gcc gcc (Ubuntu 13.3.0-6ubuntu2~24.04) 13.3.0 CentOS Stream 10 Kernel: 5.4 Compiler: gcc gcc (GCC) 14.2.1 20250110 (Red Hat 14.2.1-8) CentOS Stream 9 Kernel: 5.4 Compiler: gcc gcc (GCC) 11.5.0 20240719 (Red Hat 11.5.0-11) To view detailed results, visit: https://lab.dpdk.org/results/dashboard/patchsets/34634/ UNH-IOL DPDK Community Lab To manage your email subscriptions, visit: https://lab.dpdk.org/results/dashboard/preferences/subscriptions/