From mboxrd@z Thu Jan 1 00:00:00 1970 Return-Path: Received: from mails.dpdk.org (mails.dpdk.org [217.70.189.124]) by inbox.dpdk.org (Postfix) with ESMTP id 914BA48B4E for ; Wed, 19 Nov 2025 18:19:16 +0100 (CET) Received: from mails.dpdk.org (localhost [127.0.0.1]) by mails.dpdk.org (Postfix) with ESMTP id 73E7740262; Wed, 19 Nov 2025 18:19:16 +0100 (CET) Received: from mail-pl1-f227.google.com (mail-pl1-f227.google.com [209.85.214.227]) by mails.dpdk.org (Postfix) with ESMTP id 058EB40262 for ; Wed, 19 Nov 2025 18:19:15 +0100 (CET) Received: by mail-pl1-f227.google.com with SMTP id d9443c01a7336-2953ad5517dso78095935ad.0 for ; Wed, 19 Nov 2025 09:19:15 -0800 (PST) DKIM-Signature: v=1; a=rsa-sha256; c=relaxed/relaxed; d=iol.unh.edu; s=unh-iol; t=1763572755; x=1764177555; darn=dpdk.org; h=references:in-reply-to:cc:to:from:subject:message-id:date:from:to :cc:subject:date:message-id:reply-to; bh=Dt9J+Pj4n9astFs2Pe4TDp4yU2ihc3paoGlZFvTNi6I=; b=ClcPtS7E1pgCbwMrb4CN2SyYVJWQj8zimcZynAFqTLNvmAkyK2oabldM8JZxB2zOyc KQV+qF2csVRxVqHIN0mwPCHqKak6MZ47iGicwHlx3KtdcYXQQzkTdNI9ZWRJ40uSitWh nixSsA7pi61DNK5XWW0G1F5A5UGxENybyzW4E= X-Google-DKIM-Signature: v=1; a=rsa-sha256; c=relaxed/relaxed; d=1e100.net; s=20230601; t=1763572755; x=1764177555; h=references:in-reply-to:cc:to:from:subject:message-id:date:x-gm-gg :x-gm-message-state:from:to:cc:subject:date:message-id:reply-to; bh=Dt9J+Pj4n9astFs2Pe4TDp4yU2ihc3paoGlZFvTNi6I=; b=rnRjWDuIUorCb8mtERQiTx0ZM3X7zmMMCSi71/yWU1sM/2qjr3NToV+1EklHOVbUX4 SMFBmlCObpdTw7OJRfM9i9VfF7Usjoyy7OJoJNyQfLQoDWTp/bgWFVECfW2ca/1F0xZT 0jUfZfP9kknw4CzU3UHKGqt1xu2E1/7xwxmfKvoMjitoYMi1XEF+dHYnyB+H5be3BjYz d9pnt5t9fKqteXsIcBsRg/jClyOiSPVX/X9gm7soHkBoksmDgUrths76LE48MKsMCC2k jxbz/6Utb0jLas87vnFwDp4Fnq13Nw04Wn1RKA5wkXwIjzL7azHXcPJcI71r04p5R84m QzoA== X-Gm-Message-State: AOJu0YzsKJiDJeZX0zkW/w8hbhr2l6ozjjP7wEU+bdcZpuLmxRnSu2iQ sTI5M4oC4MK2F09ixY0PvBm4prmB8gnlVe7WCnSAwf/DbxmFGDjhpVf2OK3+D2d7WMMV2CIf30v OhZ/Lq7a0CMJ3QdWr2r8XvJVeO3ygps2NLHEg9WZuLOhV X-Gm-Gg: ASbGncuCN56E1A1j8rUPaOQJp4Bt/ITWI1185Tz0Y6wpByiRgubLOyAfhvST9iSdCUi Z83CNLhAkAa3unBLmfDC6kYw3Q/B7LjbFHTfCp+XWDobdvLbjvvrjYUOGJeBdci25XJ/epJfalf Nk1jo1m/kM/Bzs/czx4wnolEVjLjJouRIsDBrsmghXGEWE2YJTKtk9lmHsTP8P0GodhoTDOtHxh EdQ7vBf1cfE3nXqPCpSWPyJmi3cl6lKgvOqb1MqGI9udyc5dnsfrP9BP10MhJsJ4t+RPg1BA4D8 V+gCXqXi1wV56yeBKsB0tEfvWcDxEShx28mXkwtT2mROjr2QBm1CzDBAmpkLlMOiH56i4fP5HA8 9kSXkIpQcHRzA1011c2v/VQfnDi+mNa/w/uLVhejhvw== X-Google-Smtp-Source: AGHT+IGYBtNTsug57a/yhb/2Hrx2LkY7ni7yHWSP3/S1Z7zmnL1FWJmhI1XtcNxOao/S5xgCuiwzX61NUCvz X-Received: by 2002:a17:902:db07:b0:298:4f73:d872 with SMTP id d9443c01a7336-29b5b06f2a1mr2102305ad.21.1763572755038; Wed, 19 Nov 2025 09:19:15 -0800 (PST) Received: from postal.iol.unh.edu (postal.iol.unh.edu. [132.177.123.84]) by smtp-relay.gmail.com with ESMTPS id d9443c01a7336-29b5b1365a1sm61665ad.18.2025.11.19.09.19.14 (version=TLS1_2 cipher=ECDHE-ECDSA-AES128-GCM-SHA256 bits=128/128); Wed, 19 Nov 2025 09:19:15 -0800 (PST) X-Relaying-Domain: iol.unh.edu Date: Wed, 19 Nov 2025 09:19:15 -0800 (PST) Message-ID: <691dfc13.170a0220.432c4.053aSMTPIN_ADDED_MISSING@mx.google.com> Received: from [172.21.0.2] (unknown [172.18.0.240]) by postal.iol.unh.edu (Postfix) with ESMTP id B07D560003EA; Wed, 19 Nov 2025 12:19:13 -0500 (EST) Subject: |SUCCESS| pw158913-158930 [PATCH] [v5,18/18] vfio: introduce cdev mo From: dpdklab@iol.unh.edu To: Test Report Cc: dpdk-test-reports@iol.unh.edu In-Reply-To: <684f963686006c46a9b568b29c56494db9449148.1763550470.git.anatoly.burakov@intel.com> References: <684f963686006c46a9b568b29c56494db9449148.1763550470.git.anatoly.burakov@intel.com> Content-Type: text/plain X-BeenThere: test-report@dpdk.org X-Mailman-Version: 2.1.29 Precedence: list List-Id: automatic DPDK test reports List-Unsubscribe: , List-Archive: List-Post: List-Help: List-Subscribe: , Errors-To: test-report-bounces@dpdk.org Test-Label: iol-compile-amd64-testing Test-Status: SUCCESS http://dpdk.org/patch/158930 _Testing PASS_ Submitter: Anatoly Burakov Date: Wednesday, November 19 2025 11:08:16 DPDK git baseline: Repo:dpdk Branch: master CommitID:ef98b88455bf4a7c8b7aa3106a761c9e9270d6a3 158913-158930 --> testing pass Upstream job id: Generic-DPDK-Compile-Meson#446117 Test environment and result as below: +-------------------------------+--------------------+-------------------+-------------------------+----------------------+------------------+ | Environment | dpdk_meson_compile | dpdk_msvc_compile | dpdk_llvm_clang_compile | dpdk_mingw64_compile | dpdk_compile_ovs | +===============================+====================+===================+=========================+======================+==================+ | Ubuntu 20.04 | PASS | SKIPPED | SKIPPED | SKIPPED | SKIPPED | +-------------------------------+--------------------+-------------------+-------------------------+----------------------+------------------+ | FreeBSD 14.2 | PASS | SKIPPED | SKIPPED | SKIPPED | SKIPPED | +-------------------------------+--------------------+-------------------+-------------------------+----------------------+------------------+ | CentOS Stream 9 | PASS | SKIPPED | SKIPPED | SKIPPED | SKIPPED | +-------------------------------+--------------------+-------------------+-------------------------+----------------------+------------------+ | CentOS Stream 10 | PASS | SKIPPED | SKIPPED | SKIPPED | SKIPPED | +-------------------------------+--------------------+-------------------+-------------------------+----------------------+------------------+ | Debian GNU/Linux 12 | PASS | SKIPPED | SKIPPED | SKIPPED | SKIPPED | +-------------------------------+--------------------+-------------------+-------------------------+----------------------+------------------+ | Fedora Linux 42 | PASS | SKIPPED | SKIPPED | SKIPPED | PASS | +-------------------------------+--------------------+-------------------+-------------------------+----------------------+------------------+ | openSUSE Leap 15.6 | PASS | SKIPPED | SKIPPED | SKIPPED | SKIPPED | +-------------------------------+--------------------+-------------------+-------------------------+----------------------+------------------+ | Red Hat Enterprise Linux 8.10 | PASS | SKIPPED | SKIPPED | SKIPPED | SKIPPED | +-------------------------------+--------------------+-------------------+-------------------------+----------------------+------------------+ | Red Hat Enterprise Linux 9.5 | PASS | SKIPPED | SKIPPED | SKIPPED | SKIPPED | +-------------------------------+--------------------+-------------------+-------------------------+----------------------+------------------+ | Ubuntu 22.04 | PASS | SKIPPED | SKIPPED | SKIPPED | SKIPPED | +-------------------------------+--------------------+-------------------+-------------------------+----------------------+------------------+ | Ubuntu 24.04 | PASS | SKIPPED | SKIPPED | SKIPPED | PASS | +-------------------------------+--------------------+-------------------+-------------------------+----------------------+------------------+ | Alpine Linux 3.22.0 | PASS | SKIPPED | SKIPPED | SKIPPED | SKIPPED | +-------------------------------+--------------------+-------------------+-------------------------+----------------------+------------------+ | Windows Server 2022 | SKIPPED | PASS | PASS | PASS | SKIPPED | +-------------------------------+--------------------+-------------------+-------------------------+----------------------+------------------+ Ubuntu 20.04 Kernel: 4.19 Compiler: gcc gcc (Ubuntu 9.4.0-1ubuntu1~20.04.2) 9.4.0 FreeBSD 14.2 Kernel: 14.2-RELEASE Compiler: clang 18.1.6 CentOS Stream 9 Kernel: 5.15 Compiler: gcc gcc (GCC) 11.5.0 20240719 (Red Hat 11.5.0-11) CentOS Stream 10 Kernel: 5.15 Compiler: gcc gcc (GCC) 14.2.1 20250110 (Red Hat 14.2.1-8) Debian GNU/Linux 12 Kernel: 5.15 Compiler: gcc gcc (Debian 12.2.0-14+deb12u1) 12.2.0 Fedora Linux 42 Kernel: 5.15 Compiler: clang gcc (GCC) 15.2.1 20250808 (Red Hat 15.2.1-1) openSUSE Leap 15.6 Kernel: 5.15 Compiler: gcc gcc (SUSE Linux) 7.5.0 Red Hat Enterprise Linux 8.10 Kernel: 5.15 Compiler: gcc gcc (GCC) 8.5.0 20210514 (Red Hat 8.5.0-22) Red Hat Enterprise Linux 9.5 Kernel: 5.15 Compiler: gcc gcc (GCC) 11.5.0 20240719 (Red Hat 11.5.0-2) Ubuntu 22.04 Kernel: 5.15 Compiler: gcc gcc (Ubuntu 11.4.0-1ubuntu1~22.04) 11.4.0 Ubuntu 24.04 Kernel: 5.15 Compiler: gcc gcc (Ubuntu 13.3.0-6ubuntu2~24.04) 13.3.0 Alpine Linux 3.22.0 Kernel: 5.15 Compiler: gcc gcc (Alpine 14.2.0) 14.2.0 Windows Server 2022 Kernel: 10.0.20348.2031 Compiler: clang 15.0.7, gcc 14.1.0 (MinGW), and MSVC VS 19.39.33521 To view detailed results, visit: https://lab.dpdk.org/results/dashboard/patchsets/34641/ UNH-IOL DPDK Community Lab To manage your email subscriptions, visit: https://lab.dpdk.org/results/dashboard/preferences/subscriptions/