From mboxrd@z Thu Jan 1 00:00:00 1970 Return-Path: Received: from mails.dpdk.org (mails.dpdk.org [217.70.189.124]) by inbox.dpdk.org (Postfix) with ESMTP id 3E55748B4E for ; Wed, 19 Nov 2025 18:27:01 +0100 (CET) Received: from mails.dpdk.org (localhost [127.0.0.1]) by mails.dpdk.org (Postfix) with ESMTP id 19FC340262; Wed, 19 Nov 2025 18:27:01 +0100 (CET) Received: from mail-il1-f228.google.com (mail-il1-f228.google.com [209.85.166.228]) by mails.dpdk.org (Postfix) with ESMTP id B3ACF40262 for ; Wed, 19 Nov 2025 18:27:00 +0100 (CET) Received: by mail-il1-f228.google.com with SMTP id e9e14a558f8ab-433100c59dcso121045ab.0 for ; Wed, 19 Nov 2025 09:27:00 -0800 (PST) DKIM-Signature: v=1; a=rsa-sha256; c=relaxed/relaxed; d=iol.unh.edu; s=unh-iol; t=1763573220; x=1764178020; darn=dpdk.org; h=references:in-reply-to:cc:to:from:subject:message-id:date:from:to :cc:subject:date:message-id:reply-to; bh=LW8MM1HNUwelzmUzOEwtOXQyu1AwkkjiE4mc/VEkjCI=; b=YHbczgBh5VkyADevasOHmtJHEy2ATrKubn/xoHFK6Mx2Ar+FtudurKoxrhTy+YsZeX +9Neo5lJZF2+ILaZrUyayFQUM5rHJABnxsAO8J3RE5BSqpeuPSZaJ2eZ1p2uFxKIn3Wg QyAiKg7TiqbpCNwnvRY/SwXNzTk88jmgy1dpE= X-Google-DKIM-Signature: v=1; a=rsa-sha256; c=relaxed/relaxed; d=1e100.net; s=20230601; t=1763573220; x=1764178020; h=references:in-reply-to:cc:to:from:subject:message-id:date:x-gm-gg :x-gm-message-state:from:to:cc:subject:date:message-id:reply-to; bh=LW8MM1HNUwelzmUzOEwtOXQyu1AwkkjiE4mc/VEkjCI=; b=svQpZyceZqgDoUfFG+gfFDtpppm/jKeIYLb8KbG1GOTEgI5kIp87HHCfmeJYewpk6o T3qykvr5NHFzf9BS4V/r0MSo91Auk5wyITjF7FxYqhIm+CGpiTPPoxRePr4HOiVLR0oR iR+rlfzsDs1PW7sZ0uC9wcyhryBzMpRP5cS0Ij6KmxJALqs74KeCphbK3AVVBdBb8r3f 6GGuYE85wk3HrkASnNqg3uJGcDn2UjGwuDbnPS3cPd3CmWeyVLTXLcgivAOKQr3M9J/y Z6FoPZb5S92W3JpecT/QorNAcbukfdOFDwyvvwIiCfpGeCGPy/LnwGYYfg0i213b9AjA ZwFA== X-Gm-Message-State: AOJu0YwfdHR4uuhObQmsUqD0xM25M+KJPeJMVSSmHK2Lg4XEHnG3gHNz HtsIhXsWVlfupLWnMn2HJAT7rytLDO7nj7DxwsoUm/EDFVYFa2DIe6/6dHdgJT//sBpnI7B6PCQ aebJGy317d1S06VqEb7/NAMW92ggh2wZKjkYyIai9PQjJ X-Gm-Gg: ASbGncuknTEPPkGuxGWa2KwlcKvuvstBwklTl+TWR9tuFwTA/c/aKq3jZOEIXhHqSgQ 67M1jVliwo0gY/SGdZ7vWFj8VVFh4kJB0v1CfIeN5QauuvUSlBc4Jqg3SEAQ5XXVqJ1rWrwcMUM +BXPurtiJJaKlC6lWBHmhane08V5vJx1R+voizkVglhzGu7WvbDXr3VqYK7QpMRpzxKxSg3gZmX anSu+eoDpHdRn9dDDLlVoh8e7WwqzicQn8inRBKR5KOqAb8XwAa2BSved+MnOVvT2Y213OBlwnm McZU/iKXzvlzf4RYFXyecnxP543HGU7XuzjWDUJU/fFVe/dATWtJg0xCGu9OHT69fOioqoxrHVJ OwRFlzAOweVA65tDHuPsI1aMwV6Rr1E7vC7TCXpRxgg== X-Google-Smtp-Source: AGHT+IErDqkEkY3EdCnkCa4Y+qgt52fk4jw3qDwh3TtyzqQKN3n6oeSvufMngGAEssevBEsqv4WLpULfsuv+ X-Received: by 2002:a05:6e02:1d84:b0:433:8109:3ed9 with SMTP id e9e14a558f8ab-435a9039098mr2864785ab.16.1763573219898; Wed, 19 Nov 2025 09:26:59 -0800 (PST) Received: from postal.iol.unh.edu (postal.iol.unh.edu. [132.177.123.84]) by smtp-relay.gmail.com with ESMTPS id 8926c6da1cb9f-5b7bd27fc2fsm1304192173.17.2025.11.19.09.26.59 (version=TLS1_2 cipher=ECDHE-ECDSA-AES128-GCM-SHA256 bits=128/128); Wed, 19 Nov 2025 09:26:59 -0800 (PST) X-Relaying-Domain: iol.unh.edu Date: Wed, 19 Nov 2025 09:26:59 -0800 (PST) Message-ID: <691dfde3.050a0220.f6d07.2c55SMTPIN_ADDED_MISSING@mx.google.com> Received: from [172.21.0.2] (unknown [172.18.0.240]) by postal.iol.unh.edu (Postfix) with ESMTP id 65CC56051830; Wed, 19 Nov 2025 12:26:59 -0500 (EST) Subject: |SUCCESS| pw158932 [PATCH] mbuf: fix packet copy From: dpdklab@iol.unh.edu To: Test Report Cc: dpdk-test-reports@iol.unh.edu In-Reply-To: <20251119120403.907511-1-mb@smartsharesystems.com> References: <20251119120403.907511-1-mb@smartsharesystems.com> Content-Type: text/plain X-BeenThere: test-report@dpdk.org X-Mailman-Version: 2.1.29 Precedence: list List-Id: automatic DPDK test reports List-Unsubscribe: , List-Archive: List-Post: List-Help: List-Subscribe: , Errors-To: test-report-bounces@dpdk.org Test-Label: iol-compile-amd64-testing Test-Status: SUCCESS http://dpdk.org/patch/158932 _Testing PASS_ Submitter: Morten Brorup Date: Wednesday, November 19 2025 12:04:03 DPDK git baseline: Repo:dpdk Branch: master CommitID:ef98b88455bf4a7c8b7aa3106a761c9e9270d6a3 158932 --> testing pass Upstream job id: Generic-DPDK-Compile-Meson#446122 Test environment and result as below: +-------------------------------+--------------------+-------------------+-------------------------+----------------------+------------------+ | Environment | dpdk_meson_compile | dpdk_msvc_compile | dpdk_llvm_clang_compile | dpdk_mingw64_compile | dpdk_compile_ovs | +===============================+====================+===================+=========================+======================+==================+ | Ubuntu 20.04 | PASS | SKIPPED | SKIPPED | SKIPPED | SKIPPED | +-------------------------------+--------------------+-------------------+-------------------------+----------------------+------------------+ | FreeBSD 14.2 | PASS | SKIPPED | SKIPPED | SKIPPED | SKIPPED | +-------------------------------+--------------------+-------------------+-------------------------+----------------------+------------------+ | CentOS Stream 9 | PASS | SKIPPED | SKIPPED | SKIPPED | SKIPPED | +-------------------------------+--------------------+-------------------+-------------------------+----------------------+------------------+ | CentOS Stream 10 | PASS | SKIPPED | SKIPPED | SKIPPED | SKIPPED | +-------------------------------+--------------------+-------------------+-------------------------+----------------------+------------------+ | Debian GNU/Linux 12 | PASS | SKIPPED | SKIPPED | SKIPPED | SKIPPED | +-------------------------------+--------------------+-------------------+-------------------------+----------------------+------------------+ | Fedora Linux 42 | PASS | SKIPPED | SKIPPED | SKIPPED | PASS | +-------------------------------+--------------------+-------------------+-------------------------+----------------------+------------------+ | openSUSE Leap 15.6 | PASS | SKIPPED | SKIPPED | SKIPPED | SKIPPED | +-------------------------------+--------------------+-------------------+-------------------------+----------------------+------------------+ | Red Hat Enterprise Linux 8.10 | PASS | SKIPPED | SKIPPED | SKIPPED | SKIPPED | +-------------------------------+--------------------+-------------------+-------------------------+----------------------+------------------+ | Red Hat Enterprise Linux 9.5 | PASS | SKIPPED | SKIPPED | SKIPPED | SKIPPED | +-------------------------------+--------------------+-------------------+-------------------------+----------------------+------------------+ | Ubuntu 22.04 | PASS | SKIPPED | SKIPPED | SKIPPED | SKIPPED | +-------------------------------+--------------------+-------------------+-------------------------+----------------------+------------------+ | Ubuntu 24.04 | PASS | SKIPPED | SKIPPED | SKIPPED | PASS | +-------------------------------+--------------------+-------------------+-------------------------+----------------------+------------------+ | Windows Server 2022 | SKIPPED | PASS | PASS | PASS | SKIPPED | +-------------------------------+--------------------+-------------------+-------------------------+----------------------+------------------+ Ubuntu 20.04 Kernel: 4.19 Compiler: gcc gcc (Ubuntu 9.4.0-1ubuntu1~20.04.2) 9.4.0 FreeBSD 14.2 Kernel: 14.2-RELEASE Compiler: clang 18.1.6 CentOS Stream 9 Kernel: 5.15 Compiler: gcc gcc (GCC) 11.5.0 20240719 (Red Hat 11.5.0-11) CentOS Stream 10 Kernel: 5.15 Compiler: gcc gcc (GCC) 14.2.1 20250110 (Red Hat 14.2.1-8) Debian GNU/Linux 12 Kernel: 5.15 Compiler: gcc gcc (Debian 12.2.0-14+deb12u1) 12.2.0 Fedora Linux 42 Kernel: 5.15 Compiler: clang gcc (GCC) 15.2.1 20250808 (Red Hat 15.2.1-1) openSUSE Leap 15.6 Kernel: 5.15 Compiler: gcc gcc (SUSE Linux) 7.5.0 Red Hat Enterprise Linux 8.10 Kernel: 5.15 Compiler: gcc gcc (GCC) 8.5.0 20210514 (Red Hat 8.5.0-22) Red Hat Enterprise Linux 9.5 Kernel: 5.15 Compiler: gcc gcc (GCC) 11.5.0 20240719 (Red Hat 11.5.0-2) Ubuntu 22.04 Kernel: 5.15 Compiler: gcc gcc (Ubuntu 11.4.0-1ubuntu1~22.04) 11.4.0 Ubuntu 24.04 Kernel: 5.15 Compiler: gcc gcc (Ubuntu 13.3.0-6ubuntu2~24.04) 13.3.0 Windows Server 2022 Kernel: 10.0.20348.2031 Compiler: clang 15.0.7, gcc 14.1.0 (MinGW), and MSVC VS 19.39.33521 To view detailed results, visit: https://lab.dpdk.org/results/dashboard/patchsets/34642/ UNH-IOL DPDK Community Lab To manage your email subscriptions, visit: https://lab.dpdk.org/results/dashboard/preferences/subscriptions/