From mboxrd@z Thu Jan 1 00:00:00 1970 Return-Path: Received: from mails.dpdk.org (mails.dpdk.org [217.70.189.124]) by inbox.dpdk.org (Postfix) with ESMTP id F3B8048B4E for ; Wed, 19 Nov 2025 18:48:04 +0100 (CET) Received: from mails.dpdk.org (localhost [127.0.0.1]) by mails.dpdk.org (Postfix) with ESMTP id D081440262; Wed, 19 Nov 2025 18:48:04 +0100 (CET) Received: from mail-pl1-f228.google.com (mail-pl1-f228.google.com [209.85.214.228]) by mails.dpdk.org (Postfix) with ESMTP id 972F840262 for ; Wed, 19 Nov 2025 18:48:03 +0100 (CET) Received: by mail-pl1-f228.google.com with SMTP id d9443c01a7336-2955623e6faso55725ad.1 for ; Wed, 19 Nov 2025 09:48:03 -0800 (PST) DKIM-Signature: v=1; a=rsa-sha256; c=relaxed/relaxed; d=iol.unh.edu; s=unh-iol; t=1763574483; x=1764179283; darn=dpdk.org; h=references:in-reply-to:cc:to:from:subject:message-id:date:from:to :cc:subject:date:message-id:reply-to; bh=yOKBDncz0cyt+3ZSOSF6xbdkBER629no7ImP41FI5Ws=; b=E3P3f8DNlmvGOJ4T+2rQm2V1k0uNSc1kz+dzqLH22qmFEEOx7T+gNwG2wJETbuvSfF amqVskmhNXn2KfB9DQ0piAzXdqHxnb5C9uk/jWQjGyihmA3jjXvMPhy9f1GLsyDn1XJx 95RKubDM0b3fKP4zZCmDryUuvRzhGrjSCytYw= X-Google-DKIM-Signature: v=1; a=rsa-sha256; c=relaxed/relaxed; d=1e100.net; s=20230601; t=1763574483; x=1764179283; h=references:in-reply-to:cc:to:from:subject:message-id:date:x-gm-gg :x-gm-message-state:from:to:cc:subject:date:message-id:reply-to; bh=yOKBDncz0cyt+3ZSOSF6xbdkBER629no7ImP41FI5Ws=; b=n6CQiLUAJjN+TVjj8uDDUFU7C70rMHXqPwi1WUhszFKOPDeg8WPAh8TsLbQ2PrNAUq f9+2M4WC2N49EWEcrptJvR2HZkqMwaBNs9Qly7QtRRLqgLSk/Ll4TAFzEBDOtG1Lrmlz e+bRfleAozcOhh5NBS1eWTgp0QpG+HmmFGk8OTJmOvot3iVmTgxYyBYGOtHm2SYzVo9G ePXa6viI0DBhbCQxs/Y0QLFsgHuuO5/pgiARrkQbgKNASDNcmb4U9k9qSU5rfrDylTZl bDKvtg5I0mdFoBD5TLgaWv/PtezuYncmEFeL4KKAAr73qrslPoSYAMAoQHBUuw6Yzjyh hVsg== X-Gm-Message-State: AOJu0YyiULxF7Wn4Gd1hzG/erypOKCLro2WajSiktL2Itm9xeUHuS1sO wowB6lj2PsVYCwNxKwlnZYBksBzfNarEUUHJjRjdWBxvrWkWcJBo5VKRKeQIHRF+fBuYYh68ZF3 s80CqLKkc6JkP3uvDWEatL6Uqm3tgzMfiKi4xAmCUH1TH X-Gm-Gg: ASbGncvTeBl/PeoBnXYDG4HLAZ3t5TgemQ4bkOb7Ly1czTx9dGEeSwZrSvnSXEQnYKT RV1Vo0BGETfhulF3CUZ2kEzuelJKxSAbbmiC40iDcqfhVhRSxsqz1Y6vxbrCJkrvlSi+XCwDINV hi8yun17B41azqubXtPsLb2gQ5SCAj8WWKnn3RMF9ncFtFwAphmfclmY764l3iNTAZhY4AXkN14 hgPB7zbvwBwSij6lpZCcV9iUMj2TTfqu7DZlIEUxfWspURf4A5JSmrvQafcZCFiBxRdtGxNt7pG SJ4lmshVUEAQxvMwfXBdZPS1EVLsiqQNp+ylek/TcjxgsY5xeh8LIfY1LC4Mnv7QQXE5/qCjRo5 lqUlXcQ271v4s0Uj4K5Q15jwHN7MpoGiPzybtTRKKbg== X-Google-Smtp-Source: AGHT+IH7bft7DtN5p7xlETNLng/H4CfE1fOl7fBLw6TT13iLMsdGygz9HXQh4IIrLTnr+dCQAXYx3Vji8g7K X-Received: by 2002:a17:903:4b2f:b0:295:5da6:6011 with SMTP id d9443c01a7336-29b5b03e3e8mr2984755ad.11.1763574482720; Wed, 19 Nov 2025 09:48:02 -0800 (PST) Received: from postal.iol.unh.edu (postal.iol.unh.edu. [132.177.123.84]) by smtp-relay.gmail.com with ESMTPS id d9443c01a7336-29b5b14f758sm120075ad.24.2025.11.19.09.48.02 (version=TLS1_2 cipher=ECDHE-ECDSA-AES128-GCM-SHA256 bits=128/128); Wed, 19 Nov 2025 09:48:02 -0800 (PST) X-Relaying-Domain: iol.unh.edu Date: Wed, 19 Nov 2025 09:48:02 -0800 (PST) Message-ID: <691e02d2.170a0220.29c955.0b19SMTPIN_ADDED_MISSING@mx.google.com> Received: from [172.21.0.2] (unknown [172.18.0.240]) by postal.iol.unh.edu (Postfix) with ESMTP id 1C3426050A61; Wed, 19 Nov 2025 12:48:02 -0500 (EST) Subject: |SUCCESS| pw158891 [PATCH] crypto/dpaa2_sec: use bus device name From: dpdklab@iol.unh.edu To: Test Report Cc: dpdk-test-reports@iol.unh.edu In-Reply-To: <20251119080633.25507-1-david.marchand@redhat.com> References: <20251119080633.25507-1-david.marchand@redhat.com> Content-Type: text/plain X-BeenThere: test-report@dpdk.org X-Mailman-Version: 2.1.29 Precedence: list List-Id: automatic DPDK test reports List-Unsubscribe: , List-Archive: List-Post: List-Help: List-Subscribe: , Errors-To: test-report-bounces@dpdk.org Test-Label: iol-unit-arm64-testing Test-Status: SUCCESS http://dpdk.org/patch/158891 _Testing PASS_ Submitter: David Marchand Date: Wednesday, November 19 2025 08:06:32 DPDK git baseline: Repo:dpdk Branch: master CommitID:ef98b88455bf4a7c8b7aa3106a761c9e9270d6a3 158891 --> testing pass Upstream job id: Generic-Unit-Test-DPDK#394360 Test environment and result as below: +------------------------------+--------------+---------------------------+------------------------------+----------------+ | Environment | lpm_autotest | cryptodev_sw_zuc_autotest | cryptodev_sw_snow3g_autotest | dpdk_unit_test | +==============================+==============+===========================+==============================+================+ | Ubuntu 20.04 | PASS | SKIPPED | SKIPPED | PASS | +------------------------------+--------------+---------------------------+------------------------------+----------------+ | Debian 12 (arm) | SKIPPED | PASS | PASS | SKIPPED | +------------------------------+--------------+---------------------------+------------------------------+----------------+ | Fedora Linux 40 | SKIPPED | SKIPPED | SKIPPED | PASS | +------------------------------+--------------+---------------------------+------------------------------+----------------+ | Ubuntu 22.04 | SKIPPED | SKIPPED | SKIPPED | PASS | +------------------------------+--------------+---------------------------+------------------------------+----------------+ | Fedora Linux 41 | SKIPPED | SKIPPED | SKIPPED | PASS | +------------------------------+--------------+---------------------------+------------------------------+----------------+ | Fedora Linux 42 | SKIPPED | SKIPPED | SKIPPED | PASS | +------------------------------+--------------+---------------------------+------------------------------+----------------+ | CentOS Stream 10 | SKIPPED | SKIPPED | SKIPPED | PASS | +------------------------------+--------------+---------------------------+------------------------------+----------------+ | Debian GNU/Linux 12 | SKIPPED | SKIPPED | SKIPPED | PASS | +------------------------------+--------------+---------------------------+------------------------------+----------------+ | Ubuntu 24.04 | SKIPPED | SKIPPED | SKIPPED | PASS | +------------------------------+--------------+---------------------------+------------------------------+----------------+ | Red Hat Enterprise Linux 9.5 | SKIPPED | SKIPPED | SKIPPED | PASS | +------------------------------+--------------+---------------------------+------------------------------+----------------+ | CentOS Stream 9 | SKIPPED | SKIPPED | SKIPPED | PASS | +------------------------------+--------------+---------------------------+------------------------------+----------------+ Ubuntu 20.04 Kernel: 5.4 Compiler: gcc gcc (Ubuntu 9.4.0-1ubuntu1~20.04.2) 9.4.0 Debian 12 (arm) Kernel: Depends on container host Compiler: gcc (Debian 12.2.0-14) 12.2.0 Fedora Linux 40 Kernel: 5.4 Compiler: gcc gcc (GCC) 14.2.1 20240912 (Red Hat 14.2.1-3) Ubuntu 22.04 Kernel: 5.15 Compiler: gcc gcc (Ubuntu 11.4.0-1ubuntu1~22.04.2) 11.4.0 Fedora Linux 41 Kernel: 5.4 Compiler: clang gcc (GCC) 14.3.1 20250523 (Red Hat 14.3.1-1) Fedora Linux 42 Kernel: 5.4 Compiler: clang gcc (GCC) 15.2.1 20250808 (Red Hat 15.2.1-1) CentOS Stream 10 Kernel: 5.4 Compiler: gcc gcc (GCC) 14.2.1 20250110 (Red Hat 14.2.1-8) Debian GNU/Linux 12 Kernel: 5.4 Compiler: gcc gcc (Debian 12.2.0-14+deb12u1) 12.2.0 Ubuntu 24.04 Kernel: 5.4 Compiler: gcc gcc (Ubuntu 13.3.0-6ubuntu2~24.04) 13.3.0 Red Hat Enterprise Linux 9.5 Kernel: 5.4 Compiler: gcc gcc (GCC) 11.5.0 20240719 (Red Hat 11.5.0-2) CentOS Stream 9 Kernel: 5.4 Compiler: gcc gcc (GCC) 11.5.0 20240719 (Red Hat 11.5.0-11) To view detailed results, visit: https://lab.dpdk.org/results/dashboard/patchsets/34635/ UNH-IOL DPDK Community Lab To manage your email subscriptions, visit: https://lab.dpdk.org/results/dashboard/preferences/subscriptions/