From mboxrd@z Thu Jan 1 00:00:00 1970 Return-Path: Received: from mails.dpdk.org (mails.dpdk.org [217.70.189.124]) by inbox.dpdk.org (Postfix) with ESMTP id 1CF6048B4E for ; Wed, 19 Nov 2025 19:38:42 +0100 (CET) Received: from mails.dpdk.org (localhost [127.0.0.1]) by mails.dpdk.org (Postfix) with ESMTP id CFBE740262; Wed, 19 Nov 2025 19:38:41 +0100 (CET) Received: from mail-il1-f228.google.com (mail-il1-f228.google.com [209.85.166.228]) by mails.dpdk.org (Postfix) with ESMTP id AA3ED40262 for ; Wed, 19 Nov 2025 19:38:40 +0100 (CET) Received: by mail-il1-f228.google.com with SMTP id e9e14a558f8ab-434717509afso417095ab.2 for ; Wed, 19 Nov 2025 10:38:40 -0800 (PST) DKIM-Signature: v=1; a=rsa-sha256; c=relaxed/relaxed; d=iol.unh.edu; s=unh-iol; t=1763577520; x=1764182320; darn=dpdk.org; h=references:in-reply-to:cc:to:from:subject:message-id:date:from:to :cc:subject:date:message-id:reply-to; bh=XhcTFCNTAtk/r07sXV3gHl5uxi5sd1pACmhfjgwkyFY=; b=AZL5/F7fgdMxpcQNIr3LUj5BuVHUcC8SYwkvdjz28PdOJTBbE47k2wY6k+KmG4fMh/ yS3P2VbvTZrOo0ZA1U28Anp9szSqjyPyCVDOAq/0mV0BXwXvI8HmsXMA/JX6iBnzD2LN U9R3AtFgT6fMMCWNSFklFtNVK9dr53ozxPcl4= X-Google-DKIM-Signature: v=1; a=rsa-sha256; c=relaxed/relaxed; d=1e100.net; s=20230601; t=1763577520; x=1764182320; h=references:in-reply-to:cc:to:from:subject:message-id:date:x-gm-gg :x-gm-message-state:from:to:cc:subject:date:message-id:reply-to; bh=XhcTFCNTAtk/r07sXV3gHl5uxi5sd1pACmhfjgwkyFY=; b=ROBSCs+t3ZTAF0snGp9tNrF9rqOdwjQ+1ZIdGm0deWlY3o+/oHXGC2PEOXJqtldPmk ENmKv/EPsY8InnOXHi+RVyS+1DHDaio+6GWQKw4CJDwIWPAlJPH1s1C35oN78U01KJwj dPf4F8XemOZIACcLwFefSgjLTeNbNuGv6phkUFRBsNMapdTnzc4NC/k8IVC8ymXDN3py aNBWa1920t/Phe15x1aMHTlYr/OsLbrHdCGf+Xud86jed5kXfBnN3aj3RbHP+iCGsNti MlPRX8ZIpC1+KT+t4RVmZt1h2SMevOxse/rHuuOJ+0eHvrt3cDRhve1tAPGzUn4mHdx9 NKpA== X-Gm-Message-State: AOJu0YxFoEchLiaedva6dMP48tfaAVwuuMjlT3xdK77lZ6zy+re0nQwj +CekD2D6kteM5N/7QZ21qgYPk80lhMDa3C8BL/+Y4Tz2xG2U3vTJ+GJQ/0JsC4ZLlpDGBAxzdy/ tklp/JPj7ZPgUnFWqIDdgbGaHIZ9g2ZcmaQ42D3c5QVNeBaJR0uil6yuah3R3 X-Gm-Gg: ASbGncu3sAzKYQeBW3wQMrxjZv3gL7XWnwyw8V6G5PWDUcqN/KF0UW71TvfTPpeQIFu l+PnHHU+APMfYNlLyOA+qQbsk3XJgq29GYxQFU9Y81QuE8vacvjV62TkL4KnhGdNbjGV4ooLACW j3D88IZERNDJiEEqyZzdvcaST6B8FklcWHe1Q2yXRsCDIoUNinYbDtgsoNJDXPNJF4ic3Qcl/uJ VwQXmPWdzNMyB8X0QF7iWPqj+QyEqaYjf5LBFHcOVPEpSlz5I1++Z8e1nRhL4SS1j+Q7XoqC1Oa XWkwduiM+O58EfZV5JnJdGvhYxq56gUvH+0IVC9d8iKOGsvOx3acIG9nR8wpCwk60df7GHXdt2j o67dIJsj5SHDM4MRV4OU= X-Google-Smtp-Source: AGHT+IERK82Vxkit+hF+qNh7ljsdAh/tQSYStqfExsKjuhps/11cZ6fiWV83uv4VDs5CSvK1GTu9gO0p2aHs X-Received: by 2002:a05:6e02:220f:b0:433:3505:51c2 with SMTP id e9e14a558f8ab-435a900fa9bmr6359705ab.9.1763577519812; Wed, 19 Nov 2025 10:38:39 -0800 (PST) Received: from postal.iol.unh.edu (postal.iol.unh.edu. [2606:4100:3880:1234::84]) by smtp-relay.gmail.com with ESMTPS id 8926c6da1cb9f-5b954a41b39sm2270173.16.2025.11.19.10.38.39 (version=TLS1_2 cipher=ECDHE-ECDSA-AES128-GCM-SHA256 bits=128/128); Wed, 19 Nov 2025 10:38:39 -0800 (PST) X-Relaying-Domain: iol.unh.edu Date: Wed, 19 Nov 2025 10:38:39 -0800 (PST) Message-ID: <691e0eaf.050a0220.1a3f4a.01d3SMTPIN_ADDED_MISSING@mx.google.com> Received: from [172.21.0.3] (unknown [172.18.0.240]) by postal.iol.unh.edu (Postfix) with ESMTP id 50D7A604D420; Wed, 19 Nov 2025 13:38:39 -0500 (EST) Subject: |SUCCESS| pw158892 [PATCH] net/txgbe: fix the missing old mailbox in From: dpdklab@iol.unh.edu To: Test Report Cc: dpdk-test-reports@iol.unh.edu, Stephen Hemminger In-Reply-To: References: Content-Type: text/plain X-BeenThere: test-report@dpdk.org X-Mailman-Version: 2.1.29 Precedence: list List-Id: automatic DPDK test reports List-Unsubscribe: , List-Archive: List-Post: List-Help: List-Subscribe: , Errors-To: test-report-bounces@dpdk.org Test-Label: iol-unit-arm64-testing Test-Status: SUCCESS http://dpdk.org/patch/158892 _Testing PASS_ Submitter: Jiawen Wu Date: Wednesday, November 19 2025 08:56:24 DPDK git baseline: Repo:dpdk-next-net Branch: master CommitID:37c1fb70b39c3a2dea6f7a80187e57b03460a365 158892 --> testing pass Upstream job id: Generic-Unit-Test-DPDK#394393 Test environment and result as below: +------------------------------+----------------+--------------+------------------------------+---------------------------+ | Environment | dpdk_unit_test | lpm_autotest | cryptodev_sw_snow3g_autotest | cryptodev_sw_zuc_autotest | +==============================+================+==============+==============================+===========================+ | Ubuntu 24.04 | PASS | SKIPPED | SKIPPED | SKIPPED | +------------------------------+----------------+--------------+------------------------------+---------------------------+ | Fedora Linux 40 | PASS | SKIPPED | SKIPPED | SKIPPED | +------------------------------+----------------+--------------+------------------------------+---------------------------+ | Fedora Linux 41 | PASS | SKIPPED | SKIPPED | SKIPPED | +------------------------------+----------------+--------------+------------------------------+---------------------------+ | CentOS Stream 10 | PASS | SKIPPED | SKIPPED | SKIPPED | +------------------------------+----------------+--------------+------------------------------+---------------------------+ | Debian GNU/Linux 12 | PASS | SKIPPED | SKIPPED | SKIPPED | +------------------------------+----------------+--------------+------------------------------+---------------------------+ | Ubuntu 22.04 | PASS | SKIPPED | SKIPPED | SKIPPED | +------------------------------+----------------+--------------+------------------------------+---------------------------+ | Fedora Linux 42 | PASS | SKIPPED | SKIPPED | SKIPPED | +------------------------------+----------------+--------------+------------------------------+---------------------------+ | Red Hat Enterprise Linux 9.5 | PASS | SKIPPED | SKIPPED | SKIPPED | +------------------------------+----------------+--------------+------------------------------+---------------------------+ | CentOS Stream 9 | PASS | SKIPPED | SKIPPED | SKIPPED | +------------------------------+----------------+--------------+------------------------------+---------------------------+ | Ubuntu 20.04 | PASS | PASS | SKIPPED | SKIPPED | +------------------------------+----------------+--------------+------------------------------+---------------------------+ | Debian 12 (arm) | SKIPPED | SKIPPED | PASS | PASS | +------------------------------+----------------+--------------+------------------------------+---------------------------+ Ubuntu 24.04 Kernel: 5.4 Compiler: gcc gcc (Ubuntu 13.3.0-6ubuntu2~24.04) 13.3.0 Fedora Linux 40 Kernel: 5.4 Compiler: gcc gcc (GCC) 14.2.1 20240912 (Red Hat 14.2.1-3) Fedora Linux 41 Kernel: 5.4 Compiler: gcc gcc (GCC) 14.3.1 20250523 (Red Hat 14.3.1-1) CentOS Stream 10 Kernel: 5.4 Compiler: gcc gcc (GCC) 14.2.1 20250110 (Red Hat 14.2.1-8) Debian GNU/Linux 12 Kernel: 5.4 Compiler: gcc gcc (Debian 12.2.0-14+deb12u1) 12.2.0 Ubuntu 22.04 Kernel: 5.4 Compiler: gcc gcc (Ubuntu 11.4.0-1ubuntu1~22.04) 11.4.0 Fedora Linux 42 Kernel: 5.4 Compiler: clang gcc (GCC) 15.2.1 20250808 (Red Hat 15.2.1-1) Red Hat Enterprise Linux 9.5 Kernel: 5.4 Compiler: gcc gcc (GCC) 11.5.0 20240719 (Red Hat 11.5.0-2) CentOS Stream 9 Kernel: 5.4 Compiler: gcc gcc (GCC) 11.5.0 20240719 (Red Hat 11.5.0-11) Ubuntu 20.04 Kernel: 5.4 Compiler: gcc gcc (Ubuntu 9.4.0-1ubuntu1~20.04.2) 9.4.0 Debian 12 (arm) Kernel: Depends on container host Compiler: gcc (Debian 12.2.0-14) 12.2.0 To view detailed results, visit: https://lab.dpdk.org/results/dashboard/patchsets/34637/ UNH-IOL DPDK Community Lab To manage your email subscriptions, visit: https://lab.dpdk.org/results/dashboard/preferences/subscriptions/