From mboxrd@z Thu Jan 1 00:00:00 1970 Return-Path: Received: from mails.dpdk.org (mails.dpdk.org [217.70.189.124]) by inbox.dpdk.org (Postfix) with ESMTP id 216EE48B4F for ; Wed, 19 Nov 2025 20:29:54 +0100 (CET) Received: from mails.dpdk.org (localhost [127.0.0.1]) by mails.dpdk.org (Postfix) with ESMTP id D876C40262; Wed, 19 Nov 2025 20:29:53 +0100 (CET) Received: from mail-vk1-f227.google.com (mail-vk1-f227.google.com [209.85.221.227]) by mails.dpdk.org (Postfix) with ESMTP id 56B2F40262 for ; Wed, 19 Nov 2025 20:29:52 +0100 (CET) Received: by mail-vk1-f227.google.com with SMTP id 71dfb90a1353d-559f4801609so21782e0c.0 for ; Wed, 19 Nov 2025 11:29:52 -0800 (PST) DKIM-Signature: v=1; a=rsa-sha256; c=relaxed/relaxed; d=iol.unh.edu; s=unh-iol; t=1763580591; x=1764185391; darn=dpdk.org; h=references:in-reply-to:cc:to:from:subject:message-id:date:from:to :cc:subject:date:message-id:reply-to; bh=F1oI1OHxUPer+YFtIO4Ywb5qqHBtWCmd8QvLGV7rg3Q=; b=N3W6cTcRf16NI01coz5M9mIbzjZ3CWQkIL0/LnyogAqyfPxEoiFoQWlfMRoh182l6b cs66eomMbZGGkXfKyPtP5JM4y2MeGYaTPPhcpVK3qezybGE2r/kZZpZv7tow2emGyl9M fj2DmwQUbRFRdIxQrGn5OGZz+tTtC0l0dJpYI= X-Google-DKIM-Signature: v=1; a=rsa-sha256; c=relaxed/relaxed; d=1e100.net; s=20230601; t=1763580591; x=1764185391; h=references:in-reply-to:cc:to:from:subject:message-id:date:x-gm-gg :x-gm-message-state:from:to:cc:subject:date:message-id:reply-to; bh=F1oI1OHxUPer+YFtIO4Ywb5qqHBtWCmd8QvLGV7rg3Q=; b=YrZyt8+GjbNIjvVgzlRVennKPGbZk6ZBxis3B/b1mz7GsexpcRUAzq68MEq3SDCO2F ahAQ/e0j9OMvtRCTjoIeDt6+9XYaJ5yR512JOZIGkQwBHULYDMjk5r67hSv17Y5IDB4L duQABBfTShSdqjSlkptl2YKD8Mq1B8GiNalOQie9saWIF6llfE+JiscKDNujrFqXUlQo A11qE42vp7z5a5fpknZ0pux9ay1sAotlbvlm3KXo7B8BTVlkRLpoU+sJ2GCIbtFy0wFI 0m4xQs/JpgpnM4MCtXHqunhF21YUiNAOeFlGVraWGtDx0f0cs+r1DQt1iCAPYZpoYCtE nS/Q== X-Gm-Message-State: AOJu0YxFNgCCpAuzz9DqVJLq3t2zEWVLjQlzms/mt6WZ8DsyCow9QJHg BfvN2uXjo9/txSxDZa2iImfUhh4FlOohX2GcXZUcP6eyZmLaGejY4C4LOer8HD3mcKfzwdaoa1V eADjXUg9nqV6/ZNcKzmSUh8Btbii3UwkIIL0KjGBBisR/ X-Gm-Gg: ASbGncvShQvEJuFDjtSvJ0V3hkIg7HecODATb4vdKjy9IuM3hvY6dVdwNFobV0Mpola ZLn2urjV0mPmHP2KfEmsRJfAVH7VU3gdUlGddPIIeQXJA8QpLwqFYSS6LCjcRaAriwND1430L0P 26TgmGFJRyrAIo44859DoZTNjZfe2xX/J392zHORH75DULr5sz6gFpc7BJU1DuqmQ0uEtieYXky gPmdnvgzBPYh7Z+TdAl87eVdQ/c/Fgo5bl1OSiw2SuWKDHUZ7sB8MemaqsACnbFDszVb1QTrMzW HDt5hCcwA1uhWCQ4p8nTIGL66dINlhxSQEGzRcZR76FgkkdivOA1S807qHtOBZAWeGr8m8Sj/El QdF4xT6XdqwDgOYWNncn5F9szNuBPtkJmgU7COkfUAQ== X-Google-Smtp-Source: AGHT+IFdJ5Hmzg3MYJ2HWdaJXetCVvy7r5QhJWEQ8wXqsSOnVYZBm53x4WwQ/7QKgU1PPPuzipnvEXKsAykB X-Received: by 2002:a05:6122:8285:b0:559:85d5:bfbe with SMTP id 71dfb90a1353d-55b7f205a9emr258220e0c.15.1763580591585; Wed, 19 Nov 2025 11:29:51 -0800 (PST) Received: from postal.iol.unh.edu (postal.iol.unh.edu. [132.177.123.84]) by smtp-relay.gmail.com with ESMTPS id 71dfb90a1353d-55b7f8147cesm29969e0c.5.2025.11.19.11.29.51 (version=TLS1_2 cipher=ECDHE-ECDSA-AES128-GCM-SHA256 bits=128/128); Wed, 19 Nov 2025 11:29:51 -0800 (PST) X-Relaying-Domain: iol.unh.edu Date: Wed, 19 Nov 2025 11:29:51 -0800 (PST) Message-ID: <691e1aaf.050a0220.3752a1.196fSMTPIN_ADDED_MISSING@mx.google.com> Received: from [172.21.0.2] (unknown [172.18.0.240]) by postal.iol.unh.edu (Postfix) with ESMTP id 3FCE16051830; Wed, 19 Nov 2025 14:29:51 -0500 (EST) Subject: |SUCCESS| pw158932 [PATCH] mbuf: fix packet copy From: dpdklab@iol.unh.edu To: Test Report Cc: dpdk-test-reports@iol.unh.edu In-Reply-To: <20251119120403.907511-1-mb@smartsharesystems.com> References: <20251119120403.907511-1-mb@smartsharesystems.com> Content-Type: text/plain X-BeenThere: test-report@dpdk.org X-Mailman-Version: 2.1.29 Precedence: list List-Id: automatic DPDK test reports List-Unsubscribe: , List-Archive: List-Post: List-Help: List-Subscribe: , Errors-To: test-report-bounces@dpdk.org Test-Label: iol-compile-amd64-testing Test-Status: SUCCESS http://dpdk.org/patch/158932 _Testing PASS_ Submitter: Morten Brorup Date: Wednesday, November 19 2025 12:04:03 DPDK git baseline: Repo:dpdk Branch: master CommitID:ef98b88455bf4a7c8b7aa3106a761c9e9270d6a3 158932 --> testing pass Upstream job id: Generic-DPDK-Compile-Meson#446145 Test environment and result as below: +-------------------------------+--------------------+-------------------+-------------------------+----------------------+------------------+ | Environment | dpdk_meson_compile | dpdk_msvc_compile | dpdk_llvm_clang_compile | dpdk_mingw64_compile | dpdk_compile_ovs | +===============================+====================+===================+=========================+======================+==================+ | Ubuntu 20.04 | PASS | SKIPPED | SKIPPED | SKIPPED | SKIPPED | +-------------------------------+--------------------+-------------------+-------------------------+----------------------+------------------+ | FreeBSD 14.2 | PASS | SKIPPED | SKIPPED | SKIPPED | SKIPPED | +-------------------------------+--------------------+-------------------+-------------------------+----------------------+------------------+ | CentOS Stream 9 | PASS | SKIPPED | SKIPPED | SKIPPED | SKIPPED | +-------------------------------+--------------------+-------------------+-------------------------+----------------------+------------------+ | CentOS Stream 10 | PASS | SKIPPED | SKIPPED | SKIPPED | SKIPPED | +-------------------------------+--------------------+-------------------+-------------------------+----------------------+------------------+ | Debian GNU/Linux 12 | PASS | SKIPPED | SKIPPED | SKIPPED | SKIPPED | +-------------------------------+--------------------+-------------------+-------------------------+----------------------+------------------+ | Fedora Linux 42 | PASS | SKIPPED | SKIPPED | SKIPPED | PASS | +-------------------------------+--------------------+-------------------+-------------------------+----------------------+------------------+ | openSUSE Leap 15.6 | PASS | SKIPPED | SKIPPED | SKIPPED | SKIPPED | +-------------------------------+--------------------+-------------------+-------------------------+----------------------+------------------+ | Red Hat Enterprise Linux 8.10 | PASS | SKIPPED | SKIPPED | SKIPPED | SKIPPED | +-------------------------------+--------------------+-------------------+-------------------------+----------------------+------------------+ | Red Hat Enterprise Linux 9.5 | PASS | SKIPPED | SKIPPED | SKIPPED | SKIPPED | +-------------------------------+--------------------+-------------------+-------------------------+----------------------+------------------+ | Ubuntu 22.04 | PASS | SKIPPED | SKIPPED | SKIPPED | SKIPPED | +-------------------------------+--------------------+-------------------+-------------------------+----------------------+------------------+ | Ubuntu 24.04 | PASS | SKIPPED | SKIPPED | SKIPPED | PASS | +-------------------------------+--------------------+-------------------+-------------------------+----------------------+------------------+ | Alpine Linux 3.22.0 | PASS | SKIPPED | SKIPPED | SKIPPED | SKIPPED | +-------------------------------+--------------------+-------------------+-------------------------+----------------------+------------------+ | Windows Server 2022 | SKIPPED | PASS | PASS | PASS | SKIPPED | +-------------------------------+--------------------+-------------------+-------------------------+----------------------+------------------+ Ubuntu 20.04 Kernel: 4.19 Compiler: gcc gcc (Ubuntu 9.4.0-1ubuntu1~20.04.2) 9.4.0 FreeBSD 14.2 Kernel: 14.2-RELEASE Compiler: clang 18.1.6 CentOS Stream 9 Kernel: 5.15 Compiler: gcc gcc (GCC) 11.5.0 20240719 (Red Hat 11.5.0-11) CentOS Stream 10 Kernel: 5.15 Compiler: gcc gcc (GCC) 14.2.1 20250110 (Red Hat 14.2.1-8) Debian GNU/Linux 12 Kernel: 5.15 Compiler: gcc gcc (Debian 12.2.0-14+deb12u1) 12.2.0 Fedora Linux 42 Kernel: 5.15 Compiler: clang gcc (GCC) 15.2.1 20250808 (Red Hat 15.2.1-1) openSUSE Leap 15.6 Kernel: 5.15 Compiler: gcc gcc (SUSE Linux) 7.5.0 Red Hat Enterprise Linux 8.10 Kernel: 5.15 Compiler: gcc gcc (GCC) 8.5.0 20210514 (Red Hat 8.5.0-22) Red Hat Enterprise Linux 9.5 Kernel: 5.15 Compiler: gcc gcc (GCC) 11.5.0 20240719 (Red Hat 11.5.0-2) Ubuntu 22.04 Kernel: 5.15 Compiler: gcc gcc (Ubuntu 11.4.0-1ubuntu1~22.04) 11.4.0 Ubuntu 24.04 Kernel: 5.15 Compiler: gcc gcc (Ubuntu 13.3.0-6ubuntu2~24.04) 13.3.0 Alpine Linux 3.22.0 Kernel: 5.15 Compiler: gcc gcc (Alpine 14.2.0) 14.2.0 Windows Server 2022 Kernel: 10.0.20348.2031 Compiler: clang 15.0.7, gcc 14.1.0 (MinGW), and MSVC VS 19.39.33521 To view detailed results, visit: https://lab.dpdk.org/results/dashboard/patchsets/34642/ UNH-IOL DPDK Community Lab To manage your email subscriptions, visit: https://lab.dpdk.org/results/dashboard/preferences/subscriptions/