From mboxrd@z Thu Jan 1 00:00:00 1970 Return-Path: Received: from mails.dpdk.org (mails.dpdk.org [217.70.189.124]) by inbox.dpdk.org (Postfix) with ESMTP id 4E04848B4F for ; Wed, 19 Nov 2025 21:41:02 +0100 (CET) Received: from mails.dpdk.org (localhost [127.0.0.1]) by mails.dpdk.org (Postfix) with ESMTP id 2FA7F40262; Wed, 19 Nov 2025 21:41:02 +0100 (CET) Received: from mail-pg1-f227.google.com (mail-pg1-f227.google.com [209.85.215.227]) by mails.dpdk.org (Postfix) with ESMTP id 9BC8940262 for ; Wed, 19 Nov 2025 21:41:00 +0100 (CET) Received: by mail-pg1-f227.google.com with SMTP id 41be03b00d2f7-b8c0c0cdd61so117543a12.2 for ; Wed, 19 Nov 2025 12:41:00 -0800 (PST) DKIM-Signature: v=1; a=rsa-sha256; c=relaxed/relaxed; d=iol.unh.edu; s=unh-iol; t=1763584859; x=1764189659; darn=dpdk.org; h=references:in-reply-to:cc:to:from:subject:message-id:date:from:to :cc:subject:date:message-id:reply-to; bh=3FgaK+OyQtb2A0Woa3wxZsfk2ATQ46zCMkBbWVTb6ps=; b=RMl1Roziq+X0KemDAeePj0CgsAN0qCNUey2xcqpCDiBsNIjfVVJcrZt88hmHQYDQd+ y/X6FfBjUK0zpx/hOgjPXtoEsXPtzJKcxShR+Vo7qSt7z907DSwtph10pbxOY9rAUvxh qxo0JL91CRElEx3IDii8Bt0PJALvyD1Q4eeo8= X-Google-DKIM-Signature: v=1; a=rsa-sha256; c=relaxed/relaxed; d=1e100.net; s=20230601; t=1763584859; x=1764189659; h=references:in-reply-to:cc:to:from:subject:message-id:date:x-gm-gg :x-gm-message-state:from:to:cc:subject:date:message-id:reply-to; bh=3FgaK+OyQtb2A0Woa3wxZsfk2ATQ46zCMkBbWVTb6ps=; b=D8ueEGm6pZhxbaR2dvzEn0mndQh7g+dFP4az+4e0Cndn24thUqLF/BZwpffmhxQGz1 ndBfpHx0fD5kf8xnhtU/D4rs7VWZu/GmROD6uuTs1asNT2OFxNt6e6IxhZ3z3SHx+w3L 10xp+yspv/+zEuzMgUBd61S0eQhT4of+C0geFnGv63qxsOG4GKMI0PCbrOJWBp7mc+/N kqSkHGalpadhHAwtG+h+v8RsZ/uZ1hJi7r47lwEzG5kT8T6/EJxm4+54SP/pfInqfywv Vmoy68ivUUZn6Q8cvpLo4R9SRxUcJ3rkcaxJDeqGlTGI+ByLwnnfqWVNSo91OlMuiwtx 20Fw== X-Gm-Message-State: AOJu0YwB3mTA2XZn1rPLwFwxzHsiI0KxJ71K30UT5unNLCYowZC5r3dF DV5xqHK2fJrnD3V7KZfFE/iCqgteaR9L3hmQh3QjJfED2DJw0CYNIKfuaesXdHv935RaM2DXU9o m99JOPT3/EVwEJP7majdlxEQvlSPtRNCC1/pOM7yWeEYV X-Gm-Gg: ASbGncsnWLZwbALrDnMSKIA1eVAj+uKmAFx6A0k/pqjWoi1xuNOg5mhrVhWVmaqWuO7 xoPLPsfkxTr1aUjWvsVTBquWAibaNTYNkZAmDQUICf50cBheL2Pxm5ACv/8cfeoAO2yulmg89sj WzlPUSvRFn5pR8jEeIfOoLw6rL5b/VTWeqXic66/2lNm7c8+XgZSHMDy6FCXgDuq+IWxRXTaFob F4IK1X9n7ocY05JC7qw9owB+AzWpo7yzyK/bVoNX6+w3ciPl1c4KznykkvUfK7R1YOX6bAQuxyH ryp2H7MuRdrS/8fj228iUQgJ6RN6UdvmhWQ5XEb/2J4anNbr8/xlAIeJv5pMVDXNZ83yOZYLY8u maXWRRb/DKUugXrMjtav1RnZxgE+BOay6Y/vG85lx2w== X-Google-Smtp-Source: AGHT+IGfUGXszMjghbuyp2cnuMLlcFoMaRLQfOSqgBnBxe/x3QiiRqm1Fj47tctNrMATX9fZijPtkMgQX7MJ X-Received: by 2002:a05:693c:40d7:b0:2a4:3592:cf69 with SMTP id 5a478bee46e88-2a6fd06e356mr209643eec.13.1763584859338; Wed, 19 Nov 2025 12:40:59 -0800 (PST) Received: from postal.iol.unh.edu (postal.iol.unh.edu. [132.177.123.84]) by smtp-relay.gmail.com with ESMTPS id 5a478bee46e88-2a6fc383c6bsm56312eec.1.2025.11.19.12.40.59 (version=TLS1_2 cipher=ECDHE-ECDSA-AES128-GCM-SHA256 bits=128/128); Wed, 19 Nov 2025 12:40:59 -0800 (PST) X-Relaying-Domain: iol.unh.edu Date: Wed, 19 Nov 2025 12:40:59 -0800 (PST) Message-ID: <691e2b5b.050a0220.24a3ec.2dedSMTPIN_ADDED_MISSING@mx.google.com> Received: from [172.21.0.3] (unknown [172.18.0.240]) by postal.iol.unh.edu (Postfix) with ESMTP id 59163604D420; Wed, 19 Nov 2025 15:40:58 -0500 (EST) Subject: |SUCCESS| pw158892 [PATCH] net/txgbe: fix the missing old mailbox in From: dpdklab@iol.unh.edu To: Test Report Cc: dpdk-test-reports@iol.unh.edu, Stephen Hemminger In-Reply-To: References: Content-Type: text/plain X-BeenThere: test-report@dpdk.org X-Mailman-Version: 2.1.29 Precedence: list List-Id: automatic DPDK test reports List-Unsubscribe: , List-Archive: List-Post: List-Help: List-Subscribe: , Errors-To: test-report-bounces@dpdk.org Test-Label: iol-compile-arm64-testing Test-Status: SUCCESS http://dpdk.org/patch/158892 _Testing PASS_ Submitter: Jiawen Wu Date: Wednesday, November 19 2025 08:56:24 DPDK git baseline: Repo:dpdk-next-net Branch: master CommitID:37c1fb70b39c3a2dea6f7a80187e57b03460a365 158892 --> testing pass Upstream job id: Generic-DPDK-Compile-Meson#446016 Test environment and result as below: +------------------------------+--------------------+ | Environment | dpdk_meson_compile | +==============================+====================+ | Red Hat Enterprise Linux 9.5 | PASS | +------------------------------+--------------------+ | Ubuntu 20.04 | PASS | +------------------------------+--------------------+ | Fedora Linux 42 | PASS | +------------------------------+--------------------+ | Ubuntu 22.04 | PASS | +------------------------------+--------------------+ | Debian GNU/Linux 12 | PASS | +------------------------------+--------------------+ | Ubuntu 24.04 | PASS | +------------------------------+--------------------+ | CentOS Stream 10 | PASS | +------------------------------+--------------------+ Red Hat Enterprise Linux 9.5 Kernel: 5.4 Compiler: gcc gcc (GCC) 11.5.0 20240719 (Red Hat 11.5.0-2) Ubuntu 20.04 Kernel: 5.4 Compiler: gcc gcc (Ubuntu 9.4.0-1ubuntu1~20.04.2) 9.4.0 Fedora Linux 42 Kernel: 5.4 Compiler: gcc gcc (GCC) 15.2.1 20250808 (Red Hat 15.2.1-1) Ubuntu 22.04 Kernel: 5.4 Compiler: gcc gcc (Ubuntu 11.4.0-1ubuntu1~22.04) 11.4.0 Debian GNU/Linux 12 Kernel: 5.4 Compiler: gcc gcc (Debian 12.2.0-14+deb12u1) 12.2.0 Ubuntu 24.04 Kernel: 5.4 Compiler: gcc gcc (Ubuntu 13.3.0-6ubuntu2~24.04) 13.3.0 CentOS Stream 10 Kernel: 5.4 Compiler: gcc gcc (GCC) 14.2.1 20250110 (Red Hat 14.2.1-8) To view detailed results, visit: https://lab.dpdk.org/results/dashboard/patchsets/34637/ UNH-IOL DPDK Community Lab To manage your email subscriptions, visit: https://lab.dpdk.org/results/dashboard/preferences/subscriptions/