From mboxrd@z Thu Jan 1 00:00:00 1970 Return-Path: Received: from mails.dpdk.org (mails.dpdk.org [217.70.189.124]) by inbox.dpdk.org (Postfix) with ESMTP id 86F2548B50 for ; Wed, 19 Nov 2025 23:10:59 +0100 (CET) Received: from mails.dpdk.org (localhost [127.0.0.1]) by mails.dpdk.org (Postfix) with ESMTP id 62C6940262; Wed, 19 Nov 2025 23:10:59 +0100 (CET) Received: from mail-pl1-f225.google.com (mail-pl1-f225.google.com [209.85.214.225]) by mails.dpdk.org (Postfix) with ESMTP id D953340262 for ; Wed, 19 Nov 2025 23:10:57 +0100 (CET) Received: by mail-pl1-f225.google.com with SMTP id d9443c01a7336-29568d93e87so1832335ad.2 for ; Wed, 19 Nov 2025 14:10:57 -0800 (PST) DKIM-Signature: v=1; a=rsa-sha256; c=relaxed/relaxed; d=iol.unh.edu; s=unh-iol; t=1763590257; x=1764195057; darn=dpdk.org; h=references:in-reply-to:cc:to:from:subject:message-id:date:from:to :cc:subject:date:message-id:reply-to; bh=ddukAIFXO0LXf9T5+C6102E/TLUxVn78/96Q+P/alIQ=; b=jsHAWnDGaNfWnBmvck03YSYQimFXxBJAckZR+keFUpXNkRjuvRald1zoJw17ZtxO7c kqmf7s4Jitj8LCanyKszElR3OOcvgYe3udFxz43bxJR5PW/BIhHqGx1qaFhEJNj3W9F2 A6rxG0q5RdtqSNSVKZ0Li5rBvmnQwE+F4Sw3I= X-Google-DKIM-Signature: v=1; a=rsa-sha256; c=relaxed/relaxed; d=1e100.net; s=20230601; t=1763590257; x=1764195057; h=references:in-reply-to:cc:to:from:subject:message-id:date:x-gm-gg :x-gm-message-state:from:to:cc:subject:date:message-id:reply-to; bh=ddukAIFXO0LXf9T5+C6102E/TLUxVn78/96Q+P/alIQ=; b=LQxQEEykk2uCLx6tKJrtkfyxizX4OfagvwswfLzQA3YC2M89Gc09JpKLeo5g0k+Qkl 0CvRAtv7HGVy4ZZJfijP6GUcBGIwRS1CeUBwbuJubJq4w0QYqsQiHnNmeXpW1hJCOwHx o5G0Vq4rGk1ygz84KSWT0o1+iqW0xKQYvmZE1IZPkhXXB0bRUlDN/gSc2ZwBuHWalunQ F/1sVMuPQjHTt/EBlP7kq96vuPykQGekraYlwLJ34LZ+WWjBH2NON5Z2Dj10aDAehEkX om2U61YHEhF+hHkEnB26WyUJz5ynMQQwi9ZRN6wZhDhDs4VEl5rPGJlQeWY6ySNyocCS 2JXQ== X-Gm-Message-State: AOJu0YxnomXLHdT41zljqNsTZkmDHPGkBpz1OwvPo3ZALdbzUDetqrNt DQJvsXhLo2mwfjXKZRauf7IwSbPqFHtzDCNTKLhIXzTJHPKo26S0b5z9mRqvXyX6BJp+qJS61/E RwOdznqtRuss0g33xBck0SvfCaUnRA5R98eS018YifJ3I X-Gm-Gg: ASbGncslX1SRxlQHd1GoAKQO2KVajOmQlq9NzL7nqljVTzFLNW4Lz/3HnRkYWG9Q3M7 3na8c4/8K9S42bokJKNhcvUgOtzUkhQU7XCVcS54LpkVl3QWil9RFnm3UWsNQmMVMRiLCwrqpV6 EFCqUXu671tx9270KgPthIAl3LxsfaUWCa0BOIjpSuiqoc4yRRGA4ijFJ+5+ed5qydLDHkK1If5 p07+UtsoYIdiiyB9NJQHP2lixp2gWELRO3ZKf+P5ORJmBC84tbDRK9RTkuYELKwqqlXzApJBXF0 nmSflSAT8ecs7zdVrGAt+ZOeIVzmi4Dz4m3bTaAtx1ZWonjGT007uTlXPM4oaGSCkOxnDWeeTXh 4H+8jyXXZ+olPdOMVh6TmDc3pwjTFV6vO2DZDIxsQCw== X-Google-Smtp-Source: AGHT+IE8uXj/pFdeVsGsDiMS7r89sj4l2vD1rnjPi0a4eArVGvjfjWbJwe+oALTB5JgzjhAowFDayzKcQe/U X-Received: by 2002:a17:902:ebd2:b0:295:64f8:d9cd with SMTP id d9443c01a7336-29b5b06f4e1mr9880855ad.15.1763590256706; Wed, 19 Nov 2025 14:10:56 -0800 (PST) Received: from postal.iol.unh.edu (postal.iol.unh.edu. [132.177.123.84]) by smtp-relay.gmail.com with ESMTPS id d9443c01a7336-29b5b24de0bsm760605ad.61.2025.11.19.14.10.56 (version=TLS1_2 cipher=ECDHE-ECDSA-AES128-GCM-SHA256 bits=128/128); Wed, 19 Nov 2025 14:10:56 -0800 (PST) X-Relaying-Domain: iol.unh.edu Date: Wed, 19 Nov 2025 14:10:56 -0800 (PST) Message-ID: <691e4070.170a0220.32ae0b.3e93SMTPIN_ADDED_MISSING@mx.google.com> Received: from [172.21.0.3] (unknown [172.18.0.240]) by postal.iol.unh.edu (Postfix) with ESMTP id 29151604D420; Wed, 19 Nov 2025 17:10:56 -0500 (EST) Subject: |SUCCESS| pw158895 [PATCH] net/mlx5: fix IP tunnel detection for IPI From: dpdklab@iol.unh.edu To: Test Report Cc: dpdk-test-reports@iol.unh.edu In-Reply-To: <20251119103554.44203-1-junfengg@nvidia.com> References: <20251119103554.44203-1-junfengg@nvidia.com> Content-Type: text/plain X-BeenThere: test-report@dpdk.org X-Mailman-Version: 2.1.29 Precedence: list List-Id: automatic DPDK test reports List-Unsubscribe: , List-Archive: List-Post: List-Help: List-Subscribe: , Errors-To: test-report-bounces@dpdk.org Test-Label: iol-unit-arm64-testing Test-Status: SUCCESS http://dpdk.org/patch/158895 _Testing PASS_ Submitter: Junfeng Guo Date: Wednesday, November 19 2025 10:35:54 DPDK git baseline: Repo:dpdk-next-net-mlx Branch: master CommitID:9cf35632839ee84aad5a4baade86ea1dc8ba3d1b 158895 --> testing pass Upstream job id: Generic-Unit-Test-DPDK#394400 Test environment and result as below: +------------------------------+----------------+--------------+---------------------------+------------------------------+ | Environment | dpdk_unit_test | lpm_autotest | cryptodev_sw_zuc_autotest | cryptodev_sw_snow3g_autotest | +==============================+================+==============+===========================+==============================+ | CentOS Stream 10 | PASS | SKIPPED | SKIPPED | SKIPPED | +------------------------------+----------------+--------------+---------------------------+------------------------------+ | Fedora Linux 42 | PASS | SKIPPED | SKIPPED | SKIPPED | +------------------------------+----------------+--------------+---------------------------+------------------------------+ | CentOS Stream 9 | PASS | SKIPPED | SKIPPED | SKIPPED | +------------------------------+----------------+--------------+---------------------------+------------------------------+ | Fedora Linux 41 | PASS | SKIPPED | SKIPPED | SKIPPED | +------------------------------+----------------+--------------+---------------------------+------------------------------+ | Fedora Linux 40 | PASS | SKIPPED | SKIPPED | SKIPPED | +------------------------------+----------------+--------------+---------------------------+------------------------------+ | Ubuntu 22.04 | PASS | SKIPPED | SKIPPED | SKIPPED | +------------------------------+----------------+--------------+---------------------------+------------------------------+ | Red Hat Enterprise Linux 9.5 | PASS | SKIPPED | SKIPPED | SKIPPED | +------------------------------+----------------+--------------+---------------------------+------------------------------+ | Ubuntu 20.04 | PASS | PASS | SKIPPED | SKIPPED | +------------------------------+----------------+--------------+---------------------------+------------------------------+ | Debian GNU/Linux 12 | PASS | SKIPPED | SKIPPED | SKIPPED | +------------------------------+----------------+--------------+---------------------------+------------------------------+ | Ubuntu 24.04 | PASS | SKIPPED | SKIPPED | SKIPPED | +------------------------------+----------------+--------------+---------------------------+------------------------------+ | Debian 12 (arm) | SKIPPED | SKIPPED | PASS | PASS | +------------------------------+----------------+--------------+---------------------------+------------------------------+ CentOS Stream 10 Kernel: 5.4 Compiler: gcc gcc (GCC) 14.2.1 20250110 (Red Hat 14.2.1-8) Fedora Linux 42 Kernel: 5.4 Compiler: gcc gcc (GCC) 15.2.1 20250808 (Red Hat 15.2.1-1) CentOS Stream 9 Kernel: 5.4 Compiler: gcc gcc (GCC) 11.5.0 20240719 (Red Hat 11.5.0-11) Fedora Linux 41 Kernel: 5.4 Compiler: clang gcc (GCC) 14.3.1 20250523 (Red Hat 14.3.1-1) Fedora Linux 40 Kernel: 5.4 Compiler: gcc gcc (GCC) 14.2.1 20240912 (Red Hat 14.2.1-3) Ubuntu 22.04 Kernel: 5.4 Compiler: gcc gcc (Ubuntu 11.4.0-1ubuntu1~22.04) 11.4.0 Red Hat Enterprise Linux 9.5 Kernel: 5.4 Compiler: gcc gcc (GCC) 11.5.0 20240719 (Red Hat 11.5.0-2) Ubuntu 20.04 Kernel: 5.4 Compiler: gcc gcc (Ubuntu 9.4.0-1ubuntu1~20.04.2) 9.4.0 Debian GNU/Linux 12 Kernel: 5.4 Compiler: gcc gcc (Debian 12.2.0-14+deb12u1) 12.2.0 Ubuntu 24.04 Kernel: 5.4 Compiler: gcc gcc (Ubuntu 13.3.0-6ubuntu2~24.04) 13.3.0 Debian 12 (arm) Kernel: Depends on container host Compiler: gcc (Debian 12.2.0-14) 12.2.0 To view detailed results, visit: https://lab.dpdk.org/results/dashboard/patchsets/34639/ UNH-IOL DPDK Community Lab To manage your email subscriptions, visit: https://lab.dpdk.org/results/dashboard/preferences/subscriptions/