From mboxrd@z Thu Jan 1 00:00:00 1970 Return-Path: Received: from mails.dpdk.org (mails.dpdk.org [217.70.189.124]) by inbox.dpdk.org (Postfix) with ESMTP id C580D48B50 for ; Thu, 20 Nov 2025 00:20:45 +0100 (CET) Received: from mails.dpdk.org (localhost [127.0.0.1]) by mails.dpdk.org (Postfix) with ESMTP id A341140262; Thu, 20 Nov 2025 00:20:45 +0100 (CET) Received: from mail-pl1-f227.google.com (mail-pl1-f227.google.com [209.85.214.227]) by mails.dpdk.org (Postfix) with ESMTP id 7852E40262 for ; Thu, 20 Nov 2025 00:20:44 +0100 (CET) Received: by mail-pl1-f227.google.com with SMTP id d9443c01a7336-29586626fbeso3421195ad.0 for ; Wed, 19 Nov 2025 15:20:44 -0800 (PST) DKIM-Signature: v=1; a=rsa-sha256; c=relaxed/relaxed; d=iol.unh.edu; s=unh-iol; t=1763594443; x=1764199243; darn=dpdk.org; h=references:in-reply-to:cc:to:from:subject:message-id:date:from:to :cc:subject:date:message-id:reply-to; bh=C/SjkLotNHbxtTs8TXwyLEqRTtKFECxJ6NfJFosBA4U=; b=izpWybzXlEjI66lIPaWUVsJdMq2YkDVC9xpgGKk7liZ6H///IDfqrj5TS5nN+mnhQF ZSZqvEms+nrOA/y6whA8zaYOsr36xcmzdAzSyPZDVRF81G0uJBAwdlrcuTTQm8jzWxpV 9aROsPWmNXDkDMqtCpaW3a4RwHl2aCRZp55Ko= X-Google-DKIM-Signature: v=1; a=rsa-sha256; c=relaxed/relaxed; d=1e100.net; s=20230601; t=1763594443; x=1764199243; h=references:in-reply-to:cc:to:from:subject:message-id:date:x-gm-gg :x-gm-message-state:from:to:cc:subject:date:message-id:reply-to; bh=C/SjkLotNHbxtTs8TXwyLEqRTtKFECxJ6NfJFosBA4U=; b=E6UIiBLcfs2IKD7i3K/+qnPwYBUYvM+nDHCFmrjEpD1f6xvf/ymdVSKIFH7UaVCnul nbA7HA7SmG5eSdTABtV9IQSnXRG/b7xAwK3KO9m6A7B1gGfnEPTXFy2KayKEhR/aSXzL /OZ6f6e78OlGnLoWZpMZ77ZjSyCDluY34+ge1zfA9QRYMNXO+9l8TAtLSCC3WKj03dLk sIcCd0MfcFyJzvJq4D4kPjSJekzYszJzcGI99q1vuP/Um2np/oS93EZVds7+1shoMt6C BKXWFLIaQWE1r5479CXzj6OyR8aQQ7aDcZqDwZ5kY46besMfD74VIREAn87WDNXvfasT kFng== X-Gm-Message-State: AOJu0YyjYMAuRQxquKwEFTU8EQmJIASsGE6TDv2+xaBHMsaJU8aWwf9T Tf2q6qeZTWMICJsR3Ogxpd/2UtoAm5uKE4cVZ9hy1nkYZt42TSiN7TS9MR+C7CXrz/qBF4dfHmR Ms+NsX98Mq6ibqRiO+Qi+t4qbfNoGcgtWaJnswC3J9vpM X-Gm-Gg: ASbGncudmfY5eNKENMEIDUl6CJCRm5n08GeJNkAbJbfTNrSDYCWItM7L/taesKJxGDa +KpNCEJVPqEMGWi8JguUwzzGIQg0sQU5o/xlqZHydRAJZoEIMR9e+HoXigM1LxuJvKOPA7wFd3X JwBDQZfmdfxkt5GrlZGWTHyyjYKDer7a3egMMDWkaR6DIRF6HEUVkr6rD5rFgJ4lHdaEncSit35 i28ANTjAa85WYxR+xNG6ltYWUg2IkVrGkeiJUKbv65wfosXoqaFIfKXjcl/VXXsiSB+QQCwgwZm WQe0sjxcc+C+rmm37oeUlL85rsjcpQv9iUcCEwgT5Mpk7igMg5Q8v4SrpdOpz1EUur8L5NrHGKU 6MIZk/n0UsxcRqtMParxRICl6BtNlwzxQ2EMHTmPkkg== X-Google-Smtp-Source: AGHT+IGPYOcgADzIRdMtuseyUHvq5AYo8L/r6HmdqcWGq0r7jRQJaREGe+yp9EECeS15rzMoeJXcx6Mr/QpZ X-Received: by 2002:a17:902:d549:b0:269:ed31:6c50 with SMTP id d9443c01a7336-29b5ccdc72dmr8220015ad.10.1763594443517; Wed, 19 Nov 2025 15:20:43 -0800 (PST) Received: from postal.iol.unh.edu (postal.iol.unh.edu. [132.177.123.84]) by smtp-relay.gmail.com with ESMTPS id d9443c01a7336-29b5b1f4e16sm867195ad.37.2025.11.19.15.20.43 (version=TLS1_2 cipher=ECDHE-ECDSA-AES128-GCM-SHA256 bits=128/128); Wed, 19 Nov 2025 15:20:43 -0800 (PST) X-Relaying-Domain: iol.unh.edu Date: Wed, 19 Nov 2025 15:20:43 -0800 (PST) Message-ID: <691e50cb.170a0220.1e09c2.4a45SMTPIN_ADDED_MISSING@mx.google.com> Received: from [172.21.0.3] (unknown [172.18.0.240]) by postal.iol.unh.edu (Postfix) with ESMTP id 7799D6051830; Wed, 19 Nov 2025 18:20:42 -0500 (EST) Subject: |SUCCESS| pw158931 [PATCH] [v2] crypto/openssl: support AES-XTS oper From: dpdklab@iol.unh.edu To: Test Report Cc: dpdk-test-reports@iol.unh.edu, Akhil Goyal In-Reply-To: <20251119120231.1399-1-felix.zhang@jaguarmicro.com> References: <20251119120231.1399-1-felix.zhang@jaguarmicro.com> Content-Type: text/plain X-BeenThere: test-report@dpdk.org X-Mailman-Version: 2.1.29 Precedence: list List-Id: automatic DPDK test reports List-Unsubscribe: , List-Archive: List-Post: List-Help: List-Subscribe: , Errors-To: test-report-bounces@dpdk.org Test-Label: iol-compile-arm64-testing Test-Status: SUCCESS http://dpdk.org/patch/158931 _Testing PASS_ Submitter: Shaokai Zhang Date: Wednesday, November 19 2025 12:02:30 DPDK git baseline: Repo:dpdk-next-crypto Branch: master CommitID:d163f9787ca6c43392d8d39c370428dbfa20cf90 158931 --> testing pass Upstream job id: Generic-DPDK-Compile-Meson#446089 Test environment and result as below: +------------------------------+--------------------+ | Environment | dpdk_meson_compile | +==============================+====================+ | Red Hat Enterprise Linux 9.5 | PASS | +------------------------------+--------------------+ | Ubuntu 20.04 | PASS | +------------------------------+--------------------+ | Fedora Linux 42 | PASS | +------------------------------+--------------------+ | Debian GNU/Linux 12 | PASS | +------------------------------+--------------------+ | Ubuntu 22.04 | PASS | +------------------------------+--------------------+ | Ubuntu 24.04 | PASS | +------------------------------+--------------------+ | CentOS Stream 9 | PASS | +------------------------------+--------------------+ | CentOS Stream 10 | PASS | +------------------------------+--------------------+ Red Hat Enterprise Linux 9.5 Kernel: 5.4 Compiler: gcc gcc (GCC) 11.5.0 20240719 (Red Hat 11.5.0-2) Ubuntu 20.04 Kernel: 5.15 Compiler: aarch64-linux-gnu-gcc gcc (Ubuntu 9.4.0-1ubuntu1~20.04.2) 9.4.0 Fedora Linux 42 Kernel: 5.4 Compiler: gcc gcc (GCC) 15.2.1 20250808 (Red Hat 15.2.1-1) Debian GNU/Linux 12 Kernel: 5.4 Compiler: gcc gcc (Debian 12.2.0-14+deb12u1) 12.2.0 Ubuntu 22.04 Kernel: 5.4 Compiler: gcc gcc (Ubuntu 11.4.0-1ubuntu1~22.04) 11.4.0 Ubuntu 24.04 Kernel: 5.4 Compiler: gcc gcc (Ubuntu 13.3.0-6ubuntu2~24.04) 13.3.0 CentOS Stream 9 Kernel: 5.4 Compiler: gcc gcc (GCC) 11.5.0 20240719 (Red Hat 11.5.0-11) CentOS Stream 10 Kernel: 5.4 Compiler: gcc gcc (GCC) 14.2.1 20250110 (Red Hat 14.2.1-8) To view detailed results, visit: https://lab.dpdk.org/results/dashboard/patchsets/34640/ UNH-IOL DPDK Community Lab To manage your email subscriptions, visit: https://lab.dpdk.org/results/dashboard/preferences/subscriptions/