From mboxrd@z Thu Jan 1 00:00:00 1970 Return-Path: Received: from mails.dpdk.org (mails.dpdk.org [217.70.189.124]) by inbox.dpdk.org (Postfix) with ESMTP id E72D148B50 for ; Thu, 20 Nov 2025 00:41:02 +0100 (CET) Received: from mails.dpdk.org (localhost [127.0.0.1]) by mails.dpdk.org (Postfix) with ESMTP id E1BC640262; Thu, 20 Nov 2025 00:41:02 +0100 (CET) Received: from mail-qk1-f228.google.com (mail-qk1-f228.google.com [209.85.222.228]) by mails.dpdk.org (Postfix) with ESMTP id 3834740262 for ; Thu, 20 Nov 2025 00:41:01 +0100 (CET) Received: by mail-qk1-f228.google.com with SMTP id af79cd13be357-8b2f2c5ec36so31248885a.1 for ; Wed, 19 Nov 2025 15:41:01 -0800 (PST) DKIM-Signature: v=1; a=rsa-sha256; c=relaxed/relaxed; d=iol.unh.edu; s=unh-iol; t=1763595660; x=1764200460; darn=dpdk.org; h=references:in-reply-to:cc:to:from:subject:message-id:date:from:to :cc:subject:date:message-id:reply-to; bh=vqUihBs1EPiYJ4DX3isqFK1oy074s6OXv+lLixXQ7aQ=; b=UbCDBI4NV9l6GXWnbjk1xTqRAHMkRwjEcmyBAZ2zvcQPBNAgvfkaU0sxdV9e2Jj3LF 3NVJPOP+RzzEqJQ7oyOcooUPtMtwQqzOzrvE/L/LeBoF3CrQsfON/TJUUZYN/EX+Nj+e WSJGhKAowQvzmP5Wu0r27aWuNSB2mDZ80ibMY= X-Google-DKIM-Signature: v=1; a=rsa-sha256; c=relaxed/relaxed; d=1e100.net; s=20230601; t=1763595660; x=1764200460; h=references:in-reply-to:cc:to:from:subject:message-id:date:x-gm-gg :x-gm-message-state:from:to:cc:subject:date:message-id:reply-to; bh=vqUihBs1EPiYJ4DX3isqFK1oy074s6OXv+lLixXQ7aQ=; b=pmtGXaTBZIBLB4cOXe3y511+BcuXyuthOnf+Oa1/QhyEtKdaZ5+gF7A9qwJDEnuTX6 VIKjeJfBib73FOxbSBtS8pLh/DqXRyJepZWPyOE33Q4S45INZLXbX8sdX3eQdh+tFnRF dSZ6hDDP7eLNj4Zc6vOQGEMTFkXbcltauViKe/16Rv7zh3UDbRXs+vhtq6p0VoOMyFaI 3m4msQvYHwJMEEhAwho5CFRgCMnJR5VMt7zv2cShMASCvF3fYLUIKnyuZVCbLotOe849 6xVKmOrIP2sScVmy4U/fvrqt3Y/hbn9RSECVTLcBZXrbpt928K/IVSMhcWTkzkFjV76l 4kYw== X-Gm-Message-State: AOJu0Yyix/XRoNoys1oYrpuuXA+YVOqsMzHPB3VG0AGCQ7dOWlzJaJyd iqDUebHvR6pw1Nu3tE/l8ZwC7259DakGG3QTPSOxsocmje42I0mSZDtA9dUjBrjGeGCfJcGHxAl USepAdzpfCcDu7aVvAB188DsIW3ZeQsOezJaUJxIy8tGu X-Gm-Gg: ASbGncvup1Im9XW4J38GfWMTiNUN3NlZAL7BZAaGCcyk371tyXHjyWCJ7YkfNHl5r2e cb3UZpKJ4DcMwsih1tyWAd+Dz69M8SN80CQgsXVj02JXricjb2pl42Z6nT1B+Y2aUJRCMBZU8Cb T1NojqL1+7vOtJqUOM9fiCrLqMns7jMdkDehtJGPsiRYq3Zhe2fCeVWr5shCabit9Eyr6RCtWNJ T3ZEn+6vpEH4+P7wrxfR/3UT29L0dn+TN23E8zixwy6X1yrrRZ+eosl4qEJFxv22IuuKqg15zlB YkKtWpTBEtdqwZ64PNiE7VifoO2/cENyL5zw+tvqI6eFZ4QgctNlv+ewatkPDNi/9wTR/JHTnJ1 J6RnYcLJUZgNANrUJ7RgTsHX3mAyg3RqBDV5QgUXPMQ== X-Google-Smtp-Source: AGHT+IE/R3JEVRU0V14PUPr3tjCmWfdX7UN1BCWMrkCyevozOm3+LPSHeJPCj/iDQVWPT1pf8hE4vM26LQhA X-Received: by 2002:a05:620a:1905:b0:8a4:6ac1:aeb with SMTP id af79cd13be357-8b32749fff0mr173907885a.74.1763595660478; Wed, 19 Nov 2025 15:41:00 -0800 (PST) Received: from postal.iol.unh.edu (postal.iol.unh.edu. [132.177.123.84]) by smtp-relay.gmail.com with ESMTPS id af79cd13be357-8b32932145asm6407985a.1.2025.11.19.15.41.00 (version=TLS1_2 cipher=ECDHE-ECDSA-AES128-GCM-SHA256 bits=128/128); Wed, 19 Nov 2025 15:41:00 -0800 (PST) X-Relaying-Domain: iol.unh.edu Date: Wed, 19 Nov 2025 15:41:00 -0800 (PST) Message-ID: <691e558c.050a0220.6022c.35cdSMTPIN_ADDED_MISSING@mx.google.com> Received: from [172.21.0.3] (unknown [172.18.0.240]) by postal.iol.unh.edu (Postfix) with ESMTP id EF3E26051830; Wed, 19 Nov 2025 18:40:58 -0500 (EST) Subject: |WARNING| pw158913-158930 [PATCH] [v5,18/18] vfio: introduce cdev mo From: dpdklab@iol.unh.edu To: Test Report Cc: dpdk-test-reports@iol.unh.edu In-Reply-To: <684f963686006c46a9b568b29c56494db9449148.1763550470.git.anatoly.burakov@intel.com> References: <684f963686006c46a9b568b29c56494db9449148.1763550470.git.anatoly.burakov@intel.com> Content-Type: text/plain X-BeenThere: test-report@dpdk.org X-Mailman-Version: 2.1.29 Precedence: list List-Id: automatic DPDK test reports List-Unsubscribe: , List-Archive: List-Post: List-Help: List-Subscribe: , Errors-To: test-report-bounces@dpdk.org Test-Label: iol-unit-arm64-testing Test-Status: WARNING http://dpdk.org/patch/158930 _Testing issues_ Submitter: Anatoly Burakov Date: Wednesday, November 19 2025 11:08:16 DPDK git baseline: Repo:dpdk Branch: master CommitID:ef98b88455bf4a7c8b7aa3106a761c9e9270d6a3 158913-158930 --> testing issues Upstream job id: Generic-Unit-Test-DPDK#394478 Test environment and result as below: +------------------------------+--------------+------------------------------+---------------------------+----------------+ | Environment | lpm_autotest | cryptodev_sw_snow3g_autotest | cryptodev_sw_zuc_autotest | dpdk_unit_test | +==============================+==============+==============================+===========================+================+ | Ubuntu 20.04 | WARN | SKIPPED | SKIPPED | WARN | +------------------------------+--------------+------------------------------+---------------------------+----------------+ | Debian 12 (arm) | SKIPPED | WARN | WARN | SKIPPED | +------------------------------+--------------+------------------------------+---------------------------+----------------+ | Fedora Linux 40 | SKIPPED | SKIPPED | SKIPPED | WARN | +------------------------------+--------------+------------------------------+---------------------------+----------------+ | CentOS Stream 10 | SKIPPED | SKIPPED | SKIPPED | WARN | +------------------------------+--------------+------------------------------+---------------------------+----------------+ | Debian GNU/Linux 12 | SKIPPED | SKIPPED | SKIPPED | WARN | +------------------------------+--------------+------------------------------+---------------------------+----------------+ | CentOS Stream 9 | SKIPPED | SKIPPED | SKIPPED | WARN | +------------------------------+--------------+------------------------------+---------------------------+----------------+ | Fedora Linux 42 | SKIPPED | SKIPPED | SKIPPED | WARN | +------------------------------+--------------+------------------------------+---------------------------+----------------+ | Ubuntu 24.04 | SKIPPED | SKIPPED | SKIPPED | WARN | +------------------------------+--------------+------------------------------+---------------------------+----------------+ | Fedora Linux 41 | SKIPPED | SKIPPED | SKIPPED | WARN | +------------------------------+--------------+------------------------------+---------------------------+----------------+ | Red Hat Enterprise Linux 9.5 | SKIPPED | SKIPPED | SKIPPED | WARN | +------------------------------+--------------+------------------------------+---------------------------+----------------+ | Ubuntu 22.04 | SKIPPED | SKIPPED | SKIPPED | PASS | +------------------------------+--------------+------------------------------+---------------------------+----------------+ ==== 20 line log output for Red Hat Enterprise Linux 9.5 (dpdk_unit_test): ==== ../lib/eal/linux/eal_vfio_cdev.c:136:9: error: incompatible implicit declaration of built-in function 'free' [-Werror=builtin-declaration-mismatch] 136 | free(mp_reply.msgs); | ^~~~ ../lib/eal/linux/eal_vfio_cdev.c:136:9: note: include '' or provide a declaration of 'free' ../lib/eal/linux/eal_vfio_cdev.c: In function 'vfio_cdev_get_device_num': ../lib/eal/linux/eal_vfio_cdev.c:234:35: error: implicit declaration of function 'strtol'; did you mean 'strtok'? [-Werror=implicit-function-declaration] 234 | dev_num = strtol(dev_tok, &end, 10); | ^~~~~~ | strtok ../lib/eal/linux/eal_vfio_cdev.c:234:35: error: nested extern declaration of 'strtol' [-Werror=nested-externs] ../lib/eal/linux/eal_vfio_cdev.c: In function 'vfio_cdev_request_dev_fd': ../lib/eal/linux/eal_vfio_cdev.c:359:9: error: incompatible implicit declaration of built-in function 'free' [-Werror=builtin-declaration-mismatch] 359 | free(mp_reply.msgs); | ^~~~ ../lib/eal/linux/eal_vfio_cdev.c:359:9: note: include '' or provide a declaration of 'free' cc1: all warnings being treated as errors [95/3817] Compiling C object lib/librte_eal.a.p/eal_arm_rte_cycles.c.o [96/3817] Generating symbol file lib/librte_log.so.26.0.p/librte_log.so.26.0.symbols [97/3817] Compiling C object lib/librte_eal.a.p/eal_linux_eal_vfio_group.c.o ninja: build stopped: subcommand failed. ==== End log output ==== Ubuntu 20.04 Kernel: 5.4 Compiler: gcc gcc (Ubuntu 9.4.0-1ubuntu1~20.04.2) 9.4.0 Debian 12 (arm) Kernel: Depends on container host Compiler: gcc (Debian 12.2.0-14) 12.2.0 Fedora Linux 40 Kernel: 5.4 Compiler: gcc gcc (GCC) 14.2.1 20240912 (Red Hat 14.2.1-3) CentOS Stream 10 Kernel: 5.4 Compiler: gcc gcc (GCC) 14.2.1 20250110 (Red Hat 14.2.1-8) Debian GNU/Linux 12 Kernel: 5.4 Compiler: gcc gcc (Debian 12.2.0-14+deb12u1) 12.2.0 CentOS Stream 9 Kernel: 5.4 Compiler: gcc gcc (GCC) 11.5.0 20240719 (Red Hat 11.5.0-11) Fedora Linux 42 Kernel: 5.4 Compiler: gcc gcc (GCC) 15.2.1 20250808 (Red Hat 15.2.1-1) Ubuntu 24.04 Kernel: 5.4 Compiler: gcc gcc (Ubuntu 13.3.0-6ubuntu2~24.04) 13.3.0 Fedora Linux 41 Kernel: 5.4 Compiler: clang gcc (GCC) 14.3.1 20250523 (Red Hat 14.3.1-1) Red Hat Enterprise Linux 9.5 Kernel: 5.4 Compiler: gcc gcc (GCC) 11.5.0 20240719 (Red Hat 11.5.0-2) Ubuntu 22.04 Kernel: 5.4 Compiler: gcc gcc (Ubuntu 11.4.0-1ubuntu1~22.04) 11.4.0 To view detailed results, visit: https://lab.dpdk.org/results/dashboard/patchsets/34641/ UNH-IOL DPDK Community Lab To manage your email subscriptions, visit: https://lab.dpdk.org/results/dashboard/preferences/subscriptions/