From mboxrd@z Thu Jan 1 00:00:00 1970 Return-Path: Received: from mails.dpdk.org (mails.dpdk.org [217.70.189.124]) by inbox.dpdk.org (Postfix) with ESMTP id 183E048B50 for ; Thu, 20 Nov 2025 01:21:40 +0100 (CET) Received: from mails.dpdk.org (localhost [127.0.0.1]) by mails.dpdk.org (Postfix) with ESMTP id F01EC40262; Thu, 20 Nov 2025 01:21:39 +0100 (CET) Received: from mail-io1-f100.google.com (mail-io1-f100.google.com [209.85.166.100]) by mails.dpdk.org (Postfix) with ESMTP id 6F22540262 for ; Thu, 20 Nov 2025 01:21:38 +0100 (CET) Received: by mail-io1-f100.google.com with SMTP id ca18e2360f4ac-94863b3620cso11488439f.3 for ; Wed, 19 Nov 2025 16:21:38 -0800 (PST) DKIM-Signature: v=1; a=rsa-sha256; c=relaxed/relaxed; d=iol.unh.edu; s=unh-iol; t=1763598097; x=1764202897; darn=dpdk.org; h=references:in-reply-to:cc:to:from:subject:message-id:date:from:to :cc:subject:date:message-id:reply-to; bh=mjyhX/Ulpu/iv3kZaugltB3Qh2Zuz9svjrU7FFxniDU=; b=TMa57Tdbw3U7IxSnw3MXeFbZUiuTmoI6zi//o2J6AflVR1y6fhSN/rFHaRhxtECuSi VJk8MF+Ilp7MkgH/VaDnmNturUV0rm34jXkOVPMeRG7MMZgkWfSDh5cjkqbuU1qdYHsT ZGfm4AvxnKTIC9AK2KEGomQleh5dVJQ+n/nA4= X-Google-DKIM-Signature: v=1; a=rsa-sha256; c=relaxed/relaxed; d=1e100.net; s=20230601; t=1763598097; x=1764202897; h=references:in-reply-to:cc:to:from:subject:message-id:date:x-gm-gg :x-gm-message-state:from:to:cc:subject:date:message-id:reply-to; bh=mjyhX/Ulpu/iv3kZaugltB3Qh2Zuz9svjrU7FFxniDU=; b=m2KaNtOnstt2EzSNVkYVX3+E/RStmU3Z6XorO+4aDeZzUXbHNGh2btaVHTuMQkXA3b UAYXFunbEuecsNloMkEsot9exVyV+NO6K/l8X2Mx5UCmmKk0+QYa1FGeFJ1tAHstsFpA J7M0H8EP4i+jkUaTMuha4mIzYD18ocJ+kMwfJsqC3BL9cQ2p2vXEfv/g4YLIYA9EVwMx YEg8pQdtKiIxjJzFi9oF2JUXI+LE1XMZ33Ex0Jx6IxSYBw5yMsqvMnrpIv1/GnuAELsG oO0FGaxSeU9p1/E+B6/3b5kz8rTYSXBrEDgw69/joq57Gdo9Ji9H5q2WsmLDL0XT/j4b uRQA== X-Gm-Message-State: AOJu0Yw7MVIB5EQNB4+hd23EeJIE+U7RhLjpMn+OO5XIUCxQxJe19YhJ 3ut/VNKyKloeGbV+V+sqHNgKkEtnW+PA8fyMYzsL7lMudMrPmMkSZ81z51pietDFcrfYmuO1zXF TdnK8vstvU/fYAVTmgNsmkjucmnQblcC2K1YZihmfRy0me7OlUyqIY8kLJbWm X-Gm-Gg: ASbGnctcofqFGqV6Qm5REk8h/8Hfyn0fBvMbp2eWf0DjpabKF2NvcqLpb3NYkIUgAhF 1IrrUav7rupKWOM65GPfawt3i4ZNh8ShALs6PCXwvkBBTOwgLyyiqHMAFy1i6suLvGP4p93BueE ECEnXu/1MccS4B0CsE0uCajpuo+Q6LeqAy7vhi1JJ+p9tB1E3ShSWV8X7ko/7wGqR0sLbmFndLa m4g5V5kfSlYBS6nGsHXk7E99n21/Mf2cWJMpYCe7OgtvlgPHNvcKtuTr17FvBC2w46VIqE1jOTw y5bgrOpo1bWke4oVBdhDm5tvBTtCq5uJsUsGqaK4zoOvCZnrnTIJVujsQOdrD8XDAkFDeLzzUYm Rpvej9ApfAAdaDarX2Bo= X-Google-Smtp-Source: AGHT+IGiea7+Ci/4FHdR5bjSMQisROxyz4UlSzYMwqSaiwI41MgzLYSQqYgxBda5vZ5NvfpDMMArRrp09MOr X-Received: by 2002:a05:6602:2ccc:b0:949:66a:4d5b with SMTP id ca18e2360f4ac-94938a55ba4mr111153839f.4.1763598097486; Wed, 19 Nov 2025 16:21:37 -0800 (PST) Received: from postal.iol.unh.edu (postal.iol.unh.edu. [2606:4100:3880:1234::84]) by smtp-relay.gmail.com with ESMTPS id ca18e2360f4ac-94938651289sm6334439f.10.2025.11.19.16.21.37 (version=TLS1_2 cipher=ECDHE-ECDSA-AES128-GCM-SHA256 bits=128/128); Wed, 19 Nov 2025 16:21:37 -0800 (PST) X-Relaying-Domain: iol.unh.edu Date: Wed, 19 Nov 2025 16:21:37 -0800 (PST) Message-ID: <691e5f11.050a0220.33499d.380bSMTPIN_ADDED_MISSING@mx.google.com> Received: from [172.21.0.3] (unknown [172.18.0.240]) by postal.iol.unh.edu (Postfix) with ESMTP id 0BAB36051830; Wed, 19 Nov 2025 19:21:37 -0500 (EST) Subject: |SUCCESS| pw158931 [PATCH] [v2] crypto/openssl: support AES-XTS oper From: dpdklab@iol.unh.edu To: Test Report Cc: dpdk-test-reports@iol.unh.edu, Akhil Goyal In-Reply-To: <20251119120231.1399-1-felix.zhang@jaguarmicro.com> References: <20251119120231.1399-1-felix.zhang@jaguarmicro.com> Content-Type: text/plain X-BeenThere: test-report@dpdk.org X-Mailman-Version: 2.1.29 Precedence: list List-Id: automatic DPDK test reports List-Unsubscribe: , List-Archive: List-Post: List-Help: List-Subscribe: , Errors-To: test-report-bounces@dpdk.org Test-Label: iol-unit-arm64-testing Test-Status: SUCCESS http://dpdk.org/patch/158931 _Testing PASS_ Submitter: Shaokai Zhang Date: Wednesday, November 19 2025 12:02:30 DPDK git baseline: Repo:dpdk-next-crypto Branch: master CommitID:d163f9787ca6c43392d8d39c370428dbfa20cf90 158931 --> testing pass Upstream job id: Generic-Unit-Test-DPDK#394439 Test environment and result as below: +------------------------------+------------------------------+--------------+---------------------------+----------------+ | Environment | cryptodev_sw_snow3g_autotest | lpm_autotest | cryptodev_sw_zuc_autotest | dpdk_unit_test | +==============================+==============================+==============+===========================+================+ | Debian 12 (arm) | PASS | SKIPPED | PASS | SKIPPED | +------------------------------+------------------------------+--------------+---------------------------+----------------+ | Ubuntu 20.04 | SKIPPED | PASS | SKIPPED | PASS | +------------------------------+------------------------------+--------------+---------------------------+----------------+ | CentOS Stream 9 | SKIPPED | SKIPPED | SKIPPED | PASS | +------------------------------+------------------------------+--------------+---------------------------+----------------+ | CentOS Stream 10 | SKIPPED | SKIPPED | SKIPPED | PASS | +------------------------------+------------------------------+--------------+---------------------------+----------------+ | Ubuntu 22.04 | SKIPPED | SKIPPED | SKIPPED | PASS | +------------------------------+------------------------------+--------------+---------------------------+----------------+ | Fedora Linux 41 | SKIPPED | SKIPPED | SKIPPED | PASS | +------------------------------+------------------------------+--------------+---------------------------+----------------+ | Fedora Linux 42 | SKIPPED | SKIPPED | SKIPPED | PASS | +------------------------------+------------------------------+--------------+---------------------------+----------------+ | Fedora Linux 40 | SKIPPED | SKIPPED | SKIPPED | PASS | +------------------------------+------------------------------+--------------+---------------------------+----------------+ | Red Hat Enterprise Linux 9.5 | SKIPPED | SKIPPED | SKIPPED | PASS | +------------------------------+------------------------------+--------------+---------------------------+----------------+ | Debian GNU/Linux 12 | SKIPPED | SKIPPED | SKIPPED | PASS | +------------------------------+------------------------------+--------------+---------------------------+----------------+ | Ubuntu 24.04 | SKIPPED | SKIPPED | SKIPPED | PASS | +------------------------------+------------------------------+--------------+---------------------------+----------------+ Debian 12 (arm) Kernel: Depends on container host Compiler: gcc (Debian 12.2.0-14) 12.2.0 Ubuntu 20.04 Kernel: 5.4 Compiler: gcc gcc (Ubuntu 9.4.0-1ubuntu1~20.04.2) 9.4.0 CentOS Stream 9 Kernel: 5.4 Compiler: gcc gcc (GCC) 11.5.0 20240719 (Red Hat 11.5.0-11) CentOS Stream 10 Kernel: 5.4 Compiler: gcc gcc (GCC) 14.2.1 20250110 (Red Hat 14.2.1-8) Ubuntu 22.04 Kernel: 5.15 Compiler: gcc gcc (Ubuntu 11.4.0-1ubuntu1~22.04.2) 11.4.0 Fedora Linux 41 Kernel: 5.4 Compiler: clang gcc (GCC) 14.3.1 20250523 (Red Hat 14.3.1-1) Fedora Linux 42 Kernel: 5.4 Compiler: gcc gcc (GCC) 15.2.1 20250808 (Red Hat 15.2.1-1) Fedora Linux 40 Kernel: 5.4 Compiler: clang gcc (GCC) 14.2.1 20240912 (Red Hat 14.2.1-3) Red Hat Enterprise Linux 9.5 Kernel: 5.4 Compiler: gcc gcc (GCC) 11.5.0 20240719 (Red Hat 11.5.0-2) Debian GNU/Linux 12 Kernel: 5.4 Compiler: gcc gcc (Debian 12.2.0-14+deb12u1) 12.2.0 Ubuntu 24.04 Kernel: 5.4 Compiler: gcc gcc (Ubuntu 13.3.0-6ubuntu2~24.04) 13.3.0 To view detailed results, visit: https://lab.dpdk.org/results/dashboard/patchsets/34640/ UNH-IOL DPDK Community Lab To manage your email subscriptions, visit: https://lab.dpdk.org/results/dashboard/preferences/subscriptions/