From mboxrd@z Thu Jan 1 00:00:00 1970 Return-Path: Received: from mails.dpdk.org (mails.dpdk.org [217.70.189.124]) by inbox.dpdk.org (Postfix) with ESMTP id 3E6E148B51 for ; Thu, 20 Nov 2025 02:34:57 +0100 (CET) Received: from mails.dpdk.org (localhost [127.0.0.1]) by mails.dpdk.org (Postfix) with ESMTP id 39D7040262; Thu, 20 Nov 2025 02:34:57 +0100 (CET) Received: from mail-oa1-f100.google.com (mail-oa1-f100.google.com [209.85.160.100]) by mails.dpdk.org (Postfix) with ESMTP id A3E4440262 for ; Thu, 20 Nov 2025 02:34:55 +0100 (CET) Received: by mail-oa1-f100.google.com with SMTP id 586e51a60fabf-3ec5df386acso165880fac.1 for ; Wed, 19 Nov 2025 17:34:55 -0800 (PST) DKIM-Signature: v=1; a=rsa-sha256; c=relaxed/relaxed; d=iol.unh.edu; s=unh-iol; t=1763602495; x=1764207295; darn=dpdk.org; h=references:in-reply-to:cc:to:from:subject:message-id:date:from:to :cc:subject:date:message-id:reply-to; bh=xOLBp4Qm/M0S53ecnMIx5ir5qsBxl2relZtgpb0wIIU=; b=hefGc35ie1VSDlFSeSNf1dtTwTqw5DsW2NEura8NvbjKqBzSdb/fQaPy+4YMPSxrKZ tO+nAZsTEc+4mw0xv67W4q79SoThHOVfszlpl1KcPJpYKGjn8WQN/oq6963aCEZLNK8k 4iSBBWzEnapG7iHeE1Wajn7jUuhiN2FT5nC7U= X-Google-DKIM-Signature: v=1; a=rsa-sha256; c=relaxed/relaxed; d=1e100.net; s=20230601; t=1763602495; x=1764207295; h=references:in-reply-to:cc:to:from:subject:message-id:date:x-gm-gg :x-gm-message-state:from:to:cc:subject:date:message-id:reply-to; bh=xOLBp4Qm/M0S53ecnMIx5ir5qsBxl2relZtgpb0wIIU=; b=MoSwmGNwi7rFrS4iXM5QIhpfbmau/BPkQ60QoKLWipeftZxTB8ij50NK5k/zgf8gzg IteXfa4nTZmAwIaCdWXzHobOut//fOeoJq7kcM1R0xZC27rBUeTlnKqn3KvyCsKbeiU4 g+LU/0e8W3LMZ4F7eG06MPHWzhpcDH0fhrbQjFGGClOYR7N0r87pt4T2bRAWjCxCFRar jp84D3lRH9Dv0ZPpeOS3AisZkDpSUKw3Ltivps1ktu38bn6KoIXYTBWmPhl4A5QfLWZo +FFAJfETzeASEHsSWc/w/Y2h9Fni3oqrff8yVTzv6rmbTuSIHIv//x33bD7JYEYdyswt adQw== X-Gm-Message-State: AOJu0YzlI2CtIa6sdXWHmH5ql4MZni/jUfMuZWc7TGDFzcTmD/cXnxt1 gYqXHKxkq4d9HRh01est02klFqsHokzvydFpkhntXo2/j12cOonjMF/uvd6UuVOHTPDrnQgyQ/h u66hEsfd752EHAFJFTAYeil7FUQMpANR5MGNBCFShEDRokSVBdBsiXji0dQnY X-Gm-Gg: ASbGncvOi9BiUl5LBu90n4zP3RzXxHnvm/qGWFqEYTAwUTFtBuRufFMocxvklUZvwzL 8j21ZLIyyL6MISRGRKh0iPJkNiF5ERBVy4OB5tR5UokTvVWEqDExKucYOPUoJ42M0tlCCUuIWSr tN6IGGLA6IqoTyM3GmubcgOXACDq43j4Jmm2pO71ShJFjTAPEebKFt/f2mDNbjdG+Kr89+rs51R QDqTzC/5kjJL+5Ps1hDGwxtcz14G3qNHWgx/u2rHy4vvumlB0AHA0RUyW4X3KjVip03EuOd+eOm Xj6e/v06kzj/cRcfXcyh29qEh6krG4qMa1XNcie1UR6HOa+79W36HakyWdTDqT229NBSckF4UXA 7QXmOSmm3w/DMSBtcl1o= X-Google-Smtp-Source: AGHT+IHecL9mswOnIObUybdUgsMbJL2Z8qwxJ3hhKgkSayrPZspzuytFdyorNU0MLBatFE0shQPpX6v0vQtP X-Received: by 2002:a05:6871:288f:b0:3ec:3949:8a20 with SMTP id 586e51a60fabf-3ec9a4d9766mr832389fac.29.1763602494736; Wed, 19 Nov 2025 17:34:54 -0800 (PST) Received: from postal.iol.unh.edu (postal.iol.unh.edu. [2606:4100:3880:1234::84]) by smtp-relay.gmail.com with ESMTPS id 586e51a60fabf-3ec9c333848sm93650fac.6.2025.11.19.17.34.54 (version=TLS1_2 cipher=ECDHE-ECDSA-AES128-GCM-SHA256 bits=128/128); Wed, 19 Nov 2025 17:34:54 -0800 (PST) X-Relaying-Domain: iol.unh.edu Date: Wed, 19 Nov 2025 17:34:54 -0800 (PST) Message-ID: <691e703e.050a0220.f66f7.5133SMTPIN_ADDED_MISSING@mx.google.com> Received: from [172.21.0.3] (unknown [172.18.0.240]) by postal.iol.unh.edu (Postfix) with ESMTP id E515B6051830; Wed, 19 Nov 2025 20:34:53 -0500 (EST) Subject: |SUCCESS| pw158932 [PATCH] mbuf: fix packet copy From: dpdklab@iol.unh.edu To: Test Report Cc: dpdk-test-reports@iol.unh.edu In-Reply-To: <20251119120403.907511-1-mb@smartsharesystems.com> References: <20251119120403.907511-1-mb@smartsharesystems.com> Content-Type: text/plain X-BeenThere: test-report@dpdk.org X-Mailman-Version: 2.1.29 Precedence: list List-Id: automatic DPDK test reports List-Unsubscribe: , List-Archive: List-Post: List-Help: List-Subscribe: , Errors-To: test-report-bounces@dpdk.org Test-Label: iol-compile-arm64-testing Test-Status: SUCCESS http://dpdk.org/patch/158932 _Testing PASS_ Submitter: Morten Brorup Date: Wednesday, November 19 2025 12:04:03 DPDK git baseline: Repo:dpdk Branch: master CommitID:ef98b88455bf4a7c8b7aa3106a761c9e9270d6a3 158932 --> testing pass Upstream job id: Generic-DPDK-Compile-Meson#446139 Test environment and result as below: +------------------------------+--------------------+ | Environment | dpdk_meson_compile | +==============================+====================+ | Red Hat Enterprise Linux 9.5 | PASS | +------------------------------+--------------------+ | Ubuntu 20.04 | PASS | +------------------------------+--------------------+ | Debian GNU/Linux 12 | PASS | +------------------------------+--------------------+ | Fedora Linux 42 | PASS | +------------------------------+--------------------+ | Ubuntu 22.04 | PASS | +------------------------------+--------------------+ | Ubuntu 24.04 | PASS | +------------------------------+--------------------+ | CentOS Stream 9 | PASS | +------------------------------+--------------------+ | CentOS Stream 10 | PASS | +------------------------------+--------------------+ Red Hat Enterprise Linux 9.5 Kernel: 5.4 Compiler: gcc gcc (GCC) 11.5.0 20240719 (Red Hat 11.5.0-2) Ubuntu 20.04 Kernel: 5.15 Compiler: aarch64-linux-gnu-gcc gcc (Ubuntu 9.4.0-1ubuntu1~20.04.2) 9.4.0 Debian GNU/Linux 12 Kernel: 5.4 Compiler: gcc gcc (Debian 12.2.0-14+deb12u1) 12.2.0 Fedora Linux 42 Kernel: 5.4 Compiler: gcc gcc (GCC) 15.2.1 20250808 (Red Hat 15.2.1-1) Ubuntu 22.04 Kernel: 5.4 Compiler: gcc gcc (Ubuntu 11.4.0-1ubuntu1~22.04) 11.4.0 Ubuntu 24.04 Kernel: 5.4 Compiler: gcc gcc (Ubuntu 13.3.0-6ubuntu2~24.04) 13.3.0 CentOS Stream 9 Kernel: 5.4 Compiler: gcc gcc (GCC) 11.5.0 20240719 (Red Hat 11.5.0-11) CentOS Stream 10 Kernel: 5.4 Compiler: gcc gcc (GCC) 14.2.1 20250110 (Red Hat 14.2.1-8) To view detailed results, visit: https://lab.dpdk.org/results/dashboard/patchsets/34642/ UNH-IOL DPDK Community Lab To manage your email subscriptions, visit: https://lab.dpdk.org/results/dashboard/preferences/subscriptions/