From mboxrd@z Thu Jan 1 00:00:00 1970 Return-Path: Received: from mails.dpdk.org (mails.dpdk.org [217.70.189.124]) by inbox.dpdk.org (Postfix) with ESMTP id 9193848B51 for ; Thu, 20 Nov 2025 03:09:29 +0100 (CET) Received: from mails.dpdk.org (localhost [127.0.0.1]) by mails.dpdk.org (Postfix) with ESMTP id 6916540262; Thu, 20 Nov 2025 03:09:29 +0100 (CET) Received: from mail-ot1-f98.google.com (mail-ot1-f98.google.com [209.85.210.98]) by mails.dpdk.org (Postfix) with ESMTP id E34E140262 for ; Thu, 20 Nov 2025 03:09:27 +0100 (CET) Received: by mail-ot1-f98.google.com with SMTP id 46e09a7af769-7c6d699610cso117575a34.0 for ; Wed, 19 Nov 2025 18:09:27 -0800 (PST) DKIM-Signature: v=1; a=rsa-sha256; c=relaxed/relaxed; d=iol.unh.edu; s=unh-iol; t=1763604567; x=1764209367; darn=dpdk.org; h=cc:to:from:subject:message-id:date:from:to:cc:subject:date :message-id:reply-to; bh=JDa51sgO9nlU0Bhw1WtI2M89P/zdtw/GdfJge2qT4qc=; b=N41GnPthkDCYNRc9SRID3ahGVkL09/92cygBiKhVgh8lE3Sgyq5gPnOYifPCAK6NaP gOMcVvGQrU0T1nAI8DRkvZTIp2pZCAICqP0rIFYIJojg1pd3cz2ZENa1zShOnVZGrdqP tv63ZEQ/PgKhWwqpf0gVgx/bnRgrJsbYDza6s= X-Google-DKIM-Signature: v=1; a=rsa-sha256; c=relaxed/relaxed; d=1e100.net; s=20230601; t=1763604567; x=1764209367; h=cc:to:from:subject:message-id:date:x-gm-gg:x-gm-message-state:from :to:cc:subject:date:message-id:reply-to; bh=JDa51sgO9nlU0Bhw1WtI2M89P/zdtw/GdfJge2qT4qc=; b=WIL2YSR+t8C6L7l0p9j+N13bMXB14oma/qYYS7c+k6Bwi5vHBIMBQcEdqVC2xmItb2 DkMVzdkqJSRKvDw0Kh1He2XIwzOrxZm3OmKTnVQ32ao5nKgYHhQQCIb77zKBFuB2yXaF yo1d73wXS0v6pHiFDnIw49cuwnQRHGkl4ZwJ+szZieG11ga3kT/3VE6sAptJAuH34sDx rjAN2PNzgYPqeqHaEG4ONM5FyHV1JPu3ts4A0mPhHPdXUGx5w90GUr9LutIyfKdo/rKj siuwEaprmf3Y8JMSGSE0+xBBfdR5yzweNfH+qjLb8pv/G9I+LUK7e5/fpi8vpVFblOIQ L3sw== X-Gm-Message-State: AOJu0YyXxM+SmhxgH3Pq1iPP18J3+uerF4Ui3fYWhKZWOSWbyjCOzg6E HwNM+qKmwNgYbRqd7AcTmTWO1MHJ8IbeK31/kWWN3R3S9v3KEyfxo1i47GKLlGSiS8oAmjcRWdk A5v7ql6VZeed7xlO1rPD1KSiNZ/j00X5nHpkE6xuGT0x5FkobZWRluTzwAhAW X-Gm-Gg: ASbGnctsJJ97EVwQJSHxe1spOc5lYdDS1T4b+Hq9wgezTZPfQCxQ4Md4HJzr9Clzmun N5V5gjx1EXvpEreLYOC31T++SKRJsupzxZVv6qQvEJdgbgzH4GNq+bqR1dSEPHWXDylx0ba9gP1 l36pcEwxWSJFBrs6U6iCmWYxLFhYV9o5O8e/lSk7uY0iaArR4aJ2JLcUomHiTR1L5O6JM7iwsRE h8vOyAlcHzt4vQ0VAKwenbx7HZrsJ5VY32ph3Uk6idbNcQTDZTYIPPeKZIKBHcss7X3zI5n0O46 rj3h1C2a8aewnCWA91v83jMT/pXPDCYW2iJoob5G3A6NFJLu4iUJ5AFM0msOQcBrA7cFDpT5665 Avx7KD2hTHyy6ouGAVoo= X-Google-Smtp-Source: AGHT+IEe52Fw7BxggIoHMA3l7CUk7V1M4CWSk/phNw6oEAZ20QKcq3i6nnqnRrM+r4RjCtJiu/ulf+Z45mYG X-Received: by 2002:a05:6830:918:b0:7c7:6cf2:b77 with SMTP id 46e09a7af769-7c78d2f220emr909638a34.32.1763604567118; Wed, 19 Nov 2025 18:09:27 -0800 (PST) Received: from postal.iol.unh.edu (postal.iol.unh.edu. [2606:4100:3880:1234::84]) by smtp-relay.gmail.com with ESMTPS id 586e51a60fabf-3ec9c33da1dsm95172fac.7.2025.11.19.18.09.27 (version=TLS1_2 cipher=ECDHE-ECDSA-AES128-GCM-SHA256 bits=128/128); Wed, 19 Nov 2025 18:09:27 -0800 (PST) X-Relaying-Domain: iol.unh.edu Date: Wed, 19 Nov 2025 18:09:27 -0800 (PST) Message-ID: <691e7857.050a0220.2209be.5102SMTPIN_ADDED_MISSING@mx.google.com> Received: from [172.21.0.3] (unknown [172.18.0.240]) by postal.iol.unh.edu (Postfix) with ESMTP id AC62060003EA; Wed, 19 Nov 2025 21:09:26 -0500 (EST) Subject: |SUCCESS| [GIT MASTER] ef98b88455bf4a7c8b7aa3106a761c9e9270d6a3 From: dpdklab@iol.unh.edu To: Test Report Cc: dpdk-test-reports@iol.unh.edu Content-Type: text/plain X-BeenThere: test-report@dpdk.org X-Mailman-Version: 2.1.29 Precedence: list List-Id: automatic DPDK test reports List-Unsubscribe: , List-Archive: List-Post: List-Help: List-Subscribe: , Errors-To: test-report-bounces@dpdk.org _Testing PASS_ Branch: dpdk ef98b88455bf4a7c8b7aa3106a761c9e9270d6a3 --> testing pass Upstream job id: Generic-Unit-Test-DPDK#394535 Test environment and result as below: +-------------------------------+----------------+ | Environment | dpdk_unit_test | +===============================+================+ | Fedora Linux 42 | PASS | +-------------------------------+----------------+ | Arch Linux 20250613.0.365270 | PASS | +-------------------------------+----------------+ | Red Hat Enterprise Linux 8.10 | PASS | +-------------------------------+----------------+ | Fedora Linux 40 | PASS | +-------------------------------+----------------+ | Debian GNU/Linux 12 | PASS | +-------------------------------+----------------+ | Ubuntu 20.04 | PASS | +-------------------------------+----------------+ | Fedora Linux 41 | PASS | +-------------------------------+----------------+ | Ubuntu 22.04 | PASS | +-------------------------------+----------------+ | Ubuntu 24.04 | PASS | +-------------------------------+----------------+ | CentOS Stream 10 | PASS | +-------------------------------+----------------+ | Red Hat Enterprise Linux 9.5 | PASS | +-------------------------------+----------------+ | CentOS Stream 9 | PASS | +-------------------------------+----------------+ Fedora Linux 42 Kernel: 5.15 Compiler: clang gcc (GCC) 15.2.1 20250808 (Red Hat 15.2.1-1) Arch Linux 20250613.0.365270 Kernel: 5.15 Compiler: gcc gcc (GCC) 15.1.1 20250425 Red Hat Enterprise Linux 8.10 Kernel: 5.15 Compiler: gcc gcc (GCC) 8.5.0 20210514 (Red Hat 8.5.0-22) Fedora Linux 40 Kernel: 5.15 Compiler: gcc gcc (GCC) 14.2.1 20240912 (Red Hat 14.2.1-3) Debian GNU/Linux 12 Kernel: 5.15 Compiler: gcc gcc (Debian 12.2.0-14+deb12u1) 12.2.0 Ubuntu 20.04 Kernel: 5.15 Compiler: gcc gcc (Ubuntu 9.4.0-1ubuntu1~20.04.2) 9.4.0 Fedora Linux 41 Kernel: 5.15 Compiler: gcc gcc (GCC) 14.3.1 20250523 (Red Hat 14.3.1-1) Ubuntu 22.04 Kernel: 5.15 Compiler: gcc gcc (Ubuntu 11.4.0-1ubuntu1~22.04) 11.4.0 Ubuntu 24.04 Kernel: 5.15 Compiler: gcc gcc (Ubuntu 13.3.0-6ubuntu2~24.04) 13.3.0 CentOS Stream 10 Kernel: 5.15 Compiler: gcc gcc (GCC) 14.2.1 20250110 (Red Hat 14.2.1-8) Red Hat Enterprise Linux 9.5 Kernel: 5.15 Compiler: gcc gcc (GCC) 11.5.0 20240719 (Red Hat 11.5.0-2) CentOS Stream 9 Kernel: 5.15 Compiler: gcc gcc (GCC) 11.5.0 20240719 (Red Hat 11.5.0-11) To view detailed results, visit: https://lab.dpdk.org/results/dashboard/tarballs/35659/ UNH-IOL DPDK Community Lab To manage your email subscriptions, visit: https://lab.dpdk.org/results/dashboard/preferences/subscriptions/