From mboxrd@z Thu Jan 1 00:00:00 1970 Return-Path: Received: from mails.dpdk.org (mails.dpdk.org [217.70.189.124]) by inbox.dpdk.org (Postfix) with ESMTP id 4E52A48B51 for ; Thu, 20 Nov 2025 03:18:26 +0100 (CET) Received: from mails.dpdk.org (localhost [127.0.0.1]) by mails.dpdk.org (Postfix) with ESMTP id 25F4C40262; Thu, 20 Nov 2025 03:18:26 +0100 (CET) Received: from mail-qv1-f97.google.com (mail-qv1-f97.google.com [209.85.219.97]) by mails.dpdk.org (Postfix) with ESMTP id D1B4140262 for ; Thu, 20 Nov 2025 03:18:23 +0100 (CET) Received: by mail-qv1-f97.google.com with SMTP id 6a1803df08f44-8823fa3bd95so12341106d6.1 for ; Wed, 19 Nov 2025 18:18:23 -0800 (PST) DKIM-Signature: v=1; a=rsa-sha256; c=relaxed/relaxed; d=iol.unh.edu; s=unh-iol; t=1763605103; x=1764209903; darn=dpdk.org; h=cc:to:from:subject:message-id:date:from:to:cc:subject:date :message-id:reply-to; bh=v+Pi2rGjO8R8y3jNnMrl+5R5Y1FnTMFaQvDhiiIiBTU=; b=DbxLYvKkJQh9RE5OQZBDxGVs6BnZVeUsoyxLIOx0iDfkqbImH72MSF4sMZMs3lQsNK /gk0J0m+2zJaO7L4tFyUCmPxDLjndUmDEMN4xAvV5UcwueIYPJy01DHlmniPZV/fdgYt pYKwjJzQyHT3qQKCzS0iQPztTL4KJAcvRk5Mg= X-Google-DKIM-Signature: v=1; a=rsa-sha256; c=relaxed/relaxed; d=1e100.net; s=20230601; t=1763605103; x=1764209903; h=cc:to:from:subject:message-id:date:x-gm-gg:x-gm-message-state:from :to:cc:subject:date:message-id:reply-to; bh=v+Pi2rGjO8R8y3jNnMrl+5R5Y1FnTMFaQvDhiiIiBTU=; b=Mm7MgGNMktDJSsAi9N/KgzPgK9qhsH80rusT2Dmq0ps1YOfUv5bIbn9vxx+Z+W3RrS zzk+ouO5TrGVu3koIos34iVUkaitqZWjKBELp77UtU8hu6IskzMdcTuUFNq/84Pisgqb D3JR/Dl+WB10A3ZotmHQrDnPWHc8FV+FjFhDgu8I8eDU05CCWn8OI60Rd8pFmyOiQjJ4 1Fe55otO4QptMV02fR0VFCnxPWIjKKTMrsaLwnXWef6jgRTkSRKVv+sR3zqgcPBEShOr neMQ8haVDzHFaQDHucKYcl3Ey1ZjZiaBYq9sa3dsPPAtHNblsrqi2I8HzjwSk/nmX85F lyXg== X-Gm-Message-State: AOJu0YyriGU0RokCybIhHPifTeZy+ebQDffFAGvbXSleNP4ExfJjUfu3 Oy39e74uTPi9KmMyeeSu+y2FI0Qp/sj6lDVNBOrvuYlB/vtA4J+OdFWifQwU2vA8MRsVfLmOv4Z 3LwYlTCQw+5xFVpjEFNHCSMQBOc8uHJtLdmr82jJsxxSm X-Gm-Gg: ASbGncsTyQzSbei5OYk6Jave5Ue/x39vSnsDkYBeUuELAgaAtuoLh2c86TOQvq6oIDH QVL9XjXbnPNBLNlFZjXRW4ASsvcy7z+8bKWdXhdXPQ3DXZZFhMKUdxvFq4dVypXMQ1R5GSIrhU7 JXQfR2pOO7X6Vife2AM4HCvTTelZ4YKEi4NPny9TwdHIqBSfenY+13yprpUw+YSy/W7+EoYAl+0 MTlm9oocriQM0jbPImfyyxJEIzNqrTDWVkfqi5miWm8ipSBMYCph+DuM4h3PFq1H1SLhleaBoGs Cj/xK+Ps8HpQHZ7C3/sBStfuIpflQ7BhYMWSiUC/Rwrv0wPaoUyeHVkSt4ktc8xu/uWM1rIZ+Qn g9J+kueFrBphkh+6GIMvtWPGo9Xv1JF+1RgLr7PddPg== X-Google-Smtp-Source: AGHT+IFye1jP+EWREnftr18WiTWOJx5kFb4Grj3Bt0mgfWlk95x8Ob1WwlWsafSFoS7hKUkjx2w70/aEFZV8 X-Received: by 2002:a05:6214:5d0e:b0:882:7571:c024 with SMTP id 6a1803df08f44-8847014a5f2mr9984776d6.27.1763605103152; Wed, 19 Nov 2025 18:18:23 -0800 (PST) Received: from postal.iol.unh.edu (postal.iol.unh.edu. [132.177.123.84]) by smtp-relay.gmail.com with ESMTPS id 6a1803df08f44-8846e57cf6esm1074206d6.18.2025.11.19.18.18.23 (version=TLS1_2 cipher=ECDHE-ECDSA-AES128-GCM-SHA256 bits=128/128); Wed, 19 Nov 2025 18:18:23 -0800 (PST) X-Relaying-Domain: iol.unh.edu Date: Wed, 19 Nov 2025 18:18:23 -0800 (PST) Message-ID: <691e7a6f.050a0220.75a49.5b67SMTPIN_ADDED_MISSING@mx.google.com> Received: from [172.21.0.2] (unknown [172.18.0.240]) by postal.iol.unh.edu (Postfix) with ESMTP id CE6466051830; Wed, 19 Nov 2025 21:18:22 -0500 (EST) Subject: |SUCCESS| [GIT MASTER] ef98b88455bf4a7c8b7aa3106a761c9e9270d6a3 From: dpdklab@iol.unh.edu To: Test Report Cc: dpdk-test-reports@iol.unh.edu Content-Type: text/plain X-BeenThere: test-report@dpdk.org X-Mailman-Version: 2.1.29 Precedence: list List-Id: automatic DPDK test reports List-Unsubscribe: , List-Archive: List-Post: List-Help: List-Subscribe: , Errors-To: test-report-bounces@dpdk.org _Testing PASS_ Branch: dpdk ef98b88455bf4a7c8b7aa3106a761c9e9270d6a3 --> testing pass Upstream job id: Generic-DPDK-Compile-Meson#446158 Test environment and result as below: +-------------------------------+--------------------+------------------+ | Environment | dpdk_meson_compile | dpdk_compile_ovs | +===============================+====================+==================+ | CentOS Stream 9 | PASS | SKIPPED | +-------------------------------+--------------------+------------------+ | Fedora Linux 42 | PASS | PASS | +-------------------------------+--------------------+------------------+ | CentOS Stream 10 | PASS | SKIPPED | +-------------------------------+--------------------+------------------+ | Ubuntu 20.04 | PASS | SKIPPED | +-------------------------------+--------------------+------------------+ | Debian GNU/Linux 12 | PASS | SKIPPED | +-------------------------------+--------------------+------------------+ | FreeBSD 14.2 | PASS | SKIPPED | +-------------------------------+--------------------+------------------+ | Red Hat Enterprise Linux 9.5 | PASS | SKIPPED | +-------------------------------+--------------------+------------------+ | openSUSE Leap 15.6 | PASS | SKIPPED | +-------------------------------+--------------------+------------------+ | Ubuntu 22.04 | PASS | SKIPPED | +-------------------------------+--------------------+------------------+ | Alpine Linux 3.22.0 | PASS | SKIPPED | +-------------------------------+--------------------+------------------+ | Ubuntu 24.04 | PASS | PASS | +-------------------------------+--------------------+------------------+ | Red Hat Enterprise Linux 8.10 | PASS | SKIPPED | +-------------------------------+--------------------+------------------+ | Arch Linux 20250613.0.365270 | PASS | SKIPPED | +-------------------------------+--------------------+------------------+ CentOS Stream 9 Kernel: 5.15 Compiler: gcc gcc (GCC) 11.5.0 20240719 (Red Hat 11.5.0-11) Fedora Linux 42 Kernel: 5.15 Compiler: gcc gcc (GCC) 15.2.1 20250808 (Red Hat 15.2.1-1) CentOS Stream 10 Kernel: 5.15 Compiler: gcc gcc (GCC) 14.2.1 20250110 (Red Hat 14.2.1-8) Ubuntu 20.04 Kernel: 4.19 Compiler: gcc gcc (Ubuntu 9.4.0-1ubuntu1~20.04.2) 9.4.0 Debian GNU/Linux 12 Kernel: 5.15 Compiler: gcc gcc (Debian 12.2.0-14+deb12u1) 12.2.0 FreeBSD 14.2 Kernel: 14.2-RELEASE Compiler: clang 18.1.6 Red Hat Enterprise Linux 9.5 Kernel: 5.15 Compiler: gcc gcc (GCC) 11.5.0 20240719 (Red Hat 11.5.0-2) openSUSE Leap 15.6 Kernel: 5.15 Compiler: gcc gcc (SUSE Linux) 7.5.0 Ubuntu 22.04 Kernel: 5.15 Compiler: gcc gcc (Ubuntu 11.4.0-1ubuntu1~22.04) 11.4.0 Alpine Linux 3.22.0 Kernel: 5.15 Compiler: gcc gcc (Alpine 14.2.0) 14.2.0 Ubuntu 24.04 Kernel: 5.15 Compiler: gcc gcc (Ubuntu 13.3.0-6ubuntu2~24.04) 13.3.0 Red Hat Enterprise Linux 8.10 Kernel: 5.15 Compiler: gcc gcc (GCC) 8.5.0 20210514 (Red Hat 8.5.0-22) Arch Linux 20250613.0.365270 Kernel: 5.15 Compiler: gcc gcc (GCC) 15.1.1 20250425 To view detailed results, visit: https://lab.dpdk.org/results/dashboard/tarballs/35659/ UNH-IOL DPDK Community Lab To manage your email subscriptions, visit: https://lab.dpdk.org/results/dashboard/preferences/subscriptions/